{"text_format":"1","workbook":"xlsx","n_sheets":15,"sheets":["Introduction","LUC Houghton","FF Global","FF China","FF USA","FF W.Europe","FF Canada","FF Australia","LUC Extended","Concentrations","Combined, MtC","coefficients","Accumulated per IPCC","Accumulated Graph","Coeff Chart"],"not_rendered":{"charts":8,"images":0,"macros":0,"external_links":1,"defined_names":13,"comments":2,"pivot_tables":0},"unopened":[{"sheet":"Accumulated Graph","index":13,"reason":"not_a_worksheet"},{"sheet":"Coeff Chart","index":14,"reason":"not_a_worksheet"}],"bounds":{"document_bytes":16777216,"sheet_cells":100000,"rows_first":2000,"rows_last":500,"rows_between":2000,"halvings":0,"cell_chars":16384,"cell_head_chars":4096},"cells_cut":0,"cells_raw":0,"read":"whole","date_system":"1900"}

{"sheet":"Introduction","index":0,"n_rows":7,"n_cols":1,"rows_kept":7,"cut":false,"hidden":false,"merged":[]}
["Supplemental Data for CO2 Attribution paper"]
[]
["© Ari Halperin, 2015"]
[]
["defyccc.com"]
[]
["Corrected on 12/13/2015"]

{"sheet":"LUC Houghton","index":1,"n_rows":157,"n_cols":12,"rows_kept":157,"cut":false,"hidden":false,"merged":[]}
["Year","Global","USA","Canada","S+C America","Europe","Nafrica/Meast","Trop.Africa","Frmr USSR","China","S+SE Asia","Pac.Dev.Reg"]
[1850,500.6,164.09220000000002,5.5476000000000001,23.4757,55.0441,3.984,-1.3483999999999998,58.557099999999998,101.83919999999999,87.346900000000005,2.0457999999999998]
[1851,492.7,165.72560000000001,5.3625999999999996,23.152000000000001,55.015599999999999,3.9839000000000002,-1.1192,58.552500000000002,93.076599999999999,86.91,2.0419]
[1852,548.5,230.67250000000001,5.3380000000000001,22.861799999999999,54.987400000000001,3.9836999999999998,-1.0033000000000001,58.878100000000003,83.830700000000007,86.938500000000005,2.0379]
[1853,546.79999999999995,238.51490000000001,5.3137999999999996,22.601700000000001,54.959000000000003,3.9834999999999998,-1.0513000000000001,59.220700000000001,74.213999999999999,86.993499999999997,2.0337999999999998]
[1854,544.79999999999995,246.18460000000005,5.2899000000000003,22.3687,54.930399999999999,3.9832999999999998,-0.98550000000000004,59.580199999999998,64.312899999999999,87.063000000000002,2.0297000000000001]
[1855,542.1,253.56460000000001,5.2663000000000002,22.16,54.901600000000002,3.9830000000000001,-1.1397000000000002,59.956400000000002,54.193999999999996,87.145200000000003,2.0255000000000001]
[1856,547.70000000000005,260.52629999999994,5.2430000000000003,21.973299999999998,54.872599999999998,3.9830000000000001,-1.1049000000000002,60.341099999999997,52.5623,87.240300000000005,2.0217999999999998]
[1857,553.29999999999995,267.24670000000003,5.2198000000000002,21.8063,54.843400000000003,3.9830000000000001,-1.1372,60.723399999999998,51.271999999999998,87.338499999999996,2.0181]
[1858,558.6,273.59120000000007,5.1967999999999996,21.657,54.813899999999997,3.9830000000000001,-1.3895,61.103000000000002,50.234299999999998,87.434799999999996,2.0143]
[1859,564,279.73260000000005,5.1738999999999997,21.523800000000001,54.784199999999998,3.9830000000000001,-1.6116999999999999,61.479900000000001,49.392099999999999,87.5291,2.0104000000000002]
[1860,569,285.67160000000001,5.1510999999999996,21.052099999999999,54.754300000000001,3.9828999999999999,-1.8337999999999999,61.853700000000003,48.702500000000001,87.621799999999993,2.0066000000000002]
[1861,579.6,290.66650000000004,5.1284000000000001,21.889199999999999,54.786200000000001,9.0109999999999992,-2.0559000000000003,62.224200000000003,48.132600000000004,87.7196,2.0821000000000001]
[1862,520.9,237.68619999999996,6.7721999999999998,22.133299999999998,54.863500000000002,9.9571000000000005,-1.9419999999999999,53.690899999999999,47.773599999999995,87.815299999999993,2.1825999999999999]
[1863,521.1,236.83190000000002,7.3118999999999996,22.248200000000001,54.955399999999997,10.822100000000001,-1.6705000000000001,53.748199999999997,46.611499999999999,87.907499999999999,2.2993999999999999]
[1864,521.6,235.96990000000005,7.8399000000000001,22.3048,55.061100000000003,11.2539,-1.2478,53.802599999999998,46.161299999999997,87.997,2.4272999999999998]
[1865,522.4,235.23340000000002,8.3582000000000001,22.342500000000001,55.1798,11.6393,-0.6633,53.861800000000002,45.778099999999995,88.081100000000006,2.5632999999999999]
[1866,522.5,234.79660000000001,8.8681999999999999,21.9117,55.3125,11.988899999999999,-0.45029999999999998,53.7361,45.449199999999998,88.161500000000004,2.6983999999999999]
[1867,520.79999999999995,232.53900000000004,9.3709000000000007,21.492899999999999,55.456600000000002,12.3102,-0.23699999999999999,53.618400000000001,45.167099999999998,88.239599999999996,2.8313999999999999]
[1868,519.20000000000005,230.55370000000002,9.8671000000000006,21.0899,55.611400000000003,12.608499999999999,-0.2089,53.510199999999998,44.921500000000002,88.312600000000003,2.9618000000000002]
[1869,517.5,228.64449999999999,10.3574,20.703299999999999,55.776499999999999,12.8879,-0.4199,53.412100000000002,44.706299999999999,88.383600000000001,3.0891000000000002]
[1870,516.29999999999995,226.79929999999996,10.8421,20.6845,55.951000000000001,13.151400000000001,-0.63070000000000004,53.320500000000003,44.5167,88.4499,3.2130000000000001]
[1871,536.70000000000005,224.19950000000003,11.3216,20.617999999999999,50.478200000000001,13.401899999999999,-0.83730000000000004,53.234900000000003,44.348499999999994,110.0401,9.8699999999999992]
[1872,623.20000000000005,303.89269999999993,11.796099999999999,20.466699999999999,49.595100000000002,13.640700000000001,-1.044,53.488100000000003,44.198900000000002,115.2003,11.9261]
[1873,634.1,309.25839999999994,12.2658,20.387599999999999,48.753,13.869199999999999,-0.81069999999999998,53.745399999999997,44.064900000000002,118.9247,13.659000000000001]
[1874,641.1,314.44760000000002,12.730600000000001,20.338200000000001,47.945,14.088699999999999,-0.43869999999999998,54.005600000000001,41.954499999999996,121.7101,14.333]
[1875,648.4,319.33389999999997,13.190799999999999,20.295000000000002,47.164999999999999,14.3001,-0.25179999999999997,54.267600000000002,41.406199999999998,123.87439999999999,14.8672]
[1876,655.5,324.07989999999995,13.6463,20.409300000000002,46.528100000000002,14.465199999999999,-6.4899999999999958E-2,54.944899999999997,40.8748,125.2495,15.35]
[1877,662.4,330.06789999999995,13.2989,20.865500000000001,45.936399999999999,14.628299999999999,-3.3200000000000035E-2,55.036000000000001,40.406700000000001,126.4083,15.757300000000001]
[1878,669.5,335.79829999999998,13.224,21.3048,45.385899999999999,14.7896,-1.4000000000000401E-3,55.125300000000003,40.316499999999998,127.4174,16.1158]
[1879,676.4,341.32160000000005,13.1455,21.724299999999999,44.872900000000001,14.9313,3.0199999999999977E-2,55.2119,40.435300000000005,128.31970000000001,16.442599999999999]
[1880,682.9,346.65680000000003,13.0634,22.123200000000001,44.394199999999998,15.071899999999999,-0.15840000000000001,55.301699999999997,40.585900000000002,129.14529999999999,16.7486]
[1881,718.9,350.71380000000005,12.9779,54.099600000000002,43.940399999999997,15.211600000000001,-0.32819999999999999,55.402299999999997,40.348099999999995,129.5359,17.0474]
[1882,672.7,295.62489999999991,12.889099999999999,62.985599999999998,43.515700000000002,15.3507,-0.498,55.512700000000002,40.131299999999996,129.88249999999999,17.343800000000002]
[1883,678.3,294.00809999999996,12.7972,70.156400000000005,43.117800000000003,15.4893,-0.69109999999999994,55.632199999999997,39.931399999999996,130.19720000000001,17.640499999999999]
[1884,683.4,292.70589999999993,12.702400000000001,76.098500000000001,42.744799999999998,15.6275,-0.44390000000000007,55.76,39.7453,130.4838,17.939499999999999]
[1885,687.7,291.56229999999994,12.604799999999999,81.150000000000006,42.394799999999996,15.765499999999999,-0.19689999999999999,55.895499999999998,39.567399999999999,130.7499,18.242000000000001]
[1886,690.4,290.33350000000007,12.5047,84.093699999999998,42.557099999999998,15.9008,4.9899999999999972E-2,56.031399999999998,39.398699999999998,130.9958,18.5397]
[1887,689.8,286.81370000000004,12.402100000000001,86.197100000000006,42.731200000000001,16.0336,0.12670000000000001,56.167099999999998,39.237700000000004,131.22620000000001,18.833200000000001]
[1888,688.6,283.30919999999998,12.2974,87.933499999999995,42.915799999999997,16.163900000000002,-1.670000000000002E-2,56.302300000000002,39.083100000000002,131.4435,19.122699999999998]
[1889,687.2,279.91840000000002,12.1907,89.388199999999998,43.109699999999997,16.291899999999998,-0.2021,56.436199999999999,39.030899999999995,131.6463,19.361699999999999]
[1890,685.9,276.60880000000003,12.082100000000001,90.623400000000004,43.311599999999999,16.4175,-0.16899999999999996,56.568399999999997,38.983799999999995,131.83860000000001,19.597100000000001]
[1891,681.5,272.62240000000008,11.9717,73.421700000000001,43.5137,16.540800000000001,-0.42330000000000001,56.698500000000003,39.000900000000001,148.303,19.828900000000001]
[1892,695,285.1653,11.897500000000001,69.952500000000001,43.7151,16.661799999999999,-0.67769999999999997,56.8279,39.025600000000004,152.33799999999999,20.057200000000002]
[1893,695.8,285.56590000000006,11.8218,67.297600000000003,43.9148,16.7807,-1.0833000000000002,56.956000000000003,39.057299999999998,155.249,20.2819]
[1894,713.3,287.10710000000006,11.7448,65.247699999999995,44.111899999999999,16.897300000000001,-1.4220000000000002,57.082700000000003,54.584900000000005,157.4357,20.503]
[1895,717.5,288.68450000000001,11.666600000000001,63.6494,44.305599999999998,17.011800000000001,-1.2556,57.2074,56.377400000000002,159.15280000000001,20.720400000000001]
[1896,719.4,288.33860000000004,11.587400000000001,62.571100000000001,44.495100000000001,17.124199999999998,-1.2784,57.330100000000002,58.080100000000002,160.24870000000001,20.934000000000001]
[1897,723,289.24980000000005,11.507099999999999,61.747100000000003,44.6798,17.234500000000001,-0.96089999999999998,57.450200000000002,59.7669,161.14160000000001,21.143799999999999]
[1898,724.5,288.23639999999995,11.426,61.115499999999997,44.858899999999998,17.342700000000001,-0.64339999999999997,57.567700000000002,61.365899999999996,161.89529999999999,21.349599999999999]
[1899,725.8,287.23229999999995,11.344099999999999,60.63,45.031799999999997,17.448799999999999,-0.55549999999999999,57.682200000000002,62.8962,162.5557,21.551400000000001]
[1900,726.9,286.25290000000001,11.2615,60.256300000000003,45.193199999999997,17.552800000000001,-0.67359999999999998,57.793500000000002,64.364199999999997,163.14830000000001,21.749099999999999]
[1901,792.8,285.8526,11.1945,121.8006,45.436599999999999,20.067799999999998,-0.79800000000000004,57.901400000000002,65.761800000000008,163.50970000000001,22.033899999999999]
[1902,796.8,240.4008,24.006799999999998,139.4178,45.700400000000002,20.575199999999999,-0.25760000000000005,58.048499999999997,82.726900000000001,163.8322,22.337700000000002]
[1903,825.9,231.81569999999999,26.804500000000001,153.76159999999999,45.982999999999997,21.0383,0.98509999999999998,58.191600000000001,100.5749,164.12440000000001,22.651]
[1904,852.4,222.21190000000004,29.494399999999999,165.779,46.282400000000003,21.294,2.6562999999999999,58.330399999999997,119.009,164.3921,22.9711]
[1905,878.5,213.08420000000001,32.095199999999998,176.1182,46.597099999999998,21.521899999999999,4.8254999999999999,58.465200000000003,137.90099999999998,164.63890000000001,23.295400000000001]
[1906,909.5,205.85660000000001,34.621400000000001,180.8407,46.925400000000003,21.7165,7.4460999999999995,58.5916,157.13120000000001,172.78299999999999,23.6175]
[1907,918.6,198.49619999999999,37.058100000000003,184.68340000000001,47.265900000000002,21.891999999999999,10.182499999999999,58.586100000000002,161.61009999999999,174.8759,23.936699999999998]
[1908,927.9,193.32960000000003,39.440300000000001,187.86519999999999,47.6173,22.050899999999999,12.928000000000001,58.575800000000001,165.48919999999998,176.3878,24.252600000000001]
[1909,935.3,188.22579999999999,41.775100000000002,190.54159999999999,47.978200000000001,22.195399999999999,15.543200000000001,58.560499999999998,168.39160000000001,177.53270000000001,24.564699999999998]
[1910,941,183.0325,44.068300000000001,192.58750000000001,48.3474,22.327000000000002,17.893599999999999,58.5441,170.9247,178.4426,24.872499999999999]
[1911,882.9,178.79270000000005,46.3245,130.46379999999999,48.72,22.4772,20.229499999999998,58.526299999999999,173.16420000000002,179.0479,25.149799999999999]
[1912,846.2,153.4623,48.589500000000001,112.63,49.095100000000002,22.589700000000001,22.6874,58.508000000000003,173.62520000000001,179.5523,25.4146]
[1913,815.9,147.61099999999999,50.7684,97.963999999999999,49.471899999999998,22.694700000000001,24.967399999999998,63.683599999999998,173.81189999999998,159.21549999999999,25.668199999999999]
[1914,804.8,142.92510000000004,52.923099999999998,85.503100000000003,49.849299999999999,22.7928,27.170500000000001,65.234700000000004,177.7884,154.6764,25.914899999999999]
[1915,793,138.3415,55.056100000000001,74.594800000000006,50.226500000000001,22.884599999999999,29.350200000000001,66.588700000000003,178.40790000000001,151.40129999999999,26.155100000000001]
[1916,795.1,133.47180000000003,57.169199999999996,70.494200000000006,50.6646,22.930599999999998,31.517099999999999,67.893199999999993,178.7551,155.83580000000001,26.3889]
[1917,798.2,129.99330000000003,57.771000000000001,67.194199999999995,51.094099999999997,22.971299999999999,34.107100000000003,69.206299999999999,183.73600000000002,155.50399999999999,26.616499999999998]
[1918,801.4,126.13820000000004,58.356400000000001,64.481899999999996,51.514299999999999,23.007100000000001,36.425600000000003,70.485200000000006,188.77119999999999,155.3742,26.837800000000001]
[1919,807.1,124.44660000000002,58.926699999999997,62.208300000000001,51.924500000000002,23.029800000000002,38.730999999999995,71.757400000000004,193.85429999999999,155.1679,27.052900000000001]
[1920,808.8,118.607,59.4833,60.034500000000001,52.323999999999998,23.048300000000001,41.086500000000001,73.055899999999994,198.95840000000001,154.9375,27.261600000000001]
[1921,856.7,112.45820000000003,60.027200000000001,104.7568,52.769199999999998,23.0627,43.038899999999998,74.384799999999998,204.06010000000001,154.613,27.572900000000001]
[1922,849.1,85.477200000000011,60.564399999999999,117.2792,53.202100000000002,23.073499999999999,44.885700000000007,75.747100000000003,206.74719999999999,154.29939999999999,27.792100000000001]
[1923,857,76.428000000000054,61.090699999999998,127.4191,53.622399999999999,23.0809,46.694899999999997,77.056600000000003,209.23090000000002,154.38319999999999,27.9986]
[1924,862.7,67.198200000000014,61.606999999999999,135.92850000000001,54.029400000000003,23.085000000000001,48.174600000000005,78.403499999999994,211.59010000000001,154.4794,28.177099999999999]
[1925,865.6,56.471600000000073,62.113999999999997,143.30889999999999,54.422600000000003,23.086099999999998,49.608699999999999,79.782799999999995,213.84950000000001,154.58619999999999,28.346499999999999]
[1926,870.5,49.815300000000008,62.612299999999998,145.38149999999999,54.084499999999998,31.703199999999999,50.983600000000003,81.195499999999996,216.0317,150.10509999999999,28.574000000000002]
[1927,909.7,93.159300000000016,52.639400000000002,146.9751,53.624699999999997,33.630099999999999,52.302400000000006,82.530900000000003,216.91460000000001,149.15790000000001,28.8094]
[1928,913,92.942199999999957,50.956699999999998,148.14599999999999,53.048099999999998,35.356699999999996,54.067500000000003,83.099000000000004,217.75479999999999,148.56899999999999,29.051600000000001]
[1929,940,116.97139999999997,49.356200000000001,148.99170000000001,52.359000000000002,35.792000000000002,55.8185,83.699299999999994,219.50389999999999,148.2114,29.2959]
[1930,1018.1,191.67779999999996,47.822099999999999,150.05019999999999,51.561799999999998,36.123199999999997,57.383499999999998,84.302199999999999,221.6063,148.0027,29.541799999999999]
[1931,1028.7,187.62670000000003,46.342199999999998,161.8485,50.658799999999999,36.744399999999999,59.117399999999996,84.907700000000006,223.66669999999999,147.97069999999999,29.788699999999999]
[1932,930.8,84.959099999999978,44.906799999999997,165.04990000000001,49.6554,37.305500000000002,60.776899999999998,85.519900000000007,224.5684,147.9992,30.036300000000001]
[1933,927.6,77.438600000000037,43.508400000000002,167.5446,48.555100000000003,37.820900000000002,62.790799999999997,86.147400000000005,225.41080000000002,148.06540000000001,30.284099999999999]
[1934,915.3,70.173400000000072,42.140900000000002,169.50749999999999,47.361199999999997,38.300800000000002,64.656599999999997,84.553200000000004,219.96420000000001,148.1542,30.532]
[1935,913.7,67.805399999999992,40.799199999999999,171.0651,46.076900000000002,38.752899999999997,67.529300000000006,82.8035,219.8235,148.25550000000001,30.779499999999999]
[1936,922,59.382700000000007,39.479300000000002,172.77799999999999,44.758200000000002,39.180100000000003,69.212299999999999,80.899299999999997,219.75359999999998,165.49440000000001,31.023800000000001]
[1937,899.3,32.833099999999973,38.177999999999997,174.6317,43.403100000000002,39.586599999999997,71.1387,78.841999999999999,219.74290000000002,169.71369999999999,31.264500000000002]
[1938,902.4,33.375299999999996,36.892400000000002,176.29669999999999,42.014299999999999,39.9756,73.046500000000009,76.688100000000006,219.7764,172.84270000000001,31.5016]
[1939,900.5,29.502999999999986,35.620100000000001,177.81100000000001,40.594200000000001,40.349299999999999,75.330399999999997,74.512900000000002,219.7679,175.23490000000001,31.7348]
[1940,887.5,16.48799999999996,34.359200000000001,179.20320000000001,39.145099999999999,40.709800000000001,77.550599999999989,71.146199999999993,219.78259999999997,177.1276,31.963899999999999]
[1941,870.2,14.980199999999989,33.107999999999997,177.8057,37.6905,41.034300000000002,79.532600000000002,54.421100000000003,219.81390000000002,179.6268,32.188699999999997]
[1942,891.3,27.559400000000029,33.094900000000003,177.26609999999999,36.232599999999998,41.348599999999998,81.747,47.512799999999999,231.90719999999999,182.1978,32.409199999999998]
[1943,886.4,13.218099999999971,33.088700000000003,176.86670000000001,34.773099999999999,41.653500000000001,84.034899999999993,40.835799999999999,244.60399999999998,184.71969999999999,32.625]
[1944,892.3,8.9795999999999836,33.088099999999997,176.6292,33.314,41.893500000000003,86.347999999999999,34.353499999999997,257.7192,187.18010000000001,32.836199999999998]
[1945,894.1,0.12940000000004304,33.092100000000002,176.39,31.857199999999999,42.125599999999999,88.6447,28.0367,271.16250000000002,189.57390000000001,33.042499999999997]
[1946,976.9,-4.8479000000000561,33.099800000000002,179.40219999999999,30.4041,42.345500000000001,91.204599999999999,24.028700000000001,284.8639,263.14229999999998,33.2438]
[1947,1008.9,5.9297999999999718,32.911900000000003,182.49770000000001,28.956399999999999,42.558599999999998,93.538600000000002,20.4267,286.94659999999999,281.65539999999999,33.440100000000001]
[1948,1015.8,-5.2067999999999781,32.726100000000002,185.78919999999999,27.515599999999999,42.765500000000003,97.342299999999994,17.178799999999999,288.68939999999998,295.39879999999999,33.631100000000004]
[1949,1024.9000000000001,-10.570600000000006,32.541699999999999,189.23689999999999,26.082999999999998,42.9664,101.1581,14.305300000000001,290.24399999999997,305.11799999999999,33.816800000000001]
[1950,1037.3,-11.380999999999966,32.358199999999997,192.7775,24.6601,43.161799999999999,105.1777,13.082100000000001,290.1121,313.38940000000002,33.997]
[1951,1258.3,3.2320999999999458,32.165500000000002,251.684,23.528700000000001,34.396999999999998,109.25650000000002,126.9132,289.81709999999998,319.79750000000001,67.514899999999997]
[1952,1284.7,-42.045200000000037,32.854199999999999,270.4083,22.546199999999999,32.636499999999998,105.88390000000001,149.64179999999999,308.0985,327.76049999999998,76.878500000000003]
[1953,1280.9000000000001,-66.296699999999987,32.612299999999998,285.79570000000001,21.707000000000001,30.8325,108.93900000000001,171.48429999999999,327.0376,284.30200000000002,84.515000000000001]
[1954,1335,-64.405600000000021,32.367600000000003,298.68439999999998,21.005700000000001,28.610600000000002,111.9529,192.66640000000001,346.49160000000001,280.99970000000002,86.588300000000004]
[1955,1379.5,-73.621499999999997,32.121299999999998,309.82310000000001,20.437200000000001,26.3933,115.2903,213.74680000000001,366.3485,281.03640000000001,87.918400000000005]
[1956,1438.9,-65.491999999999976,31.872699999999998,316.47370000000001,19.9971,25.707999999999998,118.5831,236.1473,386.51280000000003,280.35320000000002,88.756500000000003]
[1957,1469.1,-68.002299999999991,31.6218,322.0027,19.680900000000001,25.0441,121.96690000000001,258.24740000000003,388.58159999999998,280.66649999999998,89.257999999999996]
[1958,1520.8,-32.984699999999968,31.369299999999999,326.66719999999998,19.4847,24.405100000000001,124.75830000000001,279.95209999999997,381.74259999999998,275.8913,89.523399999999995]
[1959,1397.8,-71.765599999999978,31.115600000000001,330.71249999999998,19.404800000000002,23.792400000000001,127.643,208.34129999999999,362.12009999999998,276.80560000000003,89.618700000000004]
[1960,1385.8,-74.892399999999981,30.8611,334.29079999999999,19.437799999999999,23.206099999999999,130.46209999999999,210.886,343.0883,278.8759,89.587800000000001]
[1961,1463.9,-88.535199999999975,30.606100000000001,449.58460000000002,16.696999999999999,22.6358,132.71790000000001,205.2209,323.08070000000004,282.40359999999998,89.476200000000006]
[1962,1460,-86.237300000000047,30.709199999999999,484.3614,16.318200000000001,22.083100000000002,133.62599999999998,201.86840000000001,296.16329999999999,271.75560000000002,89.304599999999994]
[1963,1474.9,-92.261300000000006,30.8185,512.01310000000001,16.0138,21.546800000000001,138.8699,198.8176,285.60240000000005,274.4314,89.087299999999999]
[1964,1487.1,-95.413700000000006,30.9329,534.39610000000005,15.778,21.025200000000002,140.73409999999998,196.17920000000001,284.99919999999997,269.65730000000002,88.834900000000005]
[1965,1505,-99.921100000000052,31.0519,553.67359999999996,15.605700000000001,20.5169,143.4348,192.91749999999999,284.28560000000004,274.83199999999999,88.555199999999999]
[1966,1539.3,-67.897800000000046,31.174700000000001,563.73050000000001,15.4787,21.6252,142.4889,181.1651,283.12130000000002,280.13040000000001,88.254000000000005]
[1967,1545.8,-63.78059999999995,31.1614,572.39110000000005,15.393000000000001,21.818200000000001,143.5641,169.52440000000001,282.16579999999999,285.62020000000001,87.936000000000007]
[1968,1477.7,-62.816000000000066,31.1508,580.34550000000002,15.3453,21.9618,139.42760000000001,157.9246,281.74219999999997,225.02369999999999,87.605000000000004]
[1969,1483.1,-51.649799999999843,31.142199999999999,587.03779999999995,15.3323,21.732500000000002,146.51979999999998,147.83500000000001,281.2201,216.90350000000001,87.037599999999998]
[1970,1439.7,-53.00829999999997,31.135100000000001,593.06230000000005,13.565200000000001,21.4815,139.79480000000001,114.46299999999999,280.7878,211.99170000000001,86.462800000000001]
[1971,1291.7,-89.34170000000006,31.129000000000001,536.79920000000004,11.1776,21.524100000000001,143.0942,100.09699999999999,280.65459999999996,206.3663,50.228900000000003]
[1972,1264.2,-80.916299999999993,30.096699999999998,524.94680000000005,8.641,21.570699999999999,146.8347,85.372100000000003,282.8365,205.68969999999999,39.107900000000001]
[1973,1248.7,-92.91,30.1555,515.59849999999994,5.9633000000000003,21.618200000000002,150.79560000000001,71.251900000000006,284.69239999999996,231.78710000000001,29.737400000000001]
[1974,1254.5,-92.085899999999995,30.229500000000002,508.33580000000001,3.1514000000000002,21.664899999999999,154.65700000000001,64.849999999999994,287.214,250.41130000000001,26.120999999999999]
[1975,1245.0999999999999,-81.506900000000002,30.316500000000001,502.60919999999999,0.21199999999999999,21.709900000000001,144.48949999999999,58.780500000000004,291.28750000000002,253.95769999999999,23.240500000000001]
[1976,1311.9,-64.798900000000003,30.413699999999999,503.02019999999999,-2.6383999999999999,21.75,158.99790000000002,55.919600000000003,303.4486,284.9271,20.8475]
[1977,1315.1,-60.200999999999958,30.518899999999999,504.17840000000001,-5.6405000000000003,21.7849,142.36330000000001,50.358400000000003,306.3707,306.56720000000001,18.781300000000002]
[1978,1311.9,-54.395399999999967,30.630099999999999,505.31119999999999,-8.7889999999999997,21.8141,149.0206,44.8217,285.34960000000001,321.22449999999998,16.939499999999999]
[1979,1283.8,-51.702400000000104,30.745799999999999,506.23289999999997,-12.0787,21.837499999999999,150.31889999999999,39.495199999999997,248.06050000000002,335.65230000000003,15.2555]
[1980,1239.9000000000001,-53.909900000000107,30.8645,507.80759999999998,-14.090400000000001,21.854600000000001,144.613,35.441699999999997,209.51929999999999,344.11279999999999,13.685499999999999]
[1981,1263.4000000000001,-50.178999999999988,30.988199999999999,509.99349999999998,-15.344099999999999,16.997,166.71609999999998,33.409399999999998,168.78459999999998,386.47059999999999,15.5846]
[1982,1463,-38.041600000000017,27.774999999999999,729.40260000000001,-16.386700000000001,16.558700000000002,181.87090000000001,30.726199999999999,122.85639999999999,393.29719999999998,14.936400000000001]
[1983,1512.9,-38.820899999999966,26.979099999999999,787.54349999999999,-17.228000000000002,16.444600000000001,195.3451,28.823599999999999,101.46970000000002,398.1764,14.1264]
[1984,1560.1,-42.474600000000009,26.213100000000001,833.64490000000001,-17.877099999999999,18.0412,205.46199999999999,27.161000000000001,93.771000000000015,403.41359999999997,12.748799999999999]
[1985,1583.2,-39.433000000000021,25.4712,872.95680000000004,-18.342500000000001,19.802399999999999,197.06319999999999,25.7685,82.728400000000008,405.89609999999999,11.2882]
[1986,1601.1,-34.262400000000028,24.748899999999999,902.47329999999999,-18.621099999999998,20.370799999999999,193.4076,23.357099999999999,76.787700000000001,403.0736,9.7723999999999993]
[1987,1611.1,-31.085600000000007,24.238499999999998,917.00160000000005,-18.721699999999998,21.017600000000002,193.30610000000001,22.570799999999998,70.965900000000005,403.58519999999999,8.2217000000000002]
[1988,1638.5,-21.588599999999975,23.7394,926.4348,-18.6509,21.721499999999999,202.7612,21.849,64.828699999999998,410.73340000000002,6.6458000000000004]
[1989,1647,-21.774499999999996,23.249400000000001,932.63040000000001,-18.415199999999999,22.467500000000001,197.14930000000001,21.1859,66.598399999999998,418.58879999999999,5.2880000000000003]
[1990,1643.7,-31.948800000000002,22.7669,936.80160000000001,-18.080400000000001,23.244800000000001,201.35559999999998,20.107500000000002,61.102999999999994,424.46089999999998,3.9161000000000001]
[1991,1712.5,-31.948800000000002,22.290199999999999,938.55690000000004,-18.080400000000001,23.244800000000001,195.5283,20.107500000000002,50.891300000000001,507.95620000000002,3.9161000000000001]
[1992,1605,-31.948800000000002,21.576499999999999,803.69669999999996,-18.080400000000001,23.244800000000001,214.25459999999998,20.107500000000002,39.824100000000001,528.42740000000003,3.9161000000000001]
[1993,1593.8,-31.948800000000002,20.859000000000002,767.50509999999997,-18.080400000000001,23.244800000000001,224.8938,20.107500000000002,39.520499999999998,543.73260000000005,3.9161000000000001]
[1994,1580.5,-31.948800000000002,20.138100000000001,737.25149999999996,-18.080400000000001,23.244800000000001,243.6705,20.107500000000002,43.018799999999999,539.2242,3.9161000000000001]
[1995,1561.6,-31.948800000000002,19.413900000000002,713.37429999999995,-18.080400000000001,23.244800000000001,262.80470000000003,20.107500000000002,31.076599999999999,537.68700000000001,3.9161000000000001]
[1996,1531.3,-31.948800000000002,18.686900000000001,692.07820000000004,-18.080400000000001,23.244800000000001,260.94579999999996,20.107500000000002,27.320099999999996,534.99720000000002,3.9161000000000001]
[1997,1491.3,-31.948800000000002,18.4221,678.54579999999999,-18.080400000000001,23.244800000000001,247.4983,20.107500000000002,21.088300000000004,528.50900000000001,3.9161000000000001]
[1998,1487.2,-31.948800000000002,18.154800000000002,667.09770000000003,-18.080400000000001,23.244800000000001,269.38440000000003,20.107500000000002,12.069099999999992,523.23739999999998,3.9161000000000001]
[1999,1449.2,-31.948800000000002,17.885300000000001,656.44110000000001,-18.080400000000001,23.244800000000001,263.9341,20.107500000000002,5.0331000000000046,508.69439999999997,3.9161000000000001]
[2000,1409.9,-31.948800000000002,17.612100000000002,649.56600000000003,-18.080400000000001,23.244800000000001,260.86360000000002,20.107500000000002,-12.915300000000002,497.51389999999998,3.9161000000000001]
[2001,1385.4,-31.948800000000002,17.612100000000002,643.19039999999995,-18.080400000000001,23.244800000000001,261.69690000000003,20.107500000000002,-12.915300000000002,478.53289999999998,3.9161000000000001]
[2002,1517.7,-31.948800000000002,17.612100000000002,625.50990000000002,-18.080400000000001,23.244800000000001,258.52359999999999,20.107500000000002,-12.915300000000002,631.69600000000003,3.9161000000000001]
[2003,1513.2,-31.948800000000002,17.612100000000002,616.45360000000005,-18.080400000000001,23.244800000000001,225.52120000000002,20.107500000000002,-12.915300000000002,669.29750000000001,3.9161000000000001]
[2004,1534.9,-31.948800000000002,17.612100000000002,609.35249999999996,-18.080400000000001,23.244800000000001,225.78640000000001,20.107500000000002,-12.915300000000002,697.84320000000002,3.9161000000000001]
[2005,1467.3,-31.948800000000002,17.612100000000002,606.43420000000003,-18.080400000000001,23.244800000000001,239.23899999999998,20.107500000000002,-12.915300000000002,619.69370000000004,3.9161000000000001]

{"sheet":"FF Global","index":2,"n_rows":304,"n_cols":2,"rows_kept":304,"cut":false,"hidden":false,"merged":[]}
["***********************************************************"]
["Regional CO2 Emissions from Fossil-Fuel Burning"]
["Cement Manufacture"," and Gas Flaring: 1751-2011"]
[]
["Wednesday 2nd of December 2015 11:17:17 AM"]
[]
["Source:  Tom Boden"]
["         Gregg Marland"]
["         Bob Andres"]
["         Carbon Dioxide Information Analysis Center"]
["         Oak Ridge National Laboratory"]
["         Oak Ridge"," Tennessee 37831-6290"]
["***********************************************************"]
[]
["Cite as: T.A. Boden"," G. Marland"]
["DOI 10.3334/CDIAC/00001_V2010"]
[]
["All emission estimates are expressed in thousand metric tons of carbon."]
[]
["Countries included:"]
["Afghanistan; Albania; Algeria; Angola; Azerbajan; Argentina; Australia; Austria; "]
["Armenia; Belgium; Bolivia"," Plurinational State of; Bosnia and Herzegovinia; Botswana; Brazil; Bulgaria; "]
["Myanmar (formerly Burma); Belarus; Cambodia; Republic of Cameroon; Canada; Central African Republic; Sri Lanka; "]
["Chad; Chile; China (Mainland); Taiwan; Colombia; Congo; Democratic Republic of Congo (formerly Zaire); "]
["Costa Rica; Croatia; Cuba; Cyprus; Czech Republic; Benin; Denmark; "]
["Dominican Republic; Ecuador; Ethiopia; Eritrea; Estonia; Falkland Islands (Malvinas); Finland; "]
["France (including Monaco); French Guiana; Gabon; Georgia; Germany; Ghana; Greece; "]
["Greenland; Guatemala; Guinea; Guyana; Haiti; Honduras; Hungary; "]
["Iceland; India; Indonesia; Iran"," Islamic Republic of; Iraq; Ireland; Italy (including San Marino); "]
["Cote D'Ivoire; Japan; Kazakhstan; Jordan; Kenya; Korea"," Democratic People's Republic of; Korea"]
["Kuwait; Kyrgyzstan; Lao People's Democratic Republic; Latvia; Liberia; Libyan Arab Jamahiryah; Lithuania; "]
["Madagascar; Malawi; Malaysia; Mali; Mauritania; Mexico; Serbia; "]
["Mongolia; Moldova"," Republic of; Morocco; Mozambique; Oman; Namibia; Nepal; "]
["Netherlands; New Zealand; Nicaragua; Niger; Nigeria; Norway (including Svalbard and Jan Mayen Islands); Pakistan; "]
["Panama; Papua New Guinea; Paraguay; Peru; Philippines; Poland; Portugal; "]
["Qatar; Romania; Russian Federation; Rwanda; Saudi Arabia; Senegal; Lesotho; "]
["Sierra Leone; Slovakia; Viet Nam; Slovenia; Somalia; South Africa; Zimbabwe; "]
["Spain; Sudan; Suriname; Sweden; Switzerland (including Liechtenstein); Syrian Arab Republic; Tajikistan; "]
["Thailand; Togo; United Arab Emirates; Tunisia; Turkey; Turkmenistan; Uganda; "]
["Ukraine; Macedonia; Egypt; United Kingdom; Tanzania"," United Repuplic of; United States of America; Burkina Faso; "]
["Uruguay; Uzbekistan; Venezuela; Yemen; Zambia;"]
[]
["Year"," Total"]
[1751,2552]
[1752,2553]
[1753,2553]
[1754,2554]
[1755,2555]
[1756,2731]
[1757,2732]
[1758,2733]
[1759,2734]
[1760,2734]
[1761,2995]
[1762,2996]
[1763,2997]
[1764,2998]
[1765,2999]
[1766,3346]
[1767,3347]
[1768,3348]
[1769,3349]
[1770,3350]
[1771,3715]
[1772,3716]
[1773,3717]
[1774,3718]
[1775,3719]
[1776,4104]
[1777,4105]
[1778,4106]
[1779,4107]
[1780,4109]
[1781,4597]
[1782,4598]
[1783,4600]
[1784,4601]
[1785,4604]
[1786,5227]
[1787,5229]
[1788,5230]
[1789,5232]
[1790,5234]
[1791,5846]
[1792,5976]
[1793,5981]
[1794,5972]
[1795,5975]
[1796,6264]
[1797,6576]
[1798,6849]
[1799,7213]
[1800,7667]
[1801,7631]
[1802,10039]
[1803,8594]
[1804,9364]
[1805,9121]
[1806,9565]
[1807,10064]
[1808,9570]
[1809,9577]
[1810,10202]
[1811,10803]
[1812,11192]
[1813,11250]
[1814,11498]
[1815,11869]
[1816,13009]
[1817,13491]
[1818,13549]
[1819,13632]
[1820,13834]
[1821,14038]
[1822,14592]
[1823,15434]
[1824,15973]
[1825,16582]
[1826,16763]
[1827,17990]
[1828,18187]
[1829,18121]
[1830,24319]
[1831,23064]
[1832,23225]
[1833,23687]
[1834,24150]
[1835,24685]
[1836,28596]
[1837,28573]
[1838,29488]
[1839,30462]
[1840,32459]
[1841,33466]
[1842,35345]
[1843,36259]
[1844,38598]
[1845,42361]
[1846,43066]
[1847,47053]
[1848,47439]
[1849,50085]
[1850,53707]
[1851,54242]
[1852,56631]
[1853,59252]
[1854,69599]
[1855,70876]
[1856,75630]
[1857,76332]
[1858,77370]
[1859,82011]
[1860,90001]
[1861,94445]
[1862,96027]
[1863,102347]
[1864,110129]
[1865,116854]
[1866,119903]
[1867,128298]
[1868,131803]
[1869,139668]
[1870,142530]
[1871,151162]
[1872,167393]
[1873,177970]
[1874,165781]
[1875,179539]
[1876,179860]
[1877,183312]
[1878,183675]
[1879,196874]
[1880,222965]
[1881,230260]
[1882,243405]
[1883,258493]
[1884,261184]
[1885,262338]
[1886,266097]
[1887,279174]
[1888,309711]
[1889,308326]
[1890,335807]
[1891,350830]
[1892,353275]
[1893,346943]
[1894,358665]
[1895,379467]
[1896,392018]
[1897,409181]
[1898,430194]
[1899,470127]
[1900,494882]
[1901,510366]
[1902,524428]
[1903,575738]
[1904,579004]
[1905,620966]
[1906,650084]
[1907,737125]
[1908,706231]
[1909,734569]
[1910,773308]
[1911,785911]
[1912,819587]
[1913,886275]
[1914,802854]
[1915,795014]
[1916,857993]
[1917,901576]
[1918,905916]
[1919,778656]
[1920,914392]
[1921,798723]
[1922,836848]
[1923,952007]
[1924,949167]
[1925,955954]
[1926,930280]
[1927,1013607]
[1928,1007200]
[1929,1081792]
[1930,984148]
[1931,865791]
[1932,767023]
[1933,802995]
[1934,865675]
[1935,901734]
[1936,986084]
[1937,1056223]
[1938,974181]
[1939,1036705]
[1940,1115995]
[1941,1163994]
[1942,1212294]
[1943,1228409]
[1944,1224894]
[1945,985629]
[1946,1037951]
[1947,1127397]
[1948,1169979]
[1949,1085907]
[1950,1216014]
[1951,1298280]
[1952,1295925]
[1953,1326819]
[1954,1328018]
[1955,1446814]
[1956,1530386]
[1957,1564027]
[1958,1612835]
[1959,1709140]
[1960,1799784]
[1961,1775875]
[1962,1825239]
[1963,1921018]
[1964,2018845]
[1965,2124461]
[1966,2232679]
[1967,2304599]
[1968,2443689]
[1969,2625052]
[1970,2894019]
[1971,3005192]
[1972,3158211]
[1973,3335325]
[1974,3302554]
[1975,3281850]
[1976,3464515]
[1977,3588453]
[1978,3730644]
[1979,3848665]
[1980,3797293]
[1981,3697245]
[1982,3665433]
[1983,3705421]
[1984,3836894]
[1985,3945158]
[1986,4016111]
[1987,4171681]
[1988,4358978]
[1989,4476465]
[1990,4430696]
[1991,4783535]
[1992,5863706]
[1993,5922830]
[1994,5947963]
[1995,6061796]
[1996,6230199]
[1997,6236180]
[1998,6162419]
[1999,6269423]
[2000,6455781]
[2001,6505621]
[2002,6608269]
[2003,6982435]
[2004,7338069]
[2005,7540293]
[2006,7809621]
[2007,8021214]
[2008,8156773]
[2009,8132168]
[2010,8519502]
[2011,8807046]

{"sheet":"FF China","index":3,"n_rows":134,"n_cols":2,"rows_kept":134,"cut":false,"hidden":false,"merged":[]}
["***********************************************************"]
["Regional CO2 Emissions from Fossil-Fuel Burning"]
["Cement Manufacture"," and Gas Flaring: 1899-2011"]
[]
["Wednesday 2nd of December 2015 11:07:42 AM"]
[]
["Source:  Tom Boden"]
["         Gregg Marland"]
["         Bob Andres"]
["         Carbon Dioxide Information Analysis Center"]
["         Oak Ridge National Laboratory"]
["         Oak Ridge"," Tennessee 37831-6290"]
["***********************************************************"]
[]
["Cite as: T.A. Boden"," G. Marland"]
["DOI 10.3334/CDIAC/00001_V2010"]
[]
["All emission estimates are expressed in thousand metric tons of carbon."]
[]
["Countries included:"]
["China (Mainland);"]
[]
["Year"," Total"]
[1899,26]
[1902,26]
[1903,536]
[1904,570]
[1905,627]
[1906,4670]
[1907,4596]
[1908,6204]
[1909,5687]
[1910,5117]
[1911,7600]
[1912,2671]
[1913,2936]
[1914,4123]
[1915,4391]
[1916,4903]
[1917,5418]
[1918,5743]
[1919,6620]
[1920,7306]
[1921,6902]
[1922,7269]
[1923,8775]
[1924,9578]
[1925,9067]
[1926,8076]
[1927,9150]
[1928,9311]
[1929,9776]
[1930,10350]
[1931,10988]
[1932,10535]
[1933,11522]
[1934,13448]
[1935,15728]
[1936,17751]
[1937,16533]
[1938,15094]
[1939,18329]
[1940,23499]
[1941,29371]
[1942,31078]
[1943,26557]
[1944,26710]
[1945,13742]
[1946,8536]
[1947,9167]
[1948,6510]
[1949,16187]
[1950,21465]
[1951,27763]
[1952,34995]
[1953,36600]
[1954,44011]
[1955,52099]
[1956,59047]
[1957,69964]
[1958,143390]
[1959,196823]
[1960,212906]
[1961,150550]
[1962,120087]
[1963,119088]
[1964,119150]
[1965,129799]
[1966,142566]
[1967,118144]
[1968,127878]
[1969,157414]
[1970,210422]
[1971,239060]
[1972,254043]
[1973,264124]
[1974,269434]
[1975,312410]
[1976,326205]
[1977,357325]
[1978,398737]
[1979,407652]
[1980,400107]
[1981,395828]
[1982,430941]
[1983,454603]
[1984,494930]
[1985,536284]
[1986,564213]
[1987,602593]
[1988,646169]
[1989,656815]
[1990,671051]
[1991,704810]
[1992,735201]
[1993,785027]
[1994,833990]
[1995,905450]
[1996,944393]
[1997,946144]
[1998,906557]
[1999,904842]
[2000,928601]
[2001,951068]
[2002,1007429]
[2003,1234027]
[2004,1442096]
[2005,1578952]
[2006,1749240]
[2007,1852142]
[2008,1918583]
[2009,2097685]
[2010,2251696]
[2011,2459645]

{"sheet":"FF USA","index":4,"n_rows":235,"n_cols":2,"rows_kept":235,"cut":false,"hidden":false,"merged":[]}
["***********************************************************"]
["Regional CO2 Emissions from Fossil-Fuel Burning"]
["Cement Manufacture"," and Gas Flaring: 1800-2011"]
[]
["Wednesday 2nd of December 2015 04:04:46 PM"]
[]
["Source:  Tom Boden"]
["         Gregg Marland"]
["         Bob Andres"]
["         Carbon Dioxide Information Analysis Center"]
["         Oak Ridge National Laboratory"]
["         Oak Ridge"," Tennessee 37831-6290"]
["***********************************************************"]
[]
["Cite as: T.A. Boden"," G. Marland"]
["DOI 10.3334/CDIAC/00001_V2010"]
[]
["All emission estimates are expressed in thousand metric tons of carbon."]
[]
["Countries included:"]
["United States of America;"]
[]
["Year"," Total"]
[1800,69]
[1801,73]
[1802,79]
[1803,81]
[1804,91]
[1805,93]
[1806,91]
[1807,103]
[1808,107]
[1809,110]
[1810,114]
[1811,122]
[1812,132]
[1813,142]
[1814,153]
[1815,164]
[1816,181]
[1817,196]
[1818,213]
[1819,208]
[1820,216]
[1821,226]
[1822,236]
[1823,246]
[1824,277]
[1825,310]
[1826,359]
[1827,395]
[1828,435]
[1829,490]
[1830,570]
[1831,618]
[1832,825]
[1833,963]
[1834,923]
[1835,1178]
[1836,1291]
[1837,1448]
[1838,1373]
[1839,1506]
[1840,1603]
[1841,1696]
[1842,1888]
[1843,2119]
[1844,2540]
[1845,3058]
[1846,3469]
[1847,4113]
[1848,4581]
[1849,4973]
[1850,5402]
[1851,6723]
[1852,7312]
[1853,8232]
[1854,9050]
[1855,10415]
[1856,10927]
[1857,11205]
[1858,11367]
[1859,12369]
[1860,12947]
[1861,12467]
[1862,12950]
[1863,14959]
[1864,16009]
[1865,16054]
[1866,16166]
[1867,19887]
[1868,22476]
[1869,25572]
[1870,26916]
[1871,28117]
[1872,34472]
[1873,38075]
[1874,36653]
[1875,37049]
[1876,36250]
[1877,40168]
[1878,39275]
[1879,47890]
[1880,54226]
[1881,57367]
[1882,64245]
[1883,69291]
[1884,73032]
[1885,74280]
[1886,78456]
[1887,83892]
[1888,102040]
[1889,91578]
[1890,109647]
[1891,116655]
[1892,122939]
[1893,123934]
[1894,116007]
[1895,130990]
[1896,131245]
[1897,136541]
[1898,148832]
[1899,170724]
[1900,180878]
[1901,196923]
[1902,208650]
[1903,244106]
[1904,240235]
[1905,268695]
[1906,282025]
[1907,328003]
[1908,286838]
[1909,317509]
[1910,346405]
[1911,342900]
[1912,366051]
[1913,393044]
[1914,359088]
[1915,372617]
[1916,413826]
[1917,455368]
[1918,476415]
[1919,403098]
[1920,473769]
[1921,388093]
[1922,391192]
[1923,516924]
[1924,462771]
[1925,475136]
[1926,515430]
[1927,503504]
[1928,498850]
[1929,535027]
[1930,475494]
[1931,404771]
[1932,342904]
[1933,367681]
[1934,391482]
[1935,406731]
[1936,466893]
[1937,488418]
[1938,413051]
[1939,455203]
[1940,510778]
[1941,556554]
[1942,598771]
[1943,618773]
[1944,666042]
[1945,642833]
[1946,614911]
[1947,677064]
[1948,703344]
[1949,589517]
[1950,692124]
[1951,712983]
[1952,694618]
[1953,711175]
[1954,677689]
[1955,742828]
[1956,778631]
[1957,772001]
[1958,748069]
[1959,770642]
[1960,788300]
[1961,785521]
[1962,814619]
[1963,850622]
[1964,887918]
[1965,924713]
[1966,971333]
[1967,1007829]
[1968,1044820]
[1969,1097559]
[1970,1180503]
[1971,1188102]
[1972,1244874]
[1973,1300844]
[1974,1254019]
[1975,1201617]
[1976,1258004]
[1977,1293235]
[1978,1333750]
[1979,1336732]
[1980,1288031]
[1981,1236924]
[1982,1174461]
[1983,1184041]
[1984,1220396]
[1985,1225131]
[1986,1225924]
[1987,1278531]
[1988,1334204]
[1989,1351263]
[1990,1315396]
[1991,1315076]
[1992,1339270]
[1993,1372493]
[1994,1390367]
[1995,1401148]
[1996,1434605]
[1997,1465840]
[1998,1475571]
[1999,1502708]
[2000,1554903]
[2001,1527517]
[2002,1540422]
[2003,1548738]
[2004,1571709]
[2005,1580355]
[2006,1555460]
[2007,1580290]
[2008,1533260]
[2009,1438269]
[2010,1475012]
[2011,1446842]

{"sheet":"FF W.Europe","index":5,"n_rows":287,"n_cols":2,"rows_kept":287,"cut":false,"hidden":false,"merged":[]}
["***********************************************************"]
["Regional CO2 Emissions from Fossil-Fuel Burning"]
["Cement Manufacture"," and Gas Flaring: 1751-2011"]
[]
["Wednesday 2nd of December 2015 10:58:03 AM"]
[]
["Source:  Tom Boden"]
["         Gregg Marland"]
["         Bob Andres"]
["         Carbon Dioxide Information Analysis Center"]
["         Oak Ridge National Laboratory"]
["         Oak Ridge"," Tennessee 37831-6290"]
["***********************************************************"]
[]
["Cite as: T.A. Boden"," G. Marland"]
["DOI 10.3334/CDIAC/00001_V2010"]
[]
["All emission estimates are expressed in thousand metric tons of carbon."]
[]
["Countries included:"]
["Andorra; Austria; Belgium; Bosnia and Herzegovinia; Croatia; Denmark; Faeroe Islands; Finland; "]
["France (including Monaco); Gibraltar; Greece; Iceland; Ireland; Italy (including San Marino); Luxembourg; "]
["Malta; Serbia; Netherlands; Norway (including Svalbard and Jan Mayen Islands); Montenegro; Slovenia; Spain; "]
["Sweden; Switzerland (including Liechtenstein); Macedonia; United Kingdom; Yugoslavia (former Socialist Federal Republic); Yugoslavia (Montenegro and Serbia);"]
[]
["Year"," Total"]
[1751,2552]
[1752,2553]
[1753,2553]
[1754,2554]
[1755,2555]
[1756,2731]
[1757,2732]
[1758,2733]
[1759,2734]
[1760,2734]
[1761,2995]
[1762,2996]
[1763,2997]
[1764,2998]
[1765,2999]
[1766,3346]
[1767,3347]
[1768,3348]
[1769,3349]
[1770,3350]
[1771,3715]
[1772,3716]
[1773,3717]
[1774,3718]
[1775,3719]
[1776,4104]
[1777,4105]
[1778,4106]
[1779,4107]
[1780,4109]
[1781,4597]
[1782,4598]
[1783,4600]
[1784,4601]
[1785,4603]
[1786,5226]
[1787,5228]
[1788,5229]
[1789,5231]
[1790,5233]
[1791,5845]
[1792,5847]
[1793,5849]
[1794,5850]
[1795,5852]
[1796,6117]
[1797,6425]
[1798,6691]
[1799,7041]
[1800,7269]
[1801,7290]
[1802,9685]
[1803,8240]
[1804,8872]
[1805,8587]
[1806,9075]
[1807,9123]
[1808,9080]
[1809,9083]
[1810,9665]
[1811,10266]
[1812,10686]
[1813,10760]
[1814,10966]
[1815,11262]
[1816,11991]
[1817,12168]
[1818,12119]
[1819,12322]
[1820,12490]
[1821,12621]
[1822,13116]
[1823,13753]
[1824,14465]
[1825,14725]
[1826,14927]
[1827,15998]
[1828,16182]
[1829,16348]
[1830,22139]
[1831,20952]
[1832,21152]
[1833,21217]
[1834,21695]
[1835,21816]
[1836,25490]
[1837,25079]
[1838,25854]
[1839,26542]
[1840,27777]
[1841,28540]
[1842,29840]
[1843,30691]
[1844,32383]
[1845,35074]
[1846,35169]
[1847,38284]
[1848,38515]
[1849,40561]
[1850,43283]
[1851,41894]
[1852,42857]
[1853,44084]
[1854,52477]
[1855,50988]
[1856,54410]
[1857,54153]
[1858,53952]
[1859,58088]
[1860,64456]
[1861,67927]
[1862,67510]
[1863,70348]
[1864,74788]
[1865,79136]
[1866,82077]
[1867,84701]
[1868,83898]
[1869,87680]
[1870,89013]
[1871,93105]
[1872,100471]
[1873,105201]
[1874,101291]
[1875,106332]
[1876,106752]
[1877,107233]
[1878,106742]
[1879,108842]
[1880,123598]
[1881,125052]
[1882,127899]
[1883,133995]
[1884,130793]
[1885,129403]
[1886,128044]
[1887,132750]
[1888,138494]
[1889,143312]
[1890,149181]
[1891,151924]
[1892,149800]
[1893,139399]
[1894,156140]
[1895,157859]
[1896,163200]
[1897,168963]
[1898,171360]
[1899,182700]
[1900,188888]
[1901,184249]
[1902,187206]
[1903,193105]
[1904,193522]
[1905,196488]
[1906,208793]
[1907,220807]
[1908,223941]
[1909,222304]
[1910,228724]
[1911,232042]
[1912,229224]
[1913,251325]
[1914,219160]
[1915,209823]
[1916,212118]
[1917,198518]
[1918,188297]
[1919,192704]
[1920,213130]
[1921,167489]
[1922,211117]
[1923,230936]
[1924,250671]
[1925,245669]
[1926,191218]
[1927,261581]
[1928,252197]
[1929,274572]
[1930,265019]
[1931,248260]
[1932,227235]
[1933,229313]
[1934,243286]
[1935,244749]
[1936,247890]
[1937,268318]
[1938,252723]
[1939,252537]
[1940,234439]
[1941,223815]
[1942,221245]
[1943,211034]
[1944,182492]
[1945,178067]
[1946,224283]
[1947,259995]
[1948,273128]
[1949,284859]
[1950,284293]
[1951,313950]
[1952,309169]
[1953,309369]
[1954,324325]
[1955,345339]
[1956,361513]
[1957,365072]
[1958,357854]
[1959,358392]
[1960,383049]
[1961,395478]
[1962,417631]
[1963,446123]
[1964,461833]
[1965,477887]
[1966,492258]
[1967,500864]
[1968,529420]
[1969,559296]
[1970,604778]
[1971,619535]
[1972,640941]
[1973,678067]
[1974,658807]
[1975,632826]
[1976,673626]
[1977,662469]
[1978,682632]
[1979,718414]
[1980,687437]
[1981,654076]
[1982,626668]
[1983,615433]
[1984,612936]
[1985,631154]
[1986,626673]
[1987,634743]
[1988,632673]
[1989,660694]
[1990,646710]
[1991,654371]
[1992,639157]
[1993,628285]
[1994,630973]
[1995,640166]
[1996,662337]
[1997,653305]
[1998,672502]
[1999,667635]
[2000,674147]
[2001,689080]
[2002,690266]
[2003,711512]
[2004,718742]
[2005,719543]
[2006,716584]
[2007,708178]
[2008,693051]
[2009,642942]
[2010,654484]
[2011,620060]

{"sheet":"FF Canada","index":6,"n_rows":250,"n_cols":2,"rows_kept":250,"cut":false,"hidden":false,"merged":[]}
["***********************************************************"]
["Regional CO2 Emissions from Fossil-Fuel Burning"]
["Cement Manufacture"," and Gas Flaring: 1785-2011"]
[]
["Wednesday 2nd of December 2015 11:03:15 AM"]
[]
["Source:  Tom Boden"]
["         Gregg Marland"]
["         Bob Andres"]
["         Carbon Dioxide Information Analysis Center"]
["         Oak Ridge National Laboratory"]
["         Oak Ridge"," Tennessee 37831-6290"]
["***********************************************************"]
[]
["Cite as: T.A. Boden"," G. Marland"]
["DOI 10.3334/CDIAC/00001_V2010"]
[]
["All emission estimates are expressed in thousand metric tons of carbon."]
[]
["Countries included:"]
["Canada;"]
[]
["Year"," Total"]
[1785,1]
[1786,1]
[1787,1]
[1788,1]
[1789,1]
[1790,1]
[1791,1]
[1792,1]
[1793,1]
[1794,1]
[1795,1]
[1796,1]
[1797,1]
[1798,1]
[1799,1]
[1800,1]
[1801,1]
[1802,1]
[1803,1]
[1804,1]
[1805,1]
[1806,1]
[1807,1]
[1808,1]
[1809,1]
[1810,1]
[1811,1]
[1812,1]
[1813,1]
[1814,1]
[1815,1]
[1816,1]
[1817,1]
[1818,1]
[1819,1]
[1820,1]
[1821,1]
[1822,1]
[1823,1]
[1824,1]
[1825,1]
[1826,1]
[1827,1]
[1828,1]
[1829,1]
[1830,1]
[1831,1]
[1832,1]
[1833,1]
[1834,1]
[1835,1]
[1836,1]
[1837,1]
[1838,1]
[1839,1]
[1840,1]
[1841,1]
[1842,1]
[1843,1]
[1844,1]
[1845,1]
[1846,7]
[1847,9]
[1848,11]
[1849,13]
[1850,16]
[1851,19]
[1852,23]
[1853,28]
[1854,34]
[1855,41]
[1856,49]
[1857,59]
[1858,72]
[1859,86]
[1860,104]
[1861,125]
[1862,153]
[1863,192]
[1864,230]
[1865,278]
[1866,339]
[1867,435]
[1868,258]
[1869,187]
[1870,334]
[1871,486]
[1872,504]
[1873,439]
[1874,443]
[1875,512]
[1876,507]
[1877,552]
[1878,528]
[1879,596]
[1880,1428]
[1881,1526]
[1882,1806]
[1883,2028]
[1884,2347]
[1885,2250]
[1886,2401]
[1887,2770]
[1888,3633]
[1889,3082]
[1890,3388]
[1891,3805]
[1892,3791]
[1893,4054]
[1894,3870]
[1895,3693]
[1896,3998]
[1897,4039]
[1898,4287]
[1899,5232]
[1900,5630]
[1901,6508]
[1902,7000]
[1903,7631]
[1904,9033]
[1905,9658]
[1906,10204]
[1907,12825]
[1908,12939]
[1909,12387]
[1910,14089]
[1911,16449]
[1912,18360]
[1913,21638]
[1914,18663]
[1915,16680]
[1916,20867]
[1917,23265]
[1918,24432]
[1919,20767]
[1920,23029]
[1921,21966]
[1922,18889]
[1923,25377]
[1924,21120]
[1925,20537]
[1926,23132]
[1927,25109]
[1928,25596]
[1929,27030]
[1930,25752]
[1931,20703]
[1932,19162]
[1933,18964]
[1934,21811]
[1935,21506]
[1936,23517]
[1937,25515]
[1938,23348]
[1939,25930]
[1940,29647]
[1941,32794]
[1942,35776]
[1943,37682]
[1944,38322]
[1945,35624]
[1946,37781]
[1947,39180]
[1948,43263]
[1949,39583]
[1950,42070]
[1951,44402]
[1952,43510]
[1953,43838]
[1954,44482]
[1955,46258]
[1956,51807]
[1957,49900]
[1958,49721]
[1959,50356]
[1960,52603]
[1961,52954]
[1962,56500]
[1963,57570]
[1964,64849]
[1965,68763]
[1966,70717]
[1967,76874]
[1968,82776]
[1969,83829]
[1970,93124]
[1971,96157]
[1972,103937]
[1973,104069]
[1974,106346]
[1975,108302]
[1976,108895]
[1977,111304]
[1978,113416]
[1979,120553]
[1980,120871]
[1981,117263]
[1982,113120]
[1983,111450]
[1984,116061]
[1985,115102]
[1986,110459]
[1987,117630]
[1988,124367]
[1989,126336]
[1990,118675]
[1991,116384]
[1992,120155]
[1993,121534]
[1994,124613]
[1995,127496]
[1996,130751]
[1997,134879]
[1998,138112]
[1999,140568]
[2000,145755]
[2001,143967]
[2002,141624]
[2003,150855]
[2004,150627]
[2005,153551]
[2006,150050]
[2007,152932]
[2008,148379]
[2009,138376]
[2010,135289]
[2011,132387]

{"sheet":"FF Australia","index":7,"n_rows":184,"n_cols":2,"rows_kept":184,"cut":false,"hidden":false,"merged":[]}
["***********************************************************"]
["Regional CO2 Emissions from Fossil-Fuel Burning"]
["Cement Manufacture"," and Gas Flaring: 1851-2011"]
[]
["Wednesday 2nd of December 2015 11:04:11 AM"]
[]
["Source:  Tom Boden"]
["         Gregg Marland"]
["         Bob Andres"]
["         Carbon Dioxide Information Analysis Center"]
["         Oak Ridge National Laboratory"]
["         Oak Ridge"," Tennessee 37831-6290"]
["***********************************************************"]
[]
["Cite as: T.A. Boden"," G. Marland"]
["DOI 10.3334/CDIAC/00001_V2010"]
[]
["All emission estimates are expressed in thousand metric tons of carbon."]
[]
["Countries included:"]
["Australia;"]
[]
["Year"," Total"]
[1851,-17]
[1852,-15]
[1853,-30]
[1854,-35]
[1855,-36]
[1856,-50]
[1857,-57]
[1858,-67]
[1859,-103]
[1860,76]
[1861,139]
[1862,97]
[1863,109]
[1864,73]
[1865,115]
[1866,190]
[1867,244]
[1868,200]
[1869,175]
[1870,164]
[1871,189]
[1872,193]
[1873,237]
[1874,243]
[1875,226]
[1876,254]
[1877,291]
[1878,264]
[1879,397]
[1880,602]
[1881,482]
[1882,549]
[1883,662]
[1884,702]
[1885,793]
[1886,788]
[1887,828]
[1888,963]
[1889,935]
[1890,968]
[1891,1094]
[1892,1133]
[1893,1082]
[1894,1190]
[1895,1253]
[1896,1229]
[1897,1358]
[1898,1532]
[1899,1579]
[1900,2775]
[1901,3122]
[1902,3110]
[1903,3062]
[1904,3151]
[1905,3288]
[1906,3919]
[1907,4224]
[1908,4573]
[1909,3972]
[1910,4759]
[1911,5251]
[1912,5673]
[1913,6111]
[1914,6681]
[1915,5948]
[1916,5260]
[1917,5666]
[1918,6261]
[1919,5933]
[1920,7023]
[1921,6319]
[1922,6644]
[1923,6782]
[1924,7388]
[1925,7706]
[1926,7602]
[1927,7886]
[1928,7175]
[1929,6456]
[1930,6013]
[1931,5335]
[1932,5552]
[1933,5890]
[1934,6195]
[1935,6886]
[1936,7383]
[1937,7876]
[1938,7652]
[1939,8773]
[1940,7926]
[1941,9429]
[1942,9963]
[1943,9550]
[1944,9337]
[1945,8924]
[1946,9668]
[1947,10376]
[1948,10487]
[1949,10276]
[1950,14941]
[1951,16112]
[1952,16432]
[1953,16223]
[1954,18517]
[1955,19291]
[1956,19934]
[1957,20340]
[1958,21184]
[1959,22849]
[1960,24053]
[1961,24704]
[1962,25883]
[1963,27551]
[1964,29719]
[1965,32988]
[1966,32815]
[1967,35251]
[1968,36712]
[1969,38794]
[1970,40256]
[1971,41662]
[1972,42947]
[1973,46630]
[1974,47002]
[1975,47964]
[1976,47517]
[1977,51210]
[1978,55090]
[1979,55923]
[1980,60198]
[1981,62820]
[1982,63845]
[1983,61359]
[1984,64520]
[1985,65784]
[1986,65439]
[1987,69841]
[1988,71215]
[1989,75749]
[1990,71952]
[1991,71332]
[1992,73103]
[1993,75669]
[1994,75867]
[1995,76886]
[1996,82422]
[1997,83403]
[1998,86437]
[1999,88732]
[2000,89850]
[2001,88595]
[2002,93098]
[2003,91725]
[2004,93476]
[2005,95519]
[2006,97613]
[2007,99208]
[2008,102590]
[2009,104299]
[2010,100401]
[2011,100638]

{"sheet":"LUC Extended","index":8,"n_rows":163,"n_cols":12,"rows_kept":163,"cut":false,"hidden":false,"merged":[]}
["Year","Global","USA","Canada","S+C America","Europe","Nafrica/Meast","Trop.Africa","Frmr USSR","China","S+SE Asia","Pac.Dev.Reg"]
[1850,500.6,164.09220000000002,5.5476000000000001,23.4757,55.0441,3.984,-1.3483999999999998,58.557099999999998,101.83919999999999,87.346900000000005,2.0457999999999998]
[1851,{"$f":"'LUC Houghton'!B3","v":492.7},{"$f":"'LUC Houghton'!C3","v":165.72560000000001},{"$f":"'LUC Houghton'!D3","v":5.3625999999999996},{"$f":"'LUC Houghton'!E3","v":23.152000000000001},{"$f":"'LUC Houghton'!F3","v":55.015599999999999},{"$f":"'LUC Houghton'!G3","v":3.9839000000000002},{"$f":"'LUC Houghton'!H3","v":-1.1192},{"$f":"'LUC Houghton'!I3","v":58.552500000000002},{"$f":"'LUC Houghton'!J3","v":93.076599999999999},{"$f":"'LUC Houghton'!K3","v":86.91},{"$f":"'LUC Houghton'!L3","v":2.0419}]
[1852,{"$f":"'LUC Houghton'!B4","v":548.5},{"$f":"'LUC Houghton'!C4","v":230.67250000000001},{"$f":"'LUC Houghton'!D4","v":5.3380000000000001},{"$f":"'LUC Houghton'!E4","v":22.861799999999999},{"$f":"'LUC Houghton'!F4","v":54.987400000000001},{"$f":"'LUC Houghton'!G4","v":3.9836999999999998},{"$f":"'LUC Houghton'!H4","v":-1.0033000000000001},{"$f":"'LUC Houghton'!I4","v":58.878100000000003},{"$f":"'LUC Houghton'!J4","v":83.830700000000007},{"$f":"'LUC Houghton'!K4","v":86.938500000000005},{"$f":"'LUC Houghton'!L4","v":2.0379}]
[1853,{"$f":"'LUC Houghton'!B5","v":546.79999999999995},{"$f":"'LUC Houghton'!C5","v":238.51490000000001},{"$f":"'LUC Houghton'!D5","v":5.3137999999999996},{"$f":"'LUC Houghton'!E5","v":22.601700000000001},{"$f":"'LUC Houghton'!F5","v":54.959000000000003},{"$f":"'LUC Houghton'!G5","v":3.9834999999999998},{"$f":"'LUC Houghton'!H5","v":-1.0513000000000001},{"$f":"'LUC Houghton'!I5","v":59.220700000000001},{"$f":"'LUC Houghton'!J5","v":74.213999999999999},{"$f":"'LUC Houghton'!K5","v":86.993499999999997},{"$f":"'LUC Houghton'!L5","v":2.0337999999999998}]
[1854,{"$f":"'LUC Houghton'!B6","v":544.79999999999995},{"$f":"'LUC Houghton'!C6","v":246.18460000000005},{"$f":"'LUC Houghton'!D6","v":5.2899000000000003},{"$f":"'LUC Houghton'!E6","v":22.3687},{"$f":"'LUC Houghton'!F6","v":54.930399999999999},{"$f":"'LUC Houghton'!G6","v":3.9832999999999998},{"$f":"'LUC Houghton'!H6","v":-0.98550000000000004},{"$f":"'LUC Houghton'!I6","v":59.580199999999998},{"$f":"'LUC Houghton'!J6","v":64.312899999999999},{"$f":"'LUC Houghton'!K6","v":87.063000000000002},{"$f":"'LUC Houghton'!L6","v":2.0297000000000001}]
[1855,{"$f":"'LUC Houghton'!B7","v":542.1},{"$f":"'LUC Houghton'!C7","v":253.56460000000001},{"$f":"'LUC Houghton'!D7","v":5.2663000000000002},{"$f":"'LUC Houghton'!E7","v":22.16},{"$f":"'LUC Houghton'!F7","v":54.901600000000002},{"$f":"'LUC Houghton'!G7","v":3.9830000000000001},{"$f":"'LUC Houghton'!H7","v":-1.1397000000000002},{"$f":"'LUC Houghton'!I7","v":59.956400000000002},{"$f":"'LUC Houghton'!J7","v":54.193999999999996},{"$f":"'LUC Houghton'!K7","v":87.145200000000003},{"$f":"'LUC Houghton'!L7","v":2.0255000000000001}]
[1856,{"$f":"'LUC Houghton'!B8","v":547.70000000000005},{"$f":"'LUC Houghton'!C8","v":260.52629999999994},{"$f":"'LUC Houghton'!D8","v":5.2430000000000003},{"$f":"'LUC Houghton'!E8","v":21.973299999999998},{"$f":"'LUC Houghton'!F8","v":54.872599999999998},{"$f":"'LUC Houghton'!G8","v":3.9830000000000001},{"$f":"'LUC Houghton'!H8","v":-1.1049000000000002},{"$f":"'LUC Houghton'!I8","v":60.341099999999997},{"$f":"'LUC Houghton'!J8","v":52.5623},{"$f":"'LUC Houghton'!K8","v":87.240300000000005},{"$f":"'LUC Houghton'!L8","v":2.0217999999999998}]
[1857,{"$f":"'LUC Houghton'!B9","v":553.29999999999995},{"$f":"'LUC Houghton'!C9","v":267.24670000000003},{"$f":"'LUC Houghton'!D9","v":5.2198000000000002},{"$f":"'LUC Houghton'!E9","v":21.8063},{"$f":"'LUC Houghton'!F9","v":54.843400000000003},{"$f":"'LUC Houghton'!G9","v":3.9830000000000001},{"$f":"'LUC Houghton'!H9","v":-1.1372},{"$f":"'LUC Houghton'!I9","v":60.723399999999998},{"$f":"'LUC Houghton'!J9","v":51.271999999999998},{"$f":"'LUC Houghton'!K9","v":87.338499999999996},{"$f":"'LUC Houghton'!L9","v":2.0181}]
[1858,{"$f":"'LUC Houghton'!B10","v":558.6},{"$f":"'LUC Houghton'!C10","v":273.59120000000007},{"$f":"'LUC Houghton'!D10","v":5.1967999999999996},{"$f":"'LUC Houghton'!E10","v":21.657},{"$f":"'LUC Houghton'!F10","v":54.813899999999997},{"$f":"'LUC Houghton'!G10","v":3.9830000000000001},{"$f":"'LUC Houghton'!H10","v":-1.3895},{"$f":"'LUC Houghton'!I10","v":61.103000000000002},{"$f":"'LUC Houghton'!J10","v":50.234299999999998},{"$f":"'LUC Houghton'!K10","v":87.434799999999996},{"$f":"'LUC Houghton'!L10","v":2.0143}]
[1859,{"$f":"'LUC Houghton'!B11","v":564},{"$f":"'LUC Houghton'!C11","v":279.73260000000005},{"$f":"'LUC Houghton'!D11","v":5.1738999999999997},{"$f":"'LUC Houghton'!E11","v":21.523800000000001},{"$f":"'LUC Houghton'!F11","v":54.784199999999998},{"$f":"'LUC Houghton'!G11","v":3.9830000000000001},{"$f":"'LUC Houghton'!H11","v":-1.6116999999999999},{"$f":"'LUC Houghton'!I11","v":61.479900000000001},{"$f":"'LUC Houghton'!J11","v":49.392099999999999},{"$f":"'LUC Houghton'!K11","v":87.5291},{"$f":"'LUC Houghton'!L11","v":2.0104000000000002}]
[1860,{"$f":"'LUC Houghton'!B12","v":569},{"$f":"'LUC Houghton'!C12","v":285.67160000000001},{"$f":"'LUC Houghton'!D12","v":5.1510999999999996},{"$f":"'LUC Houghton'!E12","v":21.052099999999999},{"$f":"'LUC Houghton'!F12","v":54.754300000000001},{"$f":"'LUC Houghton'!G12","v":3.9828999999999999},{"$f":"'LUC Houghton'!H12","v":-1.8337999999999999},{"$f":"'LUC Houghton'!I12","v":61.853700000000003},{"$f":"'LUC Houghton'!J12","v":48.702500000000001},{"$f":"'LUC Houghton'!K12","v":87.621799999999993},{"$f":"'LUC Houghton'!L12","v":2.0066000000000002}]
[1861,{"$f":"'LUC Houghton'!B13","v":579.6},{"$f":"'LUC Houghton'!C13","v":290.66650000000004},{"$f":"'LUC Houghton'!D13","v":5.1284000000000001},{"$f":"'LUC Houghton'!E13","v":21.889199999999999},{"$f":"'LUC Houghton'!F13","v":54.786200000000001},{"$f":"'LUC Houghton'!G13","v":9.0109999999999992},{"$f":"'LUC Houghton'!H13","v":-2.0559000000000003},{"$f":"'LUC Houghton'!I13","v":62.224200000000003},{"$f":"'LUC Houghton'!J13","v":48.132600000000004},{"$f":"'LUC Houghton'!K13","v":87.7196},{"$f":"'LUC Houghton'!L13","v":2.0821000000000001}]
[1862,{"$f":"'LUC Houghton'!B14","v":520.9},{"$f":"'LUC Houghton'!C14","v":237.68619999999996},{"$f":"'LUC Houghton'!D14","v":6.7721999999999998},{"$f":"'LUC Houghton'!E14","v":22.133299999999998},{"$f":"'LUC Houghton'!F14","v":54.863500000000002},{"$f":"'LUC Houghton'!G14","v":9.9571000000000005},{"$f":"'LUC Houghton'!H14","v":-1.9419999999999999},{"$f":"'LUC Houghton'!I14","v":53.690899999999999},{"$f":"'LUC Houghton'!J14","v":47.773599999999995},{"$f":"'LUC Houghton'!K14","v":87.815299999999993},{"$f":"'LUC Houghton'!L14","v":2.1825999999999999}]
[1863,{"$f":"'LUC Houghton'!B15","v":521.1},{"$f":"'LUC Houghton'!C15","v":236.83190000000002},{"$f":"'LUC Houghton'!D15","v":7.3118999999999996},{"$f":"'LUC Houghton'!E15","v":22.248200000000001},{"$f":"'LUC Houghton'!F15","v":54.955399999999997},{"$f":"'LUC Houghton'!G15","v":10.822100000000001},{"$f":"'LUC Houghton'!H15","v":-1.6705000000000001},{"$f":"'LUC Houghton'!I15","v":53.748199999999997},{"$f":"'LUC Houghton'!J15","v":46.611499999999999},{"$f":"'LUC Houghton'!K15","v":87.907499999999999},{"$f":"'LUC Houghton'!L15","v":2.2993999999999999}]
[1864,{"$f":"'LUC Houghton'!B16","v":521.6},{"$f":"'LUC Houghton'!C16","v":235.96990000000005},{"$f":"'LUC Houghton'!D16","v":7.8399000000000001},{"$f":"'LUC Houghton'!E16","v":22.3048},{"$f":"'LUC Houghton'!F16","v":55.061100000000003},{"$f":"'LUC Houghton'!G16","v":11.2539},{"$f":"'LUC Houghton'!H16","v":-1.2478},{"$f":"'LUC Houghton'!I16","v":53.802599999999998},{"$f":"'LUC Houghton'!J16","v":46.161299999999997},{"$f":"'LUC Houghton'!K16","v":87.997},{"$f":"'LUC Houghton'!L16","v":2.4272999999999998}]
[1865,{"$f":"'LUC Houghton'!B17","v":522.4},{"$f":"'LUC Houghton'!C17","v":235.23340000000002},{"$f":"'LUC Houghton'!D17","v":8.3582000000000001},{"$f":"'LUC Houghton'!E17","v":22.342500000000001},{"$f":"'LUC Houghton'!F17","v":55.1798},{"$f":"'LUC Houghton'!G17","v":11.6393},{"$f":"'LUC Houghton'!H17","v":-0.6633},{"$f":"'LUC Houghton'!I17","v":53.861800000000002},{"$f":"'LUC Houghton'!J17","v":45.778099999999995},{"$f":"'LUC Houghton'!K17","v":88.081100000000006},{"$f":"'LUC Houghton'!L17","v":2.5632999999999999}]
[1866,{"$f":"'LUC Houghton'!B18","v":522.5},{"$f":"'LUC Houghton'!C18","v":234.79660000000001},{"$f":"'LUC Houghton'!D18","v":8.8681999999999999},{"$f":"'LUC Houghton'!E18","v":21.9117},{"$f":"'LUC Houghton'!F18","v":55.3125},{"$f":"'LUC Houghton'!G18","v":11.988899999999999},{"$f":"'LUC Houghton'!H18","v":-0.45029999999999998},{"$f":"'LUC Houghton'!I18","v":53.7361},{"$f":"'LUC Houghton'!J18","v":45.449199999999998},{"$f":"'LUC Houghton'!K18","v":88.161500000000004},{"$f":"'LUC Houghton'!L18","v":2.6983999999999999}]
[1867,{"$f":"'LUC Houghton'!B19","v":520.79999999999995},{"$f":"'LUC Houghton'!C19","v":232.53900000000004},{"$f":"'LUC Houghton'!D19","v":9.3709000000000007},{"$f":"'LUC Houghton'!E19","v":21.492899999999999},{"$f":"'LUC Houghton'!F19","v":55.456600000000002},{"$f":"'LUC Houghton'!G19","v":12.3102},{"$f":"'LUC Houghton'!H19","v":-0.23699999999999999},{"$f":"'LUC Houghton'!I19","v":53.618400000000001},{"$f":"'LUC Houghton'!J19","v":45.167099999999998},{"$f":"'LUC Houghton'!K19","v":88.239599999999996},{"$f":"'LUC Houghton'!L19","v":2.8313999999999999}]
[1868,{"$f":"'LUC Houghton'!B20","v":519.20000000000005},{"$f":"'LUC Houghton'!C20","v":230.55370000000002},{"$f":"'LUC Houghton'!D20","v":9.8671000000000006},{"$f":"'LUC Houghton'!E20","v":21.0899},{"$f":"'LUC Houghton'!F20","v":55.611400000000003},{"$f":"'LUC Houghton'!G20","v":12.608499999999999},{"$f":"'LUC Houghton'!H20","v":-0.2089},{"$f":"'LUC Houghton'!I20","v":53.510199999999998},{"$f":"'LUC Houghton'!J20","v":44.921500000000002},{"$f":"'LUC Houghton'!K20","v":88.312600000000003},{"$f":"'LUC Houghton'!L20","v":2.9618000000000002}]
[1869,{"$f":"'LUC Houghton'!B21","v":517.5},{"$f":"'LUC Houghton'!C21","v":228.64449999999999},{"$f":"'LUC Houghton'!D21","v":10.3574},{"$f":"'LUC Houghton'!E21","v":20.703299999999999},{"$f":"'LUC Houghton'!F21","v":55.776499999999999},{"$f":"'LUC Houghton'!G21","v":12.8879},{"$f":"'LUC Houghton'!H21","v":-0.4199},{"$f":"'LUC Houghton'!I21","v":53.412100000000002},{"$f":"'LUC Houghton'!J21","v":44.706299999999999},{"$f":"'LUC Houghton'!K21","v":88.383600000000001},{"$f":"'LUC Houghton'!L21","v":3.0891000000000002}]
[1870,{"$f":"'LUC Houghton'!B22","v":516.29999999999995},{"$f":"'LUC Houghton'!C22","v":226.79929999999996},{"$f":"'LUC Houghton'!D22","v":10.8421},{"$f":"'LUC Houghton'!E22","v":20.6845},{"$f":"'LUC Houghton'!F22","v":55.951000000000001},{"$f":"'LUC Houghton'!G22","v":13.151400000000001},{"$f":"'LUC Houghton'!H22","v":-0.63070000000000004},{"$f":"'LUC Houghton'!I22","v":53.320500000000003},{"$f":"'LUC Houghton'!J22","v":44.5167},{"$f":"'LUC Houghton'!K22","v":88.4499},{"$f":"'LUC Houghton'!L22","v":3.2130000000000001}]
[1871,{"$f":"'LUC Houghton'!B23","v":536.70000000000005},{"$f":"'LUC Houghton'!C23","v":224.19950000000003},{"$f":"'LUC Houghton'!D23","v":11.3216},{"$f":"'LUC Houghton'!E23","v":20.617999999999999},{"$f":"'LUC Houghton'!F23","v":50.478200000000001},{"$f":"'LUC Houghton'!G23","v":13.401899999999999},{"$f":"'LUC Houghton'!H23","v":-0.83730000000000004},{"$f":"'LUC Houghton'!I23","v":53.234900000000003},{"$f":"'LUC Houghton'!J23","v":44.348499999999994},{"$f":"'LUC Houghton'!K23","v":110.0401},{"$f":"'LUC Houghton'!L23","v":9.8699999999999992}]
[1872,{"$f":"'LUC Houghton'!B24","v":623.20000000000005},{"$f":"'LUC Houghton'!C24","v":303.89269999999993},{"$f":"'LUC Houghton'!D24","v":11.796099999999999},{"$f":"'LUC Houghton'!E24","v":20.466699999999999},{"$f":"'LUC Houghton'!F24","v":49.595100000000002},{"$f":"'LUC Houghton'!G24","v":13.640700000000001},{"$f":"'LUC Houghton'!H24","v":-1.044},{"$f":"'LUC Houghton'!I24","v":53.488100000000003},{"$f":"'LUC Houghton'!J24","v":44.198900000000002},{"$f":"'LUC Houghton'!K24","v":115.2003},{"$f":"'LUC Houghton'!L24","v":11.9261}]
[1873,{"$f":"'LUC Houghton'!B25","v":634.1},{"$f":"'LUC Houghton'!C25","v":309.25839999999994},{"$f":"'LUC Houghton'!D25","v":12.2658},{"$f":"'LUC Houghton'!E25","v":20.387599999999999},{"$f":"'LUC Houghton'!F25","v":48.753},{"$f":"'LUC Houghton'!G25","v":13.869199999999999},{"$f":"'LUC Houghton'!H25","v":-0.81069999999999998},{"$f":"'LUC Houghton'!I25","v":53.745399999999997},{"$f":"'LUC Houghton'!J25","v":44.064900000000002},{"$f":"'LUC Houghton'!K25","v":118.9247},{"$f":"'LUC Houghton'!L25","v":13.659000000000001}]
[1874,{"$f":"'LUC Houghton'!B26","v":641.1},{"$f":"'LUC Houghton'!C26","v":314.44760000000002},{"$f":"'LUC Houghton'!D26","v":12.730600000000001},{"$f":"'LUC Houghton'!E26","v":20.338200000000001},{"$f":"'LUC Houghton'!F26","v":47.945},{"$f":"'LUC Houghton'!G26","v":14.088699999999999},{"$f":"'LUC Houghton'!H26","v":-0.43869999999999998},{"$f":"'LUC Houghton'!I26","v":54.005600000000001},{"$f":"'LUC Houghton'!J26","v":41.954499999999996},{"$f":"'LUC Houghton'!K26","v":121.7101},{"$f":"'LUC Houghton'!L26","v":14.333}]
[1875,{"$f":"'LUC Houghton'!B27","v":648.4},{"$f":"'LUC Houghton'!C27","v":319.33389999999997},{"$f":"'LUC Houghton'!D27","v":13.190799999999999},{"$f":"'LUC Houghton'!E27","v":20.295000000000002},{"$f":"'LUC Houghton'!F27","v":47.164999999999999},{"$f":"'LUC Houghton'!G27","v":14.3001},{"$f":"'LUC Houghton'!H27","v":-0.25179999999999997},{"$f":"'LUC Houghton'!I27","v":54.267600000000002},{"$f":"'LUC Houghton'!J27","v":41.406199999999998},{"$f":"'LUC Houghton'!K27","v":123.87439999999999},{"$f":"'LUC Houghton'!L27","v":14.8672}]
[1876,{"$f":"'LUC Houghton'!B28","v":655.5},{"$f":"'LUC Houghton'!C28","v":324.07989999999995},{"$f":"'LUC Houghton'!D28","v":13.6463},{"$f":"'LUC Houghton'!E28","v":20.409300000000002},{"$f":"'LUC Houghton'!F28","v":46.528100000000002},{"$f":"'LUC Houghton'!G28","v":14.465199999999999},{"$f":"'LUC Houghton'!H28","v":-6.4899999999999958E-2},{"$f":"'LUC Houghton'!I28","v":54.944899999999997},{"$f":"'LUC Houghton'!J28","v":40.8748},{"$f":"'LUC Houghton'!K28","v":125.2495},{"$f":"'LUC Houghton'!L28","v":15.35}]
[1877,{"$f":"'LUC Houghton'!B29","v":662.4},{"$f":"'LUC Houghton'!C29","v":330.06789999999995},{"$f":"'LUC Houghton'!D29","v":13.2989},{"$f":"'LUC Houghton'!E29","v":20.865500000000001},{"$f":"'LUC Houghton'!F29","v":45.936399999999999},{"$f":"'LUC Houghton'!G29","v":14.628299999999999},{"$f":"'LUC Houghton'!H29","v":-3.3200000000000035E-2},{"$f":"'LUC Houghton'!I29","v":55.036000000000001},{"$f":"'LUC Houghton'!J29","v":40.406700000000001},{"$f":"'LUC Houghton'!K29","v":126.4083},{"$f":"'LUC Houghton'!L29","v":15.757300000000001}]
[1878,{"$f":"'LUC Houghton'!B30","v":669.5},{"$f":"'LUC Houghton'!C30","v":335.79829999999998},{"$f":"'LUC Houghton'!D30","v":13.224},{"$f":"'LUC Houghton'!E30","v":21.3048},{"$f":"'LUC Houghton'!F30","v":45.385899999999999},{"$f":"'LUC Houghton'!G30","v":14.7896},{"$f":"'LUC Houghton'!H30","v":-1.4000000000000401E-3},{"$f":"'LUC Houghton'!I30","v":55.125300000000003},{"$f":"'LUC Houghton'!J30","v":40.316499999999998},{"$f":"'LUC Houghton'!K30","v":127.4174},{"$f":"'LUC Houghton'!L30","v":16.1158}]
[1879,{"$f":"'LUC Houghton'!B31","v":676.4},{"$f":"'LUC Houghton'!C31","v":341.32160000000005},{"$f":"'LUC Houghton'!D31","v":13.1455},{"$f":"'LUC Houghton'!E31","v":21.724299999999999},{"$f":"'LUC Houghton'!F31","v":44.872900000000001},{"$f":"'LUC Houghton'!G31","v":14.9313},{"$f":"'LUC Houghton'!H31","v":3.0199999999999977E-2},{"$f":"'LUC Houghton'!I31","v":55.2119},{"$f":"'LUC Houghton'!J31","v":40.435300000000005},{"$f":"'LUC Houghton'!K31","v":128.31970000000001},{"$f":"'LUC Houghton'!L31","v":16.442599999999999}]
[1880,{"$f":"'LUC Houghton'!B32","v":682.9},{"$f":"'LUC Houghton'!C32","v":346.65680000000003},{"$f":"'LUC Houghton'!D32","v":13.0634},{"$f":"'LUC Houghton'!E32","v":22.123200000000001},{"$f":"'LUC Houghton'!F32","v":44.394199999999998},{"$f":"'LUC Houghton'!G32","v":15.071899999999999},{"$f":"'LUC Houghton'!H32","v":-0.15840000000000001},{"$f":"'LUC Houghton'!I32","v":55.301699999999997},{"$f":"'LUC Houghton'!J32","v":40.585900000000002},{"$f":"'LUC Houghton'!K32","v":129.14529999999999},{"$f":"'LUC Houghton'!L32","v":16.7486}]
[1881,{"$f":"'LUC Houghton'!B33","v":718.9},{"$f":"'LUC Houghton'!C33","v":350.71380000000005},{"$f":"'LUC Houghton'!D33","v":12.9779},{"$f":"'LUC Houghton'!E33","v":54.099600000000002},{"$f":"'LUC Houghton'!F33","v":43.940399999999997},{"$f":"'LUC Houghton'!G33","v":15.211600000000001},{"$f":"'LUC Houghton'!H33","v":-0.32819999999999999},{"$f":"'LUC Houghton'!I33","v":55.402299999999997},{"$f":"'LUC Houghton'!J33","v":40.348099999999995},{"$f":"'LUC Houghton'!K33","v":129.5359},{"$f":"'LUC Houghton'!L33","v":17.0474}]
[1882,{"$f":"'LUC Houghton'!B34","v":672.7},{"$f":"'LUC Houghton'!C34","v":295.62489999999991},{"$f":"'LUC Houghton'!D34","v":12.889099999999999},{"$f":"'LUC Houghton'!E34","v":62.985599999999998},{"$f":"'LUC Houghton'!F34","v":43.515700000000002},{"$f":"'LUC Houghton'!G34","v":15.3507},{"$f":"'LUC Houghton'!H34","v":-0.498},{"$f":"'LUC Houghton'!I34","v":55.512700000000002},{"$f":"'LUC Houghton'!J34","v":40.131299999999996},{"$f":"'LUC Houghton'!K34","v":129.88249999999999},{"$f":"'LUC Houghton'!L34","v":17.343800000000002}]
[1883,{"$f":"'LUC Houghton'!B35","v":678.3},{"$f":"'LUC Houghton'!C35","v":294.00809999999996},{"$f":"'LUC Houghton'!D35","v":12.7972},{"$f":"'LUC Houghton'!E35","v":70.156400000000005},{"$f":"'LUC Houghton'!F35","v":43.117800000000003},{"$f":"'LUC Houghton'!G35","v":15.4893},{"$f":"'LUC Houghton'!H35","v":-0.69109999999999994},{"$f":"'LUC Houghton'!I35","v":55.632199999999997},{"$f":"'LUC Houghton'!J35","v":39.931399999999996},{"$f":"'LUC Houghton'!K35","v":130.19720000000001},{"$f":"'LUC Houghton'!L35","v":17.640499999999999}]
[1884,{"$f":"'LUC Houghton'!B36","v":683.4},{"$f":"'LUC Houghton'!C36","v":292.70589999999993},{"$f":"'LUC Houghton'!D36","v":12.702400000000001},{"$f":"'LUC Houghton'!E36","v":76.098500000000001},{"$f":"'LUC Houghton'!F36","v":42.744799999999998},{"$f":"'LUC Houghton'!G36","v":15.6275},{"$f":"'LUC Houghton'!H36","v":-0.44390000000000007},{"$f":"'LUC Houghton'!I36","v":55.76},{"$f":"'LUC Houghton'!J36","v":39.7453},{"$f":"'LUC Houghton'!K36","v":130.4838},{"$f":"'LUC Houghton'!L36","v":17.939499999999999}]
[1885,{"$f":"'LUC Houghton'!B37","v":687.7},{"$f":"'LUC Houghton'!C37","v":291.56229999999994},{"$f":"'LUC Houghton'!D37","v":12.604799999999999},{"$f":"'LUC Houghton'!E37","v":81.150000000000006},{"$f":"'LUC Houghton'!F37","v":42.394799999999996},{"$f":"'LUC Houghton'!G37","v":15.765499999999999},{"$f":"'LUC Houghton'!H37","v":-0.19689999999999999},{"$f":"'LUC Houghton'!I37","v":55.895499999999998},{"$f":"'LUC Houghton'!J37","v":39.567399999999999},{"$f":"'LUC Houghton'!K37","v":130.7499},{"$f":"'LUC Houghton'!L37","v":18.242000000000001}]
[1886,{"$f":"'LUC Houghton'!B38","v":690.4},{"$f":"'LUC Houghton'!C38","v":290.33350000000007},{"$f":"'LUC Houghton'!D38","v":12.5047},{"$f":"'LUC Houghton'!E38","v":84.093699999999998},{"$f":"'LUC Houghton'!F38","v":42.557099999999998},{"$f":"'LUC Houghton'!G38","v":15.9008},{"$f":"'LUC Houghton'!H38","v":4.9899999999999972E-2},{"$f":"'LUC Houghton'!I38","v":56.031399999999998},{"$f":"'LUC Houghton'!J38","v":39.398699999999998},{"$f":"'LUC Houghton'!K38","v":130.9958},{"$f":"'LUC Houghton'!L38","v":18.5397}]
[1887,{"$f":"'LUC Houghton'!B39","v":689.8},{"$f":"'LUC Houghton'!C39","v":286.81370000000004},{"$f":"'LUC Houghton'!D39","v":12.402100000000001},{"$f":"'LUC Houghton'!E39","v":86.197100000000006},{"$f":"'LUC Houghton'!F39","v":42.731200000000001},{"$f":"'LUC Houghton'!G39","v":16.0336},{"$f":"'LUC Houghton'!H39","v":0.12670000000000001},{"$f":"'LUC Houghton'!I39","v":56.167099999999998},{"$f":"'LUC Houghton'!J39","v":39.237700000000004},{"$f":"'LUC Houghton'!K39","v":131.22620000000001},{"$f":"'LUC Houghton'!L39","v":18.833200000000001}]
[1888,{"$f":"'LUC Houghton'!B40","v":688.6},{"$f":"'LUC Houghton'!C40","v":283.30919999999998},{"$f":"'LUC Houghton'!D40","v":12.2974},{"$f":"'LUC Houghton'!E40","v":87.933499999999995},{"$f":"'LUC Houghton'!F40","v":42.915799999999997},{"$f":"'LUC Houghton'!G40","v":16.163900000000002},{"$f":"'LUC Houghton'!H40","v":-1.670000000000002E-2},{"$f":"'LUC Houghton'!I40","v":56.302300000000002},{"$f":"'LUC Houghton'!J40","v":39.083100000000002},{"$f":"'LUC Houghton'!K40","v":131.4435},{"$f":"'LUC Houghton'!L40","v":19.122699999999998}]
[1889,{"$f":"'LUC Houghton'!B41","v":687.2},{"$f":"'LUC Houghton'!C41","v":279.91840000000002},{"$f":"'LUC Houghton'!D41","v":12.1907},{"$f":"'LUC Houghton'!E41","v":89.388199999999998},{"$f":"'LUC Houghton'!F41","v":43.109699999999997},{"$f":"'LUC Houghton'!G41","v":16.291899999999998},{"$f":"'LUC Houghton'!H41","v":-0.2021},{"$f":"'LUC Houghton'!I41","v":56.436199999999999},{"$f":"'LUC Houghton'!J41","v":39.030899999999995},{"$f":"'LUC Houghton'!K41","v":131.6463},{"$f":"'LUC Houghton'!L41","v":19.361699999999999}]
[1890,{"$f":"'LUC Houghton'!B42","v":685.9},{"$f":"'LUC Houghton'!C42","v":276.60880000000003},{"$f":"'LUC Houghton'!D42","v":12.082100000000001},{"$f":"'LUC Houghton'!E42","v":90.623400000000004},{"$f":"'LUC Houghton'!F42","v":43.311599999999999},{"$f":"'LUC Houghton'!G42","v":16.4175},{"$f":"'LUC Houghton'!H42","v":-0.16899999999999996},{"$f":"'LUC Houghton'!I42","v":56.568399999999997},{"$f":"'LUC Houghton'!J42","v":38.983799999999995},{"$f":"'LUC Houghton'!K42","v":131.83860000000001},{"$f":"'LUC Houghton'!L42","v":19.597100000000001}]
[1891,{"$f":"'LUC Houghton'!B43","v":681.5},{"$f":"'LUC Houghton'!C43","v":272.62240000000008},{"$f":"'LUC Houghton'!D43","v":11.9717},{"$f":"'LUC Houghton'!E43","v":73.421700000000001},{"$f":"'LUC Houghton'!F43","v":43.5137},{"$f":"'LUC Houghton'!G43","v":16.540800000000001},{"$f":"'LUC Houghton'!H43","v":-0.42330000000000001},{"$f":"'LUC Houghton'!I43","v":56.698500000000003},{"$f":"'LUC Houghton'!J43","v":39.000900000000001},{"$f":"'LUC Houghton'!K43","v":148.303},{"$f":"'LUC Houghton'!L43","v":19.828900000000001}]
[1892,{"$f":"'LUC Houghton'!B44","v":695},{"$f":"'LUC Houghton'!C44","v":285.1653},{"$f":"'LUC Houghton'!D44","v":11.897500000000001},{"$f":"'LUC Houghton'!E44","v":69.952500000000001},{"$f":"'LUC Houghton'!F44","v":43.7151},{"$f":"'LUC Houghton'!G44","v":16.661799999999999},{"$f":"'LUC Houghton'!H44","v":-0.67769999999999997},{"$f":"'LUC Houghton'!I44","v":56.8279},{"$f":"'LUC Houghton'!J44","v":39.025600000000004},{"$f":"'LUC Houghton'!K44","v":152.33799999999999},{"$f":"'LUC Houghton'!L44","v":20.057200000000002}]
[1893,{"$f":"'LUC Houghton'!B45","v":695.8},{"$f":"'LUC Houghton'!C45","v":285.56590000000006},{"$f":"'LUC Houghton'!D45","v":11.8218},{"$f":"'LUC Houghton'!E45","v":67.297600000000003},{"$f":"'LUC Houghton'!F45","v":43.9148},{"$f":"'LUC Houghton'!G45","v":16.7807},{"$f":"'LUC Houghton'!H45","v":-1.0833000000000002},{"$f":"'LUC Houghton'!I45","v":56.956000000000003},{"$f":"'LUC Houghton'!J45","v":39.057299999999998},{"$f":"'LUC Houghton'!K45","v":155.249},{"$f":"'LUC Houghton'!L45","v":20.2819}]
[1894,{"$f":"'LUC Houghton'!B46","v":713.3},{"$f":"'LUC Houghton'!C46","v":287.10710000000006},{"$f":"'LUC Houghton'!D46","v":11.7448},{"$f":"'LUC Houghton'!E46","v":65.247699999999995},{"$f":"'LUC Houghton'!F46","v":44.111899999999999},{"$f":"'LUC Houghton'!G46","v":16.897300000000001},{"$f":"'LUC Houghton'!H46","v":-1.4220000000000002},{"$f":"'LUC Houghton'!I46","v":57.082700000000003},{"$f":"'LUC Houghton'!J46","v":54.584900000000005},{"$f":"'LUC Houghton'!K46","v":157.4357},{"$f":"'LUC Houghton'!L46","v":20.503}]
[1895,{"$f":"'LUC Houghton'!B47","v":717.5},{"$f":"'LUC Houghton'!C47","v":288.68450000000001},{"$f":"'LUC Houghton'!D47","v":11.666600000000001},{"$f":"'LUC Houghton'!E47","v":63.6494},{"$f":"'LUC Houghton'!F47","v":44.305599999999998},{"$f":"'LUC Houghton'!G47","v":17.011800000000001},{"$f":"'LUC Houghton'!H47","v":-1.2556},{"$f":"'LUC Houghton'!I47","v":57.2074},{"$f":"'LUC Houghton'!J47","v":56.377400000000002},{"$f":"'LUC Houghton'!K47","v":159.15280000000001},{"$f":"'LUC Houghton'!L47","v":20.720400000000001}]
[1896,{"$f":"'LUC Houghton'!B48","v":719.4},{"$f":"'LUC Houghton'!C48","v":288.33860000000004},{"$f":"'LUC Houghton'!D48","v":11.587400000000001},{"$f":"'LUC Houghton'!E48","v":62.571100000000001},{"$f":"'LUC Houghton'!F48","v":44.495100000000001},{"$f":"'LUC Houghton'!G48","v":17.124199999999998},{"$f":"'LUC Houghton'!H48","v":-1.2784},{"$f":"'LUC Houghton'!I48","v":57.330100000000002},{"$f":"'LUC Houghton'!J48","v":58.080100000000002},{"$f":"'LUC Houghton'!K48","v":160.24870000000001},{"$f":"'LUC Houghton'!L48","v":20.934000000000001}]
[1897,{"$f":"'LUC Houghton'!B49","v":723},{"$f":"'LUC Houghton'!C49","v":289.24980000000005},{"$f":"'LUC Houghton'!D49","v":11.507099999999999},{"$f":"'LUC Houghton'!E49","v":61.747100000000003},{"$f":"'LUC Houghton'!F49","v":44.6798},{"$f":"'LUC Houghton'!G49","v":17.234500000000001},{"$f":"'LUC Houghton'!H49","v":-0.96089999999999998},{"$f":"'LUC Houghton'!I49","v":57.450200000000002},{"$f":"'LUC Houghton'!J49","v":59.7669},{"$f":"'LUC Houghton'!K49","v":161.14160000000001},{"$f":"'LUC Houghton'!L49","v":21.143799999999999}]
[1898,{"$f":"'LUC Houghton'!B50","v":724.5},{"$f":"'LUC Houghton'!C50","v":288.23639999999995},{"$f":"'LUC Houghton'!D50","v":11.426},{"$f":"'LUC Houghton'!E50","v":61.115499999999997},{"$f":"'LUC Houghton'!F50","v":44.858899999999998},{"$f":"'LUC Houghton'!G50","v":17.342700000000001},{"$f":"'LUC Houghton'!H50","v":-0.64339999999999997},{"$f":"'LUC Houghton'!I50","v":57.567700000000002},{"$f":"'LUC Houghton'!J50","v":61.365899999999996},{"$f":"'LUC Houghton'!K50","v":161.89529999999999},{"$f":"'LUC Houghton'!L50","v":21.349599999999999}]
[1899,{"$f":"'LUC Houghton'!B51","v":725.8},{"$f":"'LUC Houghton'!C51","v":287.23229999999995},{"$f":"'LUC Houghton'!D51","v":11.344099999999999},{"$f":"'LUC Houghton'!E51","v":60.63},{"$f":"'LUC Houghton'!F51","v":45.031799999999997},{"$f":"'LUC Houghton'!G51","v":17.448799999999999},{"$f":"'LUC Houghton'!H51","v":-0.55549999999999999},{"$f":"'LUC Houghton'!I51","v":57.682200000000002},{"$f":"'LUC Houghton'!J51","v":62.8962},{"$f":"'LUC Houghton'!K51","v":162.5557},{"$f":"'LUC Houghton'!L51","v":21.551400000000001}]
[1900,{"$f":"'LUC Houghton'!B52","v":726.9},{"$f":"'LUC Houghton'!C52","v":286.25290000000001},{"$f":"'LUC Houghton'!D52","v":11.2615},{"$f":"'LUC Houghton'!E52","v":60.256300000000003},{"$f":"'LUC Houghton'!F52","v":45.193199999999997},{"$f":"'LUC Houghton'!G52","v":17.552800000000001},{"$f":"'LUC Houghton'!H52","v":-0.67359999999999998},{"$f":"'LUC Houghton'!I52","v":57.793500000000002},{"$f":"'LUC Houghton'!J52","v":64.364199999999997},{"$f":"'LUC Houghton'!K52","v":163.14830000000001},{"$f":"'LUC Houghton'!L52","v":21.749099999999999}]
[1901,{"$f":"'LUC Houghton'!B53","v":792.8},{"$f":"'LUC Houghton'!C53","v":285.8526},{"$f":"'LUC Houghton'!D53","v":11.1945},{"$f":"'LUC Houghton'!E53","v":121.8006},{"$f":"'LUC Houghton'!F53","v":45.436599999999999},{"$f":"'LUC Houghton'!G53","v":20.067799999999998},{"$f":"'LUC Houghton'!H53","v":-0.79800000000000004},{"$f":"'LUC Houghton'!I53","v":57.901400000000002},{"$f":"'LUC Houghton'!J53","v":65.761800000000008},{"$f":"'LUC Houghton'!K53","v":163.50970000000001},{"$f":"'LUC Houghton'!L53","v":22.033899999999999}]
[1902,{"$f":"'LUC Houghton'!B54","v":796.8},{"$f":"'LUC Houghton'!C54","v":240.4008},{"$f":"'LUC Houghton'!D54","v":24.006799999999998},{"$f":"'LUC Houghton'!E54","v":139.4178},{"$f":"'LUC Houghton'!F54","v":45.700400000000002},{"$f":"'LUC Houghton'!G54","v":20.575199999999999},{"$f":"'LUC Houghton'!H54","v":-0.25760000000000005},{"$f":"'LUC Houghton'!I54","v":58.048499999999997},{"$f":"'LUC Houghton'!J54","v":82.726900000000001},{"$f":"'LUC Houghton'!K54","v":163.8322},{"$f":"'LUC Houghton'!L54","v":22.337700000000002}]
[1903,{"$f":"'LUC Houghton'!B55","v":825.9},{"$f":"'LUC Houghton'!C55","v":231.81569999999999},{"$f":"'LUC Houghton'!D55","v":26.804500000000001},{"$f":"'LUC Houghton'!E55","v":153.76159999999999},{"$f":"'LUC Houghton'!F55","v":45.982999999999997},{"$f":"'LUC Houghton'!G55","v":21.0383},{"$f":"'LUC Houghton'!H55","v":0.98509999999999998},{"$f":"'LUC Houghton'!I55","v":58.191600000000001},{"$f":"'LUC Houghton'!J55","v":100.5749},{"$f":"'LUC Houghton'!K55","v":164.12440000000001},{"$f":"'LUC Houghton'!L55","v":22.651}]
[1904,{"$f":"'LUC Houghton'!B56","v":852.4},{"$f":"'LUC Houghton'!C56","v":222.21190000000004},{"$f":"'LUC Houghton'!D56","v":29.494399999999999},{"$f":"'LUC Houghton'!E56","v":165.779},{"$f":"'LUC Houghton'!F56","v":46.282400000000003},{"$f":"'LUC Houghton'!G56","v":21.294},{"$f":"'LUC Houghton'!H56","v":2.6562999999999999},{"$f":"'LUC Houghton'!I56","v":58.330399999999997},{"$f":"'LUC Houghton'!J56","v":119.009},{"$f":"'LUC Houghton'!K56","v":164.3921},{"$f":"'LUC Houghton'!L56","v":22.9711}]
[1905,{"$f":"'LUC Houghton'!B57","v":878.5},{"$f":"'LUC Houghton'!C57","v":213.08420000000001},{"$f":"'LUC Houghton'!D57","v":32.095199999999998},{"$f":"'LUC Houghton'!E57","v":176.1182},{"$f":"'LUC Houghton'!F57","v":46.597099999999998},{"$f":"'LUC Houghton'!G57","v":21.521899999999999},{"$f":"'LUC Houghton'!H57","v":4.8254999999999999},{"$f":"'LUC Houghton'!I57","v":58.465200000000003},{"$f":"'LUC Houghton'!J57","v":137.90099999999998},{"$f":"'LUC Houghton'!K57","v":164.63890000000001},{"$f":"'LUC Houghton'!L57","v":23.295400000000001}]
[1906,{"$f":"'LUC Houghton'!B58","v":909.5},{"$f":"'LUC Houghton'!C58","v":205.85660000000001},{"$f":"'LUC Houghton'!D58","v":34.621400000000001},{"$f":"'LUC Houghton'!E58","v":180.8407},{"$f":"'LUC Houghton'!F58","v":46.925400000000003},{"$f":"'LUC Houghton'!G58","v":21.7165},{"$f":"'LUC Houghton'!H58","v":7.4460999999999995},{"$f":"'LUC Houghton'!I58","v":58.5916},{"$f":"'LUC Houghton'!J58","v":157.13120000000001},{"$f":"'LUC Houghton'!K58","v":172.78299999999999},{"$f":"'LUC Houghton'!L58","v":23.6175}]
[1907,{"$f":"'LUC Houghton'!B59","v":918.6},{"$f":"'LUC Houghton'!C59","v":198.49619999999999},{"$f":"'LUC Houghton'!D59","v":37.058100000000003},{"$f":"'LUC Houghton'!E59","v":184.68340000000001},{"$f":"'LUC Houghton'!F59","v":47.265900000000002},{"$f":"'LUC Houghton'!G59","v":21.891999999999999},{"$f":"'LUC Houghton'!H59","v":10.182499999999999},{"$f":"'LUC Houghton'!I59","v":58.586100000000002},{"$f":"'LUC Houghton'!J59","v":161.61009999999999},{"$f":"'LUC Houghton'!K59","v":174.8759},{"$f":"'LUC Houghton'!L59","v":23.936699999999998}]
[1908,{"$f":"'LUC Houghton'!B60","v":927.9},{"$f":"'LUC Houghton'!C60","v":193.32960000000003},{"$f":"'LUC Houghton'!D60","v":39.440300000000001},{"$f":"'LUC Houghton'!E60","v":187.86519999999999},{"$f":"'LUC Houghton'!F60","v":47.6173},{"$f":"'LUC Houghton'!G60","v":22.050899999999999},{"$f":"'LUC Houghton'!H60","v":12.928000000000001},{"$f":"'LUC Houghton'!I60","v":58.575800000000001},{"$f":"'LUC Houghton'!J60","v":165.48919999999998},{"$f":"'LUC Houghton'!K60","v":176.3878},{"$f":"'LUC Houghton'!L60","v":24.252600000000001}]
[1909,{"$f":"'LUC Houghton'!B61","v":935.3},{"$f":"'LUC Houghton'!C61","v":188.22579999999999},{"$f":"'LUC Houghton'!D61","v":41.775100000000002},{"$f":"'LUC Houghton'!E61","v":190.54159999999999},{"$f":"'LUC Houghton'!F61","v":47.978200000000001},{"$f":"'LUC Houghton'!G61","v":22.195399999999999},{"$f":"'LUC Houghton'!H61","v":15.543200000000001},{"$f":"'LUC Houghton'!I61","v":58.560499999999998},{"$f":"'LUC Houghton'!J61","v":168.39160000000001},{"$f":"'LUC Houghton'!K61","v":177.53270000000001},{"$f":"'LUC Houghton'!L61","v":24.564699999999998}]
[1910,{"$f":"'LUC Houghton'!B62","v":941},{"$f":"'LUC Houghton'!C62","v":183.0325},{"$f":"'LUC Houghton'!D62","v":44.068300000000001},{"$f":"'LUC Houghton'!E62","v":192.58750000000001},{"$f":"'LUC Houghton'!F62","v":48.3474},{"$f":"'LUC Houghton'!G62","v":22.327000000000002},{"$f":"'LUC Houghton'!H62","v":17.893599999999999},{"$f":"'LUC Houghton'!I62","v":58.5441},{"$f":"'LUC Houghton'!J62","v":170.9247},{"$f":"'LUC Houghton'!K62","v":178.4426},{"$f":"'LUC Houghton'!L62","v":24.872499999999999}]
[1911,{"$f":"'LUC Houghton'!B63","v":882.9},{"$f":"'LUC Houghton'!C63","v":178.79270000000005},{"$f":"'LUC Houghton'!D63","v":46.3245},{"$f":"'LUC Houghton'!E63","v":130.46379999999999},{"$f":"'LUC Houghton'!F63","v":48.72},{"$f":"'LUC Houghton'!G63","v":22.4772},{"$f":"'LUC Houghton'!H63","v":20.229499999999998},{"$f":"'LUC Houghton'!I63","v":58.526299999999999},{"$f":"'LUC Houghton'!J63","v":173.16420000000002},{"$f":"'LUC Houghton'!K63","v":179.0479},{"$f":"'LUC Houghton'!L63","v":25.149799999999999}]
[1912,{"$f":"'LUC Houghton'!B64","v":846.2},{"$f":"'LUC Houghton'!C64","v":153.4623},{"$f":"'LUC Houghton'!D64","v":48.589500000000001},{"$f":"'LUC Houghton'!E64","v":112.63},{"$f":"'LUC Houghton'!F64","v":49.095100000000002},{"$f":"'LUC Houghton'!G64","v":22.589700000000001},{"$f":"'LUC Houghton'!H64","v":22.6874},{"$f":"'LUC Houghton'!I64","v":58.508000000000003},{"$f":"'LUC Houghton'!J64","v":173.62520000000001},{"$f":"'LUC Houghton'!K64","v":179.5523},{"$f":"'LUC Houghton'!L64","v":25.4146}]
[1913,{"$f":"'LUC Houghton'!B65","v":815.9},{"$f":"'LUC Houghton'!C65","v":147.61099999999999},{"$f":"'LUC Houghton'!D65","v":50.7684},{"$f":"'LUC Houghton'!E65","v":97.963999999999999},{"$f":"'LUC Houghton'!F65","v":49.471899999999998},{"$f":"'LUC Houghton'!G65","v":22.694700000000001},{"$f":"'LUC Houghton'!H65","v":24.967399999999998},{"$f":"'LUC Houghton'!I65","v":63.683599999999998},{"$f":"'LUC Houghton'!J65","v":173.81189999999998},{"$f":"'LUC Houghton'!K65","v":159.21549999999999},{"$f":"'LUC Houghton'!L65","v":25.668199999999999}]
[1914,{"$f":"'LUC Houghton'!B66","v":804.8},{"$f":"'LUC Houghton'!C66","v":142.92510000000004},{"$f":"'LUC Houghton'!D66","v":52.923099999999998},{"$f":"'LUC Houghton'!E66","v":85.503100000000003},{"$f":"'LUC Houghton'!F66","v":49.849299999999999},{"$f":"'LUC Houghton'!G66","v":22.7928},{"$f":"'LUC Houghton'!H66","v":27.170500000000001},{"$f":"'LUC Houghton'!I66","v":65.234700000000004},{"$f":"'LUC Houghton'!J66","v":177.7884},{"$f":"'LUC Houghton'!K66","v":154.6764},{"$f":"'LUC Houghton'!L66","v":25.914899999999999}]
[1915,{"$f":"'LUC Houghton'!B67","v":793},{"$f":"'LUC Houghton'!C67","v":138.3415},{"$f":"'LUC Houghton'!D67","v":55.056100000000001},{"$f":"'LUC Houghton'!E67","v":74.594800000000006},{"$f":"'LUC Houghton'!F67","v":50.226500000000001},{"$f":"'LUC Houghton'!G67","v":22.884599999999999},{"$f":"'LUC Houghton'!H67","v":29.350200000000001},{"$f":"'LUC Houghton'!I67","v":66.588700000000003},{"$f":"'LUC Houghton'!J67","v":178.40790000000001},{"$f":"'LUC Houghton'!K67","v":151.40129999999999},{"$f":"'LUC Houghton'!L67","v":26.155100000000001}]
[1916,{"$f":"'LUC Houghton'!B68","v":795.1},{"$f":"'LUC Houghton'!C68","v":133.47180000000003},{"$f":"'LUC Houghton'!D68","v":57.169199999999996},{"$f":"'LUC Houghton'!E68","v":70.494200000000006},{"$f":"'LUC Houghton'!F68","v":50.6646},{"$f":"'LUC Houghton'!G68","v":22.930599999999998},{"$f":"'LUC Houghton'!H68","v":31.517099999999999},{"$f":"'LUC Houghton'!I68","v":67.893199999999993},{"$f":"'LUC Houghton'!J68","v":178.7551},{"$f":"'LUC Houghton'!K68","v":155.83580000000001},{"$f":"'LUC Houghton'!L68","v":26.3889}]
[1917,{"$f":"'LUC Houghton'!B69","v":798.2},{"$f":"'LUC Houghton'!C69","v":129.99330000000003},{"$f":"'LUC Houghton'!D69","v":57.771000000000001},{"$f":"'LUC Houghton'!E69","v":67.194199999999995},{"$f":"'LUC Houghton'!F69","v":51.094099999999997},{"$f":"'LUC Houghton'!G69","v":22.971299999999999},{"$f":"'LUC Houghton'!H69","v":34.107100000000003},{"$f":"'LUC Houghton'!I69","v":69.206299999999999},{"$f":"'LUC Houghton'!J69","v":183.73600000000002},{"$f":"'LUC Houghton'!K69","v":155.50399999999999},{"$f":"'LUC Houghton'!L69","v":26.616499999999998}]
[1918,{"$f":"'LUC Houghton'!B70","v":801.4},{"$f":"'LUC Houghton'!C70","v":126.13820000000004},{"$f":"'LUC Houghton'!D70","v":58.356400000000001},{"$f":"'LUC Houghton'!E70","v":64.481899999999996},{"$f":"'LUC Houghton'!F70","v":51.514299999999999},{"$f":"'LUC Houghton'!G70","v":23.007100000000001},{"$f":"'LUC Houghton'!H70","v":36.425600000000003},{"$f":"'LUC Houghton'!I70","v":70.485200000000006},{"$f":"'LUC Houghton'!J70","v":188.77119999999999},{"$f":"'LUC Houghton'!K70","v":155.3742},{"$f":"'LUC Houghton'!L70","v":26.837800000000001}]
[1919,{"$f":"'LUC Houghton'!B71","v":807.1},{"$f":"'LUC Houghton'!C71","v":124.44660000000002},{"$f":"'LUC Houghton'!D71","v":58.926699999999997},{"$f":"'LUC Houghton'!E71","v":62.208300000000001},{"$f":"'LUC Houghton'!F71","v":51.924500000000002},{"$f":"'LUC Houghton'!G71","v":23.029800000000002},{"$f":"'LUC Houghton'!H71","v":38.730999999999995},{"$f":"'LUC Houghton'!I71","v":71.757400000000004},{"$f":"'LUC Houghton'!J71","v":193.85429999999999},{"$f":"'LUC Houghton'!K71","v":155.1679},{"$f":"'LUC Houghton'!L71","v":27.052900000000001}]
[1920,{"$f":"'LUC Houghton'!B72","v":808.8},{"$f":"'LUC Houghton'!C72","v":118.607},{"$f":"'LUC Houghton'!D72","v":59.4833},{"$f":"'LUC Houghton'!E72","v":60.034500000000001},{"$f":"'LUC Houghton'!F72","v":52.323999999999998},{"$f":"'LUC Houghton'!G72","v":23.048300000000001},{"$f":"'LUC Houghton'!H72","v":41.086500000000001},{"$f":"'LUC Houghton'!I72","v":73.055899999999994},{"$f":"'LUC Houghton'!J72","v":198.95840000000001},{"$f":"'LUC Houghton'!K72","v":154.9375},{"$f":"'LUC Houghton'!L72","v":27.261600000000001}]
[1921,{"$f":"'LUC Houghton'!B73","v":856.7},{"$f":"'LUC Houghton'!C73","v":112.45820000000003},{"$f":"'LUC Houghton'!D73","v":60.027200000000001},{"$f":"'LUC Houghton'!E73","v":104.7568},{"$f":"'LUC Houghton'!F73","v":52.769199999999998},{"$f":"'LUC Houghton'!G73","v":23.0627},{"$f":"'LUC Houghton'!H73","v":43.038899999999998},{"$f":"'LUC Houghton'!I73","v":74.384799999999998},{"$f":"'LUC Houghton'!J73","v":204.06010000000001},{"$f":"'LUC Houghton'!K73","v":154.613},{"$f":"'LUC Houghton'!L73","v":27.572900000000001}]
[1922,{"$f":"'LUC Houghton'!B74","v":849.1},{"$f":"'LUC Houghton'!C74","v":85.477200000000011},{"$f":"'LUC Houghton'!D74","v":60.564399999999999},{"$f":"'LUC Houghton'!E74","v":117.2792},{"$f":"'LUC Houghton'!F74","v":53.202100000000002},{"$f":"'LUC Houghton'!G74","v":23.073499999999999},{"$f":"'LUC Houghton'!H74","v":44.885700000000007},{"$f":"'LUC Houghton'!I74","v":75.747100000000003},{"$f":"'LUC Houghton'!J74","v":206.74719999999999},{"$f":"'LUC Houghton'!K74","v":154.29939999999999},{"$f":"'LUC Houghton'!L74","v":27.792100000000001}]
[1923,{"$f":"'LUC Houghton'!B75","v":857},{"$f":"'LUC Houghton'!C75","v":76.428000000000054},{"$f":"'LUC Houghton'!D75","v":61.090699999999998},{"$f":"'LUC Houghton'!E75","v":127.4191},{"$f":"'LUC Houghton'!F75","v":53.622399999999999},{"$f":"'LUC Houghton'!G75","v":23.0809},{"$f":"'LUC Houghton'!H75","v":46.694899999999997},{"$f":"'LUC Houghton'!I75","v":77.056600000000003},{"$f":"'LUC Houghton'!J75","v":209.23090000000002},{"$f":"'LUC Houghton'!K75","v":154.38319999999999},{"$f":"'LUC Houghton'!L75","v":27.9986}]
[1924,{"$f":"'LUC Houghton'!B76","v":862.7},{"$f":"'LUC Houghton'!C76","v":67.198200000000014},{"$f":"'LUC Houghton'!D76","v":61.606999999999999},{"$f":"'LUC Houghton'!E76","v":135.92850000000001},{"$f":"'LUC Houghton'!F76","v":54.029400000000003},{"$f":"'LUC Houghton'!G76","v":23.085000000000001},{"$f":"'LUC Houghton'!H76","v":48.174600000000005},{"$f":"'LUC Houghton'!I76","v":78.403499999999994},{"$f":"'LUC Houghton'!J76","v":211.59010000000001},{"$f":"'LUC Houghton'!K76","v":154.4794},{"$f":"'LUC Houghton'!L76","v":28.177099999999999}]
[1925,{"$f":"'LUC Houghton'!B77","v":865.6},{"$f":"'LUC Houghton'!C77","v":56.471600000000073},{"$f":"'LUC Houghton'!D77","v":62.113999999999997},{"$f":"'LUC Houghton'!E77","v":143.30889999999999},{"$f":"'LUC Houghton'!F77","v":54.422600000000003},{"$f":"'LUC Houghton'!G77","v":23.086099999999998},{"$f":"'LUC Houghton'!H77","v":49.608699999999999},{"$f":"'LUC Houghton'!I77","v":79.782799999999995},{"$f":"'LUC Houghton'!J77","v":213.84950000000001},{"$f":"'LUC Houghton'!K77","v":154.58619999999999},{"$f":"'LUC Houghton'!L77","v":28.346499999999999}]
[1926,{"$f":"'LUC Houghton'!B78","v":870.5},{"$f":"'LUC Houghton'!C78","v":49.815300000000008},{"$f":"'LUC Houghton'!D78","v":62.612299999999998},{"$f":"'LUC Houghton'!E78","v":145.38149999999999},{"$f":"'LUC Houghton'!F78","v":54.084499999999998},{"$f":"'LUC Houghton'!G78","v":31.703199999999999},{"$f":"'LUC Houghton'!H78","v":50.983600000000003},{"$f":"'LUC Houghton'!I78","v":81.195499999999996},{"$f":"'LUC Houghton'!J78","v":216.0317},{"$f":"'LUC Houghton'!K78","v":150.10509999999999},{"$f":"'LUC Houghton'!L78","v":28.574000000000002}]
[1927,{"$f":"'LUC Houghton'!B79","v":909.7},{"$f":"'LUC Houghton'!C79","v":93.159300000000016},{"$f":"'LUC Houghton'!D79","v":52.639400000000002},{"$f":"'LUC Houghton'!E79","v":146.9751},{"$f":"'LUC Houghton'!F79","v":53.624699999999997},{"$f":"'LUC Houghton'!G79","v":33.630099999999999},{"$f":"'LUC Houghton'!H79","v":52.302400000000006},{"$f":"'LUC Houghton'!I79","v":82.530900000000003},{"$f":"'LUC Houghton'!J79","v":216.91460000000001},{"$f":"'LUC Houghton'!K79","v":149.15790000000001},{"$f":"'LUC Houghton'!L79","v":28.8094}]
[1928,{"$f":"'LUC Houghton'!B80","v":913},{"$f":"'LUC Houghton'!C80","v":92.942199999999957},{"$f":"'LUC Houghton'!D80","v":50.956699999999998},{"$f":"'LUC Houghton'!E80","v":148.14599999999999},{"$f":"'LUC Houghton'!F80","v":53.048099999999998},{"$f":"'LUC Houghton'!G80","v":35.356699999999996},{"$f":"'LUC Houghton'!H80","v":54.067500000000003},{"$f":"'LUC Houghton'!I80","v":83.099000000000004},{"$f":"'LUC Houghton'!J80","v":217.75479999999999},{"$f":"'LUC Houghton'!K80","v":148.56899999999999},{"$f":"'LUC Houghton'!L80","v":29.051600000000001}]
[1929,{"$f":"'LUC Houghton'!B81","v":940},{"$f":"'LUC Houghton'!C81","v":116.97139999999997},{"$f":"'LUC Houghton'!D81","v":49.356200000000001},{"$f":"'LUC Houghton'!E81","v":148.99170000000001},{"$f":"'LUC Houghton'!F81","v":52.359000000000002},{"$f":"'LUC Houghton'!G81","v":35.792000000000002},{"$f":"'LUC Houghton'!H81","v":55.8185},{"$f":"'LUC Houghton'!I81","v":83.699299999999994},{"$f":"'LUC Houghton'!J81","v":219.50389999999999},{"$f":"'LUC Houghton'!K81","v":148.2114},{"$f":"'LUC Houghton'!L81","v":29.2959}]
[1930,{"$f":"'LUC Houghton'!B82","v":1018.1},{"$f":"'LUC Houghton'!C82","v":191.67779999999996},{"$f":"'LUC Houghton'!D82","v":47.822099999999999},{"$f":"'LUC Houghton'!E82","v":150.05019999999999},{"$f":"'LUC Houghton'!F82","v":51.561799999999998},{"$f":"'LUC Houghton'!G82","v":36.123199999999997},{"$f":"'LUC Houghton'!H82","v":57.383499999999998},{"$f":"'LUC Houghton'!I82","v":84.302199999999999},{"$f":"'LUC Houghton'!J82","v":221.6063},{"$f":"'LUC Houghton'!K82","v":148.0027},{"$f":"'LUC Houghton'!L82","v":29.541799999999999}]
[1931,{"$f":"'LUC Houghton'!B83","v":1028.7},{"$f":"'LUC Houghton'!C83","v":187.62670000000003},{"$f":"'LUC Houghton'!D83","v":46.342199999999998},{"$f":"'LUC Houghton'!E83","v":161.8485},{"$f":"'LUC Houghton'!F83","v":50.658799999999999},{"$f":"'LUC Houghton'!G83","v":36.744399999999999},{"$f":"'LUC Houghton'!H83","v":59.117399999999996},{"$f":"'LUC Houghton'!I83","v":84.907700000000006},{"$f":"'LUC Houghton'!J83","v":223.66669999999999},{"$f":"'LUC Houghton'!K83","v":147.97069999999999},{"$f":"'LUC Houghton'!L83","v":29.788699999999999}]
[1932,{"$f":"'LUC Houghton'!B84","v":930.8},{"$f":"'LUC Houghton'!C84","v":84.959099999999978},{"$f":"'LUC Houghton'!D84","v":44.906799999999997},{"$f":"'LUC Houghton'!E84","v":165.04990000000001},{"$f":"'LUC Houghton'!F84","v":49.6554},{"$f":"'LUC Houghton'!G84","v":37.305500000000002},{"$f":"'LUC Houghton'!H84","v":60.776899999999998},{"$f":"'LUC Houghton'!I84","v":85.519900000000007},{"$f":"'LUC Houghton'!J84","v":224.5684},{"$f":"'LUC Houghton'!K84","v":147.9992},{"$f":"'LUC Houghton'!L84","v":30.036300000000001}]
[1933,{"$f":"'LUC Houghton'!B85","v":927.6},{"$f":"'LUC Houghton'!C85","v":77.438600000000037},{"$f":"'LUC Houghton'!D85","v":43.508400000000002},{"$f":"'LUC Houghton'!E85","v":167.5446},{"$f":"'LUC Houghton'!F85","v":48.555100000000003},{"$f":"'LUC Houghton'!G85","v":37.820900000000002},{"$f":"'LUC Houghton'!H85","v":62.790799999999997},{"$f":"'LUC Houghton'!I85","v":86.147400000000005},{"$f":"'LUC Houghton'!J85","v":225.41080000000002},{"$f":"'LUC Houghton'!K85","v":148.06540000000001},{"$f":"'LUC Houghton'!L85","v":30.284099999999999}]
[1934,{"$f":"'LUC Houghton'!B86","v":915.3},{"$f":"'LUC Houghton'!C86","v":70.173400000000072},{"$f":"'LUC Houghton'!D86","v":42.140900000000002},{"$f":"'LUC Houghton'!E86","v":169.50749999999999},{"$f":"'LUC Houghton'!F86","v":47.361199999999997},{"$f":"'LUC Houghton'!G86","v":38.300800000000002},{"$f":"'LUC Houghton'!H86","v":64.656599999999997},{"$f":"'LUC Houghton'!I86","v":84.553200000000004},{"$f":"'LUC Houghton'!J86","v":219.96420000000001},{"$f":"'LUC Houghton'!K86","v":148.1542},{"$f":"'LUC Houghton'!L86","v":30.532}]
[1935,{"$f":"'LUC Houghton'!B87","v":913.7},{"$f":"'LUC Houghton'!C87","v":67.805399999999992},{"$f":"'LUC Houghton'!D87","v":40.799199999999999},{"$f":"'LUC Houghton'!E87","v":171.0651},{"$f":"'LUC Houghton'!F87","v":46.076900000000002},{"$f":"'LUC Houghton'!G87","v":38.752899999999997},{"$f":"'LUC Houghton'!H87","v":67.529300000000006},{"$f":"'LUC Houghton'!I87","v":82.8035},{"$f":"'LUC Houghton'!J87","v":219.8235},{"$f":"'LUC Houghton'!K87","v":148.25550000000001},{"$f":"'LUC Houghton'!L87","v":30.779499999999999}]
[1936,{"$f":"'LUC Houghton'!B88","v":922},{"$f":"'LUC Houghton'!C88","v":59.382700000000007},{"$f":"'LUC Houghton'!D88","v":39.479300000000002},{"$f":"'LUC Houghton'!E88","v":172.77799999999999},{"$f":"'LUC Houghton'!F88","v":44.758200000000002},{"$f":"'LUC Houghton'!G88","v":39.180100000000003},{"$f":"'LUC Houghton'!H88","v":69.212299999999999},{"$f":"'LUC Houghton'!I88","v":80.899299999999997},{"$f":"'LUC Houghton'!J88","v":219.75359999999998},{"$f":"'LUC Houghton'!K88","v":165.49440000000001},{"$f":"'LUC Houghton'!L88","v":31.023800000000001}]
[1937,{"$f":"'LUC Houghton'!B89","v":899.3},{"$f":"'LUC Houghton'!C89","v":32.833099999999973},{"$f":"'LUC Houghton'!D89","v":38.177999999999997},{"$f":"'LUC Houghton'!E89","v":174.6317},{"$f":"'LUC Houghton'!F89","v":43.403100000000002},{"$f":"'LUC Houghton'!G89","v":39.586599999999997},{"$f":"'LUC Houghton'!H89","v":71.1387},{"$f":"'LUC Houghton'!I89","v":78.841999999999999},{"$f":"'LUC Houghton'!J89","v":219.74290000000002},{"$f":"'LUC Houghton'!K89","v":169.71369999999999},{"$f":"'LUC Houghton'!L89","v":31.264500000000002}]
[1938,{"$f":"'LUC Houghton'!B90","v":902.4},{"$f":"'LUC Houghton'!C90","v":33.375299999999996},{"$f":"'LUC Houghton'!D90","v":36.892400000000002},{"$f":"'LUC Houghton'!E90","v":176.29669999999999},{"$f":"'LUC Houghton'!F90","v":42.014299999999999},{"$f":"'LUC Houghton'!G90","v":39.9756},{"$f":"'LUC Houghton'!H90","v":73.046500000000009},{"$f":"'LUC Houghton'!I90","v":76.688100000000006},{"$f":"'LUC Houghton'!J90","v":219.7764},{"$f":"'LUC Houghton'!K90","v":172.84270000000001},{"$f":"'LUC Houghton'!L90","v":31.5016}]
[1939,{"$f":"'LUC Houghton'!B91","v":900.5},{"$f":"'LUC Houghton'!C91","v":29.502999999999986},{"$f":"'LUC Houghton'!D91","v":35.620100000000001},{"$f":"'LUC Houghton'!E91","v":177.81100000000001},{"$f":"'LUC Houghton'!F91","v":40.594200000000001},{"$f":"'LUC Houghton'!G91","v":40.349299999999999},{"$f":"'LUC Houghton'!H91","v":75.330399999999997},{"$f":"'LUC Houghton'!I91","v":74.512900000000002},{"$f":"'LUC Houghton'!J91","v":219.7679},{"$f":"'LUC Houghton'!K91","v":175.23490000000001},{"$f":"'LUC Houghton'!L91","v":31.7348}]
[1940,{"$f":"'LUC Houghton'!B92","v":887.5},{"$f":"'LUC Houghton'!C92","v":16.48799999999996},{"$f":"'LUC Houghton'!D92","v":34.359200000000001},{"$f":"'LUC Houghton'!E92","v":179.20320000000001},{"$f":"'LUC Houghton'!F92","v":39.145099999999999},{"$f":"'LUC Houghton'!G92","v":40.709800000000001},{"$f":"'LUC Houghton'!H92","v":77.550599999999989},{"$f":"'LUC Houghton'!I92","v":71.146199999999993},{"$f":"'LUC Houghton'!J92","v":219.78259999999997},{"$f":"'LUC Houghton'!K92","v":177.1276},{"$f":"'LUC Houghton'!L92","v":31.963899999999999}]
[1941,{"$f":"'LUC Houghton'!B93","v":870.2},{"$f":"'LUC Houghton'!C93","v":14.980199999999989},{"$f":"'LUC Houghton'!D93","v":33.107999999999997},{"$f":"'LUC Houghton'!E93","v":177.8057},{"$f":"'LUC Houghton'!F93","v":37.6905},{"$f":"'LUC Houghton'!G93","v":41.034300000000002},{"$f":"'LUC Houghton'!H93","v":79.532600000000002},{"$f":"'LUC Houghton'!I93","v":54.421100000000003},{"$f":"'LUC Houghton'!J93","v":219.81390000000002},{"$f":"'LUC Houghton'!K93","v":179.6268},{"$f":"'LUC Houghton'!L93","v":32.188699999999997}]
[1942,{"$f":"'LUC Houghton'!B94","v":891.3},{"$f":"'LUC Houghton'!C94","v":27.559400000000029},{"$f":"'LUC Houghton'!D94","v":33.094900000000003},{"$f":"'LUC Houghton'!E94","v":177.26609999999999},{"$f":"'LUC Houghton'!F94","v":36.232599999999998},{"$f":"'LUC Houghton'!G94","v":41.348599999999998},{"$f":"'LUC Houghton'!H94","v":81.747},{"$f":"'LUC Houghton'!I94","v":47.512799999999999},{"$f":"'LUC Houghton'!J94","v":231.90719999999999},{"$f":"'LUC Houghton'!K94","v":182.1978},{"$f":"'LUC Houghton'!L94","v":32.409199999999998}]
[1943,{"$f":"'LUC Houghton'!B95","v":886.4},{"$f":"'LUC Houghton'!C95","v":13.218099999999971},{"$f":"'LUC Houghton'!D95","v":33.088700000000003},{"$f":"'LUC Houghton'!E95","v":176.86670000000001},{"$f":"'LUC Houghton'!F95","v":34.773099999999999},{"$f":"'LUC Houghton'!G95","v":41.653500000000001},{"$f":"'LUC Houghton'!H95","v":84.034899999999993},{"$f":"'LUC Houghton'!I95","v":40.835799999999999},{"$f":"'LUC Houghton'!J95","v":244.60399999999998},{"$f":"'LUC Houghton'!K95","v":184.71969999999999},{"$f":"'LUC Houghton'!L95","v":32.625}]
[1944,{"$f":"'LUC Houghton'!B96","v":892.3},{"$f":"'LUC Houghton'!C96","v":8.9795999999999836},{"$f":"'LUC Houghton'!D96","v":33.088099999999997},{"$f":"'LUC Houghton'!E96","v":176.6292},{"$f":"'LUC Houghton'!F96","v":33.314},{"$f":"'LUC Houghton'!G96","v":41.893500000000003},{"$f":"'LUC Houghton'!H96","v":86.347999999999999},{"$f":"'LUC Houghton'!I96","v":34.353499999999997},{"$f":"'LUC Houghton'!J96","v":257.7192},{"$f":"'LUC Houghton'!K96","v":187.18010000000001},{"$f":"'LUC Houghton'!L96","v":32.836199999999998}]
[1945,{"$f":"'LUC Houghton'!B97","v":894.1},{"$f":"'LUC Houghton'!C97","v":0.12940000000004304},{"$f":"'LUC Houghton'!D97","v":33.092100000000002},{"$f":"'LUC Houghton'!E97","v":176.39},{"$f":"'LUC Houghton'!F97","v":31.857199999999999},{"$f":"'LUC Houghton'!G97","v":42.125599999999999},{"$f":"'LUC Houghton'!H97","v":88.6447},{"$f":"'LUC Houghton'!I97","v":28.0367},{"$f":"'LUC Houghton'!J97","v":271.16250000000002},{"$f":"'LUC Houghton'!K97","v":189.57390000000001},{"$f":"'LUC Houghton'!L97","v":33.042499999999997}]
[1946,{"$f":"'LUC Houghton'!B98","v":976.9},{"$f":"'LUC Houghton'!C98","v":-4.8479000000000561},{"$f":"'LUC Houghton'!D98","v":33.099800000000002},{"$f":"'LUC Houghton'!E98","v":179.40219999999999},{"$f":"'LUC Houghton'!F98","v":30.4041},{"$f":"'LUC Houghton'!G98","v":42.345500000000001},{"$f":"'LUC Houghton'!H98","v":91.204599999999999},{"$f":"'LUC Houghton'!I98","v":24.028700000000001},{"$f":"'LUC Houghton'!J98","v":284.8639},{"$f":"'LUC Houghton'!K98","v":263.14229999999998},{"$f":"'LUC Houghton'!L98","v":33.2438}]
[1947,{"$f":"'LUC Houghton'!B99","v":1008.9},{"$f":"'LUC Houghton'!C99","v":5.9297999999999718},{"$f":"'LUC Houghton'!D99","v":32.911900000000003},{"$f":"'LUC Houghton'!E99","v":182.49770000000001},{"$f":"'LUC Houghton'!F99","v":28.956399999999999},{"$f":"'LUC Houghton'!G99","v":42.558599999999998},{"$f":"'LUC Houghton'!H99","v":93.538600000000002},{"$f":"'LUC Houghton'!I99","v":20.4267},{"$f":"'LUC Houghton'!J99","v":286.94659999999999},{"$f":"'LUC Houghton'!K99","v":281.65539999999999},{"$f":"'LUC Houghton'!L99","v":33.440100000000001}]
[1948,{"$f":"'LUC Houghton'!B100","v":1015.8},{"$f":"'LUC Houghton'!C100","v":-5.2067999999999781},{"$f":"'LUC Houghton'!D100","v":32.726100000000002},{"$f":"'LUC Houghton'!E100","v":185.78919999999999},{"$f":"'LUC Houghton'!F100","v":27.515599999999999},{"$f":"'LUC Houghton'!G100","v":42.765500000000003},{"$f":"'LUC Houghton'!H100","v":97.342299999999994},{"$f":"'LUC Houghton'!I100","v":17.178799999999999},{"$f":"'LUC Houghton'!J100","v":288.68939999999998},{"$f":"'LUC Houghton'!K100","v":295.39879999999999},{"$f":"'LUC Houghton'!L100","v":33.631100000000004}]
[1949,{"$f":"'LUC Houghton'!B101","v":1024.9000000000001},{"$f":"'LUC Houghton'!C101","v":-10.570600000000006},{"$f":"'LUC Houghton'!D101","v":32.541699999999999},{"$f":"'LUC Houghton'!E101","v":189.23689999999999},{"$f":"'LUC Houghton'!F101","v":26.082999999999998},{"$f":"'LUC Houghton'!G101","v":42.9664},{"$f":"'LUC Houghton'!H101","v":101.1581},{"$f":"'LUC Houghton'!I101","v":14.305300000000001},{"$f":"'LUC Houghton'!J101","v":290.24399999999997},{"$f":"'LUC Houghton'!K101","v":305.11799999999999},{"$f":"'LUC Houghton'!L101","v":33.816800000000001}]
[1950,{"$f":"'LUC Houghton'!B102","v":1037.3},{"$f":"'LUC Houghton'!C102","v":-11.380999999999966},{"$f":"'LUC Houghton'!D102","v":32.358199999999997},{"$f":"'LUC Houghton'!E102","v":192.7775},{"$f":"'LUC Houghton'!F102","v":24.6601},{"$f":"'LUC Houghton'!G102","v":43.161799999999999},{"$f":"'LUC Houghton'!H102","v":105.1777},{"$f":"'LUC Houghton'!I102","v":13.082100000000001},{"$f":"'LUC Houghton'!J102","v":290.1121},{"$f":"'LUC Houghton'!K102","v":313.38940000000002},{"$f":"'LUC Houghton'!L102","v":33.997}]
[1951,{"$f":"'LUC Houghton'!B103","v":1258.3},{"$f":"'LUC Houghton'!C103","v":3.2320999999999458},{"$f":"'LUC Houghton'!D103","v":32.165500000000002},{"$f":"'LUC Houghton'!E103","v":251.684},{"$f":"'LUC Houghton'!F103","v":23.528700000000001},{"$f":"'LUC Houghton'!G103","v":34.396999999999998},{"$f":"'LUC Houghton'!H103","v":109.25650000000002},{"$f":"'LUC Houghton'!I103","v":126.9132},{"$f":"'LUC Houghton'!J103","v":289.81709999999998},{"$f":"'LUC Houghton'!K103","v":319.79750000000001},{"$f":"'LUC Houghton'!L103","v":67.514899999999997}]
[1952,{"$f":"'LUC Houghton'!B104","v":1284.7},{"$f":"'LUC Houghton'!C104","v":-42.045200000000037},{"$f":"'LUC Houghton'!D104","v":32.854199999999999},{"$f":"'LUC Houghton'!E104","v":270.4083},{"$f":"'LUC Houghton'!F104","v":22.546199999999999},{"$f":"'LUC Houghton'!G104","v":32.636499999999998},{"$f":"'LUC Houghton'!H104","v":105.88390000000001},{"$f":"'LUC Houghton'!I104","v":149.64179999999999},{"$f":"'LUC Houghton'!J104","v":308.0985},{"$f":"'LUC Houghton'!K104","v":327.76049999999998},{"$f":"'LUC Houghton'!L104","v":76.878500000000003}]
[1953,{"$f":"'LUC Houghton'!B105","v":1280.9000000000001},{"$f":"'LUC Houghton'!C105","v":-66.296699999999987},{"$f":"'LUC Houghton'!D105","v":32.612299999999998},{"$f":"'LUC Houghton'!E105","v":285.79570000000001},{"$f":"'LUC Houghton'!F105","v":21.707000000000001},{"$f":"'LUC Houghton'!G105","v":30.8325},{"$f":"'LUC Houghton'!H105","v":108.93900000000001},{"$f":"'LUC Houghton'!I105","v":171.48429999999999},{"$f":"'LUC Houghton'!J105","v":327.0376},{"$f":"'LUC Houghton'!K105","v":284.30200000000002},{"$f":"'LUC Houghton'!L105","v":84.515000000000001}]
[1954,{"$f":"'LUC Houghton'!B106","v":1335},{"$f":"'LUC Houghton'!C106","v":-64.405600000000021},{"$f":"'LUC Houghton'!D106","v":32.367600000000003},{"$f":"'LUC Houghton'!E106","v":298.68439999999998},{"$f":"'LUC Houghton'!F106","v":21.005700000000001},{"$f":"'LUC Houghton'!G106","v":28.610600000000002},{"$f":"'LUC Houghton'!H106","v":111.9529},{"$f":"'LUC Houghton'!I106","v":192.66640000000001},{"$f":"'LUC Houghton'!J106","v":346.49160000000001},{"$f":"'LUC Houghton'!K106","v":280.99970000000002},{"$f":"'LUC Houghton'!L106","v":86.588300000000004}]
[1955,{"$f":"'LUC Houghton'!B107","v":1379.5},{"$f":"'LUC Houghton'!C107","v":-73.621499999999997},{"$f":"'LUC Houghton'!D107","v":32.121299999999998},{"$f":"'LUC Houghton'!E107","v":309.82310000000001},{"$f":"'LUC Houghton'!F107","v":20.437200000000001},{"$f":"'LUC Houghton'!G107","v":26.3933},{"$f":"'LUC Houghton'!H107","v":115.2903},{"$f":"'LUC Houghton'!I107","v":213.74680000000001},{"$f":"'LUC Houghton'!J107","v":366.3485},{"$f":"'LUC Houghton'!K107","v":281.03640000000001},{"$f":"'LUC Houghton'!L107","v":87.918400000000005}]
[1956,{"$f":"'LUC Houghton'!B108","v":1438.9},{"$f":"'LUC Houghton'!C108","v":-65.491999999999976},{"$f":"'LUC Houghton'!D108","v":31.872699999999998},{"$f":"'LUC Houghton'!E108","v":316.47370000000001},{"$f":"'LUC Houghton'!F108","v":19.9971},{"$f":"'LUC Houghton'!G108","v":25.707999999999998},{"$f":"'LUC Houghton'!H108","v":118.5831},{"$f":"'LUC Houghton'!I108","v":236.1473},{"$f":"'LUC Houghton'!J108","v":386.51280000000003},{"$f":"'LUC Houghton'!K108","v":280.35320000000002},{"$f":"'LUC Houghton'!L108","v":88.756500000000003}]
[1957,{"$f":"'LUC Houghton'!B109","v":1469.1},{"$f":"'LUC Houghton'!C109","v":-68.002299999999991},{"$f":"'LUC Houghton'!D109","v":31.6218},{"$f":"'LUC Houghton'!E109","v":322.0027},{"$f":"'LUC Houghton'!F109","v":19.680900000000001},{"$f":"'LUC Houghton'!G109","v":25.0441},{"$f":"'LUC Houghton'!H109","v":121.96690000000001},{"$f":"'LUC Houghton'!I109","v":258.24740000000003},{"$f":"'LUC Houghton'!J109","v":388.58159999999998},{"$f":"'LUC Houghton'!K109","v":280.66649999999998},{"$f":"'LUC Houghton'!L109","v":89.257999999999996}]
[1958,{"$f":"'LUC Houghton'!B110","v":1520.8},{"$f":"'LUC Houghton'!C110","v":-32.984699999999968},{"$f":"'LUC Houghton'!D110","v":31.369299999999999},{"$f":"'LUC Houghton'!E110","v":326.66719999999998},{"$f":"'LUC Houghton'!F110","v":19.4847},{"$f":"'LUC Houghton'!G110","v":24.405100000000001},{"$f":"'LUC Houghton'!H110","v":124.75830000000001},{"$f":"'LUC Houghton'!I110","v":279.95209999999997},{"$f":"'LUC Houghton'!J110","v":381.74259999999998},{"$f":"'LUC Houghton'!K110","v":275.8913},{"$f":"'LUC Houghton'!L110","v":89.523399999999995}]
[1959,{"$f":"'LUC Houghton'!B111","v":1397.8},{"$f":"'LUC Houghton'!C111","v":-71.765599999999978},{"$f":"'LUC Houghton'!D111","v":31.115600000000001},{"$f":"'LUC Houghton'!E111","v":330.71249999999998},{"$f":"'LUC Houghton'!F111","v":19.404800000000002},{"$f":"'LUC Houghton'!G111","v":23.792400000000001},{"$f":"'LUC Houghton'!H111","v":127.643},{"$f":"'LUC Houghton'!I111","v":208.34129999999999},{"$f":"'LUC Houghton'!J111","v":362.12009999999998},{"$f":"'LUC Houghton'!K111","v":276.80560000000003},{"$f":"'LUC Houghton'!L111","v":89.618700000000004}]
[1960,{"$f":"'LUC Houghton'!B112","v":1385.8},{"$f":"'LUC Houghton'!C112","v":-74.892399999999981},{"$f":"'LUC Houghton'!D112","v":30.8611},{"$f":"'LUC Houghton'!E112","v":334.29079999999999},{"$f":"'LUC Houghton'!F112","v":19.437799999999999},{"$f":"'LUC Houghton'!G112","v":23.206099999999999},{"$f":"'LUC Houghton'!H112","v":130.46209999999999},{"$f":"'LUC Houghton'!I112","v":210.886},{"$f":"'LUC Houghton'!J112","v":343.0883},{"$f":"'LUC Houghton'!K112","v":278.8759},{"$f":"'LUC Houghton'!L112","v":89.587800000000001}]
[1961,{"$f":"'LUC Houghton'!B113","v":1463.9},{"$f":"'LUC Houghton'!C113","v":-88.535199999999975},{"$f":"'LUC Houghton'!D113","v":30.606100000000001},{"$f":"'LUC Houghton'!E113","v":449.58460000000002},{"$f":"'LUC Houghton'!F113","v":16.696999999999999},{"$f":"'LUC Houghton'!G113","v":22.6358},{"$f":"'LUC Houghton'!H113","v":132.71790000000001},{"$f":"'LUC Houghton'!I113","v":205.2209},{"$f":"'LUC Houghton'!J113","v":323.08070000000004},{"$f":"'LUC Houghton'!K113","v":282.40359999999998},{"$f":"'LUC Houghton'!L113","v":89.476200000000006}]
[1962,{"$f":"'LUC Houghton'!B114","v":1460},{"$f":"'LUC Houghton'!C114","v":-86.237300000000047},{"$f":"'LUC Houghton'!D114","v":30.709199999999999},{"$f":"'LUC Houghton'!E114","v":484.3614},{"$f":"'LUC Houghton'!F114","v":16.318200000000001},{"$f":"'LUC Houghton'!G114","v":22.083100000000002},{"$f":"'LUC Houghton'!H114","v":133.62599999999998},{"$f":"'LUC Houghton'!I114","v":201.86840000000001},{"$f":"'LUC Houghton'!J114","v":296.16329999999999},{"$f":"'LUC Houghton'!K114","v":271.75560000000002},{"$f":"'LUC Houghton'!L114","v":89.304599999999994}]
[1963,{"$f":"'LUC Houghton'!B115","v":1474.9},{"$f":"'LUC Houghton'!C115","v":-92.261300000000006},{"$f":"'LUC Houghton'!D115","v":30.8185},{"$f":"'LUC Houghton'!E115","v":512.01310000000001},{"$f":"'LUC Houghton'!F115","v":16.0138},{"$f":"'LUC Houghton'!G115","v":21.546800000000001},{"$f":"'LUC Houghton'!H115","v":138.8699},{"$f":"'LUC Houghton'!I115","v":198.8176},{"$f":"'LUC Houghton'!J115","v":285.60240000000005},{"$f":"'LUC Houghton'!K115","v":274.4314},{"$f":"'LUC Houghton'!L115","v":89.087299999999999}]
[1964,{"$f":"'LUC Houghton'!B116","v":1487.1},{"$f":"'LUC Houghton'!C116","v":-95.413700000000006},{"$f":"'LUC Houghton'!D116","v":30.9329},{"$f":"'LUC Houghton'!E116","v":534.39610000000005},{"$f":"'LUC Houghton'!F116","v":15.778},{"$f":"'LUC Houghton'!G116","v":21.025200000000002},{"$f":"'LUC Houghton'!H116","v":140.73409999999998},{"$f":"'LUC Houghton'!I116","v":196.17920000000001},{"$f":"'LUC Houghton'!J116","v":284.99919999999997},{"$f":"'LUC Houghton'!K116","v":269.65730000000002},{"$f":"'LUC Houghton'!L116","v":88.834900000000005}]
[1965,{"$f":"'LUC Houghton'!B117","v":1505},{"$f":"'LUC Houghton'!C117","v":-99.921100000000052},{"$f":"'LUC Houghton'!D117","v":31.0519},{"$f":"'LUC Houghton'!E117","v":553.67359999999996},{"$f":"'LUC Houghton'!F117","v":15.605700000000001},{"$f":"'LUC Houghton'!G117","v":20.5169},{"$f":"'LUC Houghton'!H117","v":143.4348},{"$f":"'LUC Houghton'!I117","v":192.91749999999999},{"$f":"'LUC Houghton'!J117","v":284.28560000000004},{"$f":"'LUC Houghton'!K117","v":274.83199999999999},{"$f":"'LUC Houghton'!L117","v":88.555199999999999}]
[1966,{"$f":"'LUC Houghton'!B118","v":1539.3},{"$f":"'LUC Houghton'!C118","v":-67.897800000000046},{"$f":"'LUC Houghton'!D118","v":31.174700000000001},{"$f":"'LUC Houghton'!E118","v":563.73050000000001},{"$f":"'LUC Houghton'!F118","v":15.4787},{"$f":"'LUC Houghton'!G118","v":21.6252},{"$f":"'LUC Houghton'!H118","v":142.4889},{"$f":"'LUC Houghton'!I118","v":181.1651},{"$f":"'LUC Houghton'!J118","v":283.12130000000002},{"$f":"'LUC Houghton'!K118","v":280.13040000000001},{"$f":"'LUC Houghton'!L118","v":88.254000000000005}]
[1967,{"$f":"'LUC Houghton'!B119","v":1545.8},{"$f":"'LUC Houghton'!C119","v":-63.78059999999995},{"$f":"'LUC Houghton'!D119","v":31.1614},{"$f":"'LUC Houghton'!E119","v":572.39110000000005},{"$f":"'LUC Houghton'!F119","v":15.393000000000001},{"$f":"'LUC Houghton'!G119","v":21.818200000000001},{"$f":"'LUC Houghton'!H119","v":143.5641},{"$f":"'LUC Houghton'!I119","v":169.52440000000001},{"$f":"'LUC Houghton'!J119","v":282.16579999999999},{"$f":"'LUC Houghton'!K119","v":285.62020000000001},{"$f":"'LUC Houghton'!L119","v":87.936000000000007}]
[1968,{"$f":"'LUC Houghton'!B120","v":1477.7},{"$f":"'LUC Houghton'!C120","v":-62.816000000000066},{"$f":"'LUC Houghton'!D120","v":31.1508},{"$f":"'LUC Houghton'!E120","v":580.34550000000002},{"$f":"'LUC Houghton'!F120","v":15.3453},{"$f":"'LUC Houghton'!G120","v":21.9618},{"$f":"'LUC Houghton'!H120","v":139.42760000000001},{"$f":"'LUC Houghton'!I120","v":157.9246},{"$f":"'LUC Houghton'!J120","v":281.74219999999997},{"$f":"'LUC Houghton'!K120","v":225.02369999999999},{"$f":"'LUC Houghton'!L120","v":87.605000000000004}]
[1969,{"$f":"'LUC Houghton'!B121","v":1483.1},{"$f":"'LUC Houghton'!C121","v":-51.649799999999843},{"$f":"'LUC Houghton'!D121","v":31.142199999999999},{"$f":"'LUC Houghton'!E121","v":587.03779999999995},{"$f":"'LUC Houghton'!F121","v":15.3323},{"$f":"'LUC Houghton'!G121","v":21.732500000000002},{"$f":"'LUC Houghton'!H121","v":146.51979999999998},{"$f":"'LUC Houghton'!I121","v":147.83500000000001},{"$f":"'LUC Houghton'!J121","v":281.2201},{"$f":"'LUC Houghton'!K121","v":216.90350000000001},{"$f":"'LUC Houghton'!L121","v":87.037599999999998}]
[1970,{"$f":"'LUC Houghton'!B122","v":1439.7},{"$f":"'LUC Houghton'!C122","v":-53.00829999999997},{"$f":"'LUC Houghton'!D122","v":31.135100000000001},{"$f":"'LUC Houghton'!E122","v":593.06230000000005},{"$f":"'LUC Houghton'!F122","v":13.565200000000001},{"$f":"'LUC Houghton'!G122","v":21.4815},{"$f":"'LUC Houghton'!H122","v":139.79480000000001},{"$f":"'LUC Houghton'!I122","v":114.46299999999999},{"$f":"'LUC Houghton'!J122","v":280.7878},{"$f":"'LUC Houghton'!K122","v":211.99170000000001},{"$f":"'LUC Houghton'!L122","v":86.462800000000001}]
[1971,{"$f":"'LUC Houghton'!B123","v":1291.7},{"$f":"'LUC Houghton'!C123","v":-89.34170000000006},{"$f":"'LUC Houghton'!D123","v":31.129000000000001},{"$f":"'LUC Houghton'!E123","v":536.79920000000004},{"$f":"'LUC Houghton'!F123","v":11.1776},{"$f":"'LUC Houghton'!G123","v":21.524100000000001},{"$f":"'LUC Houghton'!H123","v":143.0942},{"$f":"'LUC Houghton'!I123","v":100.09699999999999},{"$f":"'LUC Houghton'!J123","v":280.65459999999996},{"$f":"'LUC Houghton'!K123","v":206.3663},{"$f":"'LUC Houghton'!L123","v":50.228900000000003}]
[1972,{"$f":"'LUC Houghton'!B124","v":1264.2},{"$f":"'LUC Houghton'!C124","v":-80.916299999999993},{"$f":"'LUC Houghton'!D124","v":30.096699999999998},{"$f":"'LUC Houghton'!E124","v":524.94680000000005},{"$f":"'LUC Houghton'!F124","v":8.641},{"$f":"'LUC Houghton'!G124","v":21.570699999999999},{"$f":"'LUC Houghton'!H124","v":146.8347},{"$f":"'LUC Houghton'!I124","v":85.372100000000003},{"$f":"'LUC Houghton'!J124","v":282.8365},{"$f":"'LUC Houghton'!K124","v":205.68969999999999},{"$f":"'LUC Houghton'!L124","v":39.107900000000001}]
[1973,{"$f":"'LUC Houghton'!B125","v":1248.7},{"$f":"'LUC Houghton'!C125","v":-92.91},{"$f":"'LUC Houghton'!D125","v":30.1555},{"$f":"'LUC Houghton'!E125","v":515.59849999999994},{"$f":"'LUC Houghton'!F125","v":5.9633000000000003},{"$f":"'LUC Houghton'!G125","v":21.618200000000002},{"$f":"'LUC Houghton'!H125","v":150.79560000000001},{"$f":"'LUC Houghton'!I125","v":71.251900000000006},{"$f":"'LUC Houghton'!J125","v":284.69239999999996},{"$f":"'LUC Houghton'!K125","v":231.78710000000001},{"$f":"'LUC Houghton'!L125","v":29.737400000000001}]
[1974,{"$f":"'LUC Houghton'!B126","v":1254.5},{"$f":"'LUC Houghton'!C126","v":-92.085899999999995},{"$f":"'LUC Houghton'!D126","v":30.229500000000002},{"$f":"'LUC Houghton'!E126","v":508.33580000000001},{"$f":"'LUC Houghton'!F126","v":3.1514000000000002},{"$f":"'LUC Houghton'!G126","v":21.664899999999999},{"$f":"'LUC Houghton'!H126","v":154.65700000000001},{"$f":"'LUC Houghton'!I126","v":64.849999999999994},{"$f":"'LUC Houghton'!J126","v":287.214},{"$f":"'LUC Houghton'!K126","v":250.41130000000001},{"$f":"'LUC Houghton'!L126","v":26.120999999999999}]
[1975,{"$f":"'LUC Houghton'!B127","v":1245.0999999999999},{"$f":"'LUC Houghton'!C127","v":-81.506900000000002},{"$f":"'LUC Houghton'!D127","v":30.316500000000001},{"$f":"'LUC Houghton'!E127","v":502.60919999999999},{"$f":"'LUC Houghton'!F127","v":0.21199999999999999},{"$f":"'LUC Houghton'!G127","v":21.709900000000001},{"$f":"'LUC Houghton'!H127","v":144.48949999999999},{"$f":"'LUC Houghton'!I127","v":58.780500000000004},{"$f":"'LUC Houghton'!J127","v":291.28750000000002},{"$f":"'LUC Houghton'!K127","v":253.95769999999999},{"$f":"'LUC Houghton'!L127","v":23.240500000000001}]
[1976,{"$f":"'LUC Houghton'!B128","v":1311.9},{"$f":"'LUC Houghton'!C128","v":-64.798900000000003},{"$f":"'LUC Houghton'!D128","v":30.413699999999999},{"$f":"'LUC Houghton'!E128","v":503.02019999999999},{"$f":"'LUC Houghton'!F128","v":-2.6383999999999999},{"$f":"'LUC Houghton'!G128","v":21.75},{"$f":"'LUC Houghton'!H128","v":158.99790000000002},{"$f":"'LUC Houghton'!I128","v":55.919600000000003},{"$f":"'LUC Houghton'!J128","v":303.4486},{"$f":"'LUC Houghton'!K128","v":284.9271},{"$f":"'LUC Houghton'!L128","v":20.8475}]
[1977,{"$f":"'LUC Houghton'!B129","v":1315.1},{"$f":"'LUC Houghton'!C129","v":-60.200999999999958},{"$f":"'LUC Houghton'!D129","v":30.518899999999999},{"$f":"'LUC Houghton'!E129","v":504.17840000000001},{"$f":"'LUC Houghton'!F129","v":-5.6405000000000003},{"$f":"'LUC Houghton'!G129","v":21.7849},{"$f":"'LUC Houghton'!H129","v":142.36330000000001},{"$f":"'LUC Houghton'!I129","v":50.358400000000003},{"$f":"'LUC Houghton'!J129","v":306.3707},{"$f":"'LUC Houghton'!K129","v":306.56720000000001},{"$f":"'LUC Houghton'!L129","v":18.781300000000002}]
[1978,{"$f":"'LUC Houghton'!B130","v":1311.9},{"$f":"'LUC Houghton'!C130","v":-54.395399999999967},{"$f":"'LUC Houghton'!D130","v":30.630099999999999},{"$f":"'LUC Houghton'!E130","v":505.31119999999999},{"$f":"'LUC Houghton'!F130","v":-8.7889999999999997},{"$f":"'LUC Houghton'!G130","v":21.8141},{"$f":"'LUC Houghton'!H130","v":149.0206},{"$f":"'LUC Houghton'!I130","v":44.8217},{"$f":"'LUC Houghton'!J130","v":285.34960000000001},{"$f":"'LUC Houghton'!K130","v":321.22449999999998},{"$f":"'LUC Houghton'!L130","v":16.939499999999999}]
[1979,{"$f":"'LUC Houghton'!B131","v":1283.8},{"$f":"'LUC Houghton'!C131","v":-51.702400000000104},{"$f":"'LUC Houghton'!D131","v":30.745799999999999},{"$f":"'LUC Houghton'!E131","v":506.23289999999997},{"$f":"'LUC Houghton'!F131","v":-12.0787},{"$f":"'LUC Houghton'!G131","v":21.837499999999999},{"$f":"'LUC Houghton'!H131","v":150.31889999999999},{"$f":"'LUC Houghton'!I131","v":39.495199999999997},{"$f":"'LUC Houghton'!J131","v":248.06050000000002},{"$f":"'LUC Houghton'!K131","v":335.65230000000003},{"$f":"'LUC Houghton'!L131","v":15.2555}]
[1980,{"$f":"'LUC Houghton'!B132","v":1239.9000000000001},{"$f":"'LUC Houghton'!C132","v":-53.909900000000107},{"$f":"'LUC Houghton'!D132","v":30.8645},{"$f":"'LUC Houghton'!E132","v":507.80759999999998},{"$f":"'LUC Houghton'!F132","v":-14.090400000000001},{"$f":"'LUC Houghton'!G132","v":21.854600000000001},{"$f":"'LUC Houghton'!H132","v":144.613},{"$f":"'LUC Houghton'!I132","v":35.441699999999997},{"$f":"'LUC Houghton'!J132","v":209.51929999999999},{"$f":"'LUC Houghton'!K132","v":344.11279999999999},{"$f":"'LUC Houghton'!L132","v":13.685499999999999}]
[1981,{"$f":"'LUC Houghton'!B133","v":1263.4000000000001},{"$f":"'LUC Houghton'!C133","v":-50.178999999999988},{"$f":"'LUC Houghton'!D133","v":30.988199999999999},{"$f":"'LUC Houghton'!E133","v":509.99349999999998},{"$f":"'LUC Houghton'!F133","v":-15.344099999999999},{"$f":"'LUC Houghton'!G133","v":16.997},{"$f":"'LUC Houghton'!H133","v":166.71609999999998},{"$f":"'LUC Houghton'!I133","v":33.409399999999998},{"$f":"'LUC Houghton'!J133","v":168.78459999999998},{"$f":"'LUC Houghton'!K133","v":386.47059999999999},{"$f":"'LUC Houghton'!L133","v":15.5846}]
[1982,{"$f":"'LUC Houghton'!B134","v":1463},{"$f":"'LUC Houghton'!C134","v":-38.041600000000017},{"$f":"'LUC Houghton'!D134","v":27.774999999999999},{"$f":"'LUC Houghton'!E134","v":729.40260000000001},{"$f":"'LUC Houghton'!F134","v":-16.386700000000001},{"$f":"'LUC Houghton'!G134","v":16.558700000000002},{"$f":"'LUC Houghton'!H134","v":181.87090000000001},{"$f":"'LUC Houghton'!I134","v":30.726199999999999},{"$f":"'LUC Houghton'!J134","v":122.85639999999999},{"$f":"'LUC Houghton'!K134","v":393.29719999999998},{"$f":"'LUC Houghton'!L134","v":14.936400000000001}]
[1983,{"$f":"'LUC Houghton'!B135","v":1512.9},{"$f":"'LUC Houghton'!C135","v":-38.820899999999966},{"$f":"'LUC Houghton'!D135","v":26.979099999999999},{"$f":"'LUC Houghton'!E135","v":787.54349999999999},{"$f":"'LUC Houghton'!F135","v":-17.228000000000002},{"$f":"'LUC Houghton'!G135","v":16.444600000000001},{"$f":"'LUC Houghton'!H135","v":195.3451},{"$f":"'LUC Houghton'!I135","v":28.823599999999999},{"$f":"'LUC Houghton'!J135","v":101.46970000000002},{"$f":"'LUC Houghton'!K135","v":398.1764},{"$f":"'LUC Houghton'!L135","v":14.1264}]
[1984,{"$f":"'LUC Houghton'!B136","v":1560.1},{"$f":"'LUC Houghton'!C136","v":-42.474600000000009},{"$f":"'LUC Houghton'!D136","v":26.213100000000001},{"$f":"'LUC Houghton'!E136","v":833.64490000000001},{"$f":"'LUC Houghton'!F136","v":-17.877099999999999},{"$f":"'LUC Houghton'!G136","v":18.0412},{"$f":"'LUC Houghton'!H136","v":205.46199999999999},{"$f":"'LUC Houghton'!I136","v":27.161000000000001},{"$f":"'LUC Houghton'!J136","v":93.771000000000015},{"$f":"'LUC Houghton'!K136","v":403.41359999999997},{"$f":"'LUC Houghton'!L136","v":12.748799999999999}]
[1985,{"$f":"'LUC Houghton'!B137","v":1583.2},{"$f":"'LUC Houghton'!C137","v":-39.433000000000021},{"$f":"'LUC Houghton'!D137","v":25.4712},{"$f":"'LUC Houghton'!E137","v":872.95680000000004},{"$f":"'LUC Houghton'!F137","v":-18.342500000000001},{"$f":"'LUC Houghton'!G137","v":19.802399999999999},{"$f":"'LUC Houghton'!H137","v":197.06319999999999},{"$f":"'LUC Houghton'!I137","v":25.7685},{"$f":"'LUC Houghton'!J137","v":82.728400000000008},{"$f":"'LUC Houghton'!K137","v":405.89609999999999},{"$f":"'LUC Houghton'!L137","v":11.2882}]
[1986,{"$f":"'LUC Houghton'!B138","v":1601.1},{"$f":"'LUC Houghton'!C138","v":-34.262400000000028},{"$f":"'LUC Houghton'!D138","v":24.748899999999999},{"$f":"'LUC Houghton'!E138","v":902.47329999999999},{"$f":"'LUC Houghton'!F138","v":-18.621099999999998},{"$f":"'LUC Houghton'!G138","v":20.370799999999999},{"$f":"'LUC Houghton'!H138","v":193.4076},{"$f":"'LUC Houghton'!I138","v":23.357099999999999},{"$f":"'LUC Houghton'!J138","v":76.787700000000001},{"$f":"'LUC Houghton'!K138","v":403.0736},{"$f":"'LUC Houghton'!L138","v":9.7723999999999993}]
[1987,{"$f":"'LUC Houghton'!B139","v":1611.1},{"$f":"'LUC Houghton'!C139","v":-31.085600000000007},{"$f":"'LUC Houghton'!D139","v":24.238499999999998},{"$f":"'LUC Houghton'!E139","v":917.00160000000005},{"$f":"'LUC Houghton'!F139","v":-18.721699999999998},{"$f":"'LUC Houghton'!G139","v":21.017600000000002},{"$f":"'LUC Houghton'!H139","v":193.30610000000001},{"$f":"'LUC Houghton'!I139","v":22.570799999999998},{"$f":"'LUC Houghton'!J139","v":70.965900000000005},{"$f":"'LUC Houghton'!K139","v":403.58519999999999},{"$f":"'LUC Houghton'!L139","v":8.2217000000000002}]
[1988,{"$f":"'LUC Houghton'!B140","v":1638.5},{"$f":"'LUC Houghton'!C140","v":-21.588599999999975},{"$f":"'LUC Houghton'!D140","v":23.7394},{"$f":"'LUC Houghton'!E140","v":926.4348},{"$f":"'LUC Houghton'!F140","v":-18.6509},{"$f":"'LUC Houghton'!G140","v":21.721499999999999},{"$f":"'LUC Houghton'!H140","v":202.7612},{"$f":"'LUC Houghton'!I140","v":21.849},{"$f":"'LUC Houghton'!J140","v":64.828699999999998},{"$f":"'LUC Houghton'!K140","v":410.73340000000002},{"$f":"'LUC Houghton'!L140","v":6.6458000000000004}]
[1989,{"$f":"'LUC Houghton'!B141","v":1647},{"$f":"'LUC Houghton'!C141","v":-21.774499999999996},{"$f":"'LUC Houghton'!D141","v":23.249400000000001},{"$f":"'LUC Houghton'!E141","v":932.63040000000001},{"$f":"'LUC Houghton'!F141","v":-18.415199999999999},{"$f":"'LUC Houghton'!G141","v":22.467500000000001},{"$f":"'LUC Houghton'!H141","v":197.14930000000001},{"$f":"'LUC Houghton'!I141","v":21.1859},{"$f":"'LUC Houghton'!J141","v":66.598399999999998},{"$f":"'LUC Houghton'!K141","v":418.58879999999999},{"$f":"'LUC Houghton'!L141","v":5.2880000000000003}]
[1990,{"$f":"'LUC Houghton'!B142","v":1643.7},{"$f":"'LUC Houghton'!C142","v":-31.948800000000002},{"$f":"'LUC Houghton'!D142","v":22.7669},{"$f":"'LUC Houghton'!E142","v":936.80160000000001},{"$f":"'LUC Houghton'!F142","v":-18.080400000000001},{"$f":"'LUC Houghton'!G142","v":23.244800000000001},{"$f":"'LUC Houghton'!H142","v":201.35559999999998},{"$f":"'LUC Houghton'!I142","v":20.107500000000002},{"$f":"'LUC Houghton'!J142","v":61.102999999999994},{"$f":"'LUC Houghton'!K142","v":424.46089999999998},{"$f":"'LUC Houghton'!L142","v":3.9161000000000001}]
[1991,{"$f":"'LUC Houghton'!B143","v":1712.5},{"$f":"'LUC Houghton'!C143","v":-31.948800000000002},{"$f":"'LUC Houghton'!D143","v":22.290199999999999},{"$f":"'LUC Houghton'!E143","v":938.55690000000004},{"$f":"'LUC Houghton'!F143","v":-18.080400000000001},{"$f":"'LUC Houghton'!G143","v":23.244800000000001},{"$f":"'LUC Houghton'!H143","v":195.5283},{"$f":"'LUC Houghton'!I143","v":20.107500000000002},{"$f":"'LUC Houghton'!J143","v":50.891300000000001},{"$f":"'LUC Houghton'!K143","v":507.95620000000002},{"$f":"'LUC Houghton'!L143","v":3.9161000000000001}]
[1992,{"$f":"'LUC Houghton'!B144","v":1605},{"$f":"'LUC Houghton'!C144","v":-31.948800000000002},{"$f":"'LUC Houghton'!D144","v":21.576499999999999},{"$f":"'LUC Houghton'!E144","v":803.69669999999996},{"$f":"'LUC Houghton'!F144","v":-18.080400000000001},{"$f":"'LUC Houghton'!G144","v":23.244800000000001},{"$f":"'LUC Houghton'!H144","v":214.25459999999998},{"$f":"'LUC Houghton'!I144","v":20.107500000000002},{"$f":"'LUC Houghton'!J144","v":39.824100000000001},{"$f":"'LUC Houghton'!K144","v":528.42740000000003},{"$f":"'LUC Houghton'!L144","v":3.9161000000000001}]
[1993,{"$f":"'LUC Houghton'!B145","v":1593.8},{"$f":"'LUC Houghton'!C145","v":-31.948800000000002},{"$f":"'LUC Houghton'!D145","v":20.859000000000002},{"$f":"'LUC Houghton'!E145","v":767.50509999999997},{"$f":"'LUC Houghton'!F145","v":-18.080400000000001},{"$f":"'LUC Houghton'!G145","v":23.244800000000001},{"$f":"'LUC Houghton'!H145","v":224.8938},{"$f":"'LUC Houghton'!I145","v":20.107500000000002},{"$f":"'LUC Houghton'!J145","v":39.520499999999998},{"$f":"'LUC Houghton'!K145","v":543.73260000000005},{"$f":"'LUC Houghton'!L145","v":3.9161000000000001}]
[1994,{"$f":"'LUC Houghton'!B146","v":1580.5},{"$f":"'LUC Houghton'!C146","v":-31.948800000000002},{"$f":"'LUC Houghton'!D146","v":20.138100000000001},{"$f":"'LUC Houghton'!E146","v":737.25149999999996},{"$f":"'LUC Houghton'!F146","v":-18.080400000000001},{"$f":"'LUC Houghton'!G146","v":23.244800000000001},{"$f":"'LUC Houghton'!H146","v":243.6705},{"$f":"'LUC Houghton'!I146","v":20.107500000000002},{"$f":"'LUC Houghton'!J146","v":43.018799999999999},{"$f":"'LUC Houghton'!K146","v":539.2242},{"$f":"'LUC Houghton'!L146","v":3.9161000000000001}]
[1995,{"$f":"'LUC Houghton'!B147","v":1561.6},{"$f":"'LUC Houghton'!C147","v":-31.948800000000002},{"$f":"'LUC Houghton'!D147","v":19.413900000000002},{"$f":"'LUC Houghton'!E147","v":713.37429999999995},{"$f":"'LUC Houghton'!F147","v":-18.080400000000001},{"$f":"'LUC Houghton'!G147","v":23.244800000000001},{"$f":"'LUC Houghton'!H147","v":262.80470000000003},{"$f":"'LUC Houghton'!I147","v":20.107500000000002},{"$f":"'LUC Houghton'!J147","v":31.076599999999999},{"$f":"'LUC Houghton'!K147","v":537.68700000000001},{"$f":"'LUC Houghton'!L147","v":3.9161000000000001}]
[1996,{"$f":"'LUC Houghton'!B148","v":1531.3},{"$f":"'LUC Houghton'!C148","v":-31.948800000000002},{"$f":"'LUC Houghton'!D148","v":18.686900000000001},{"$f":"'LUC Houghton'!E148","v":692.07820000000004},{"$f":"'LUC Houghton'!F148","v":-18.080400000000001},{"$f":"'LUC Houghton'!G148","v":23.244800000000001},{"$f":"'LUC Houghton'!H148","v":260.94579999999996},{"$f":"'LUC Houghton'!I148","v":20.107500000000002},{"$f":"'LUC Houghton'!J148","v":27.320099999999996},{"$f":"'LUC Houghton'!K148","v":534.99720000000002},{"$f":"'LUC Houghton'!L148","v":3.9161000000000001}]
[1997,{"$f":"'LUC Houghton'!B149","v":1491.3},{"$f":"'LUC Houghton'!C149","v":-31.948800000000002},{"$f":"'LUC Houghton'!D149","v":18.4221},{"$f":"'LUC Houghton'!E149","v":678.54579999999999},{"$f":"'LUC Houghton'!F149","v":-18.080400000000001},{"$f":"'LUC Houghton'!G149","v":23.244800000000001},{"$f":"'LUC Houghton'!H149","v":247.4983},{"$f":"'LUC Houghton'!I149","v":20.107500000000002},{"$f":"'LUC Houghton'!J149","v":21.088300000000004},{"$f":"'LUC Houghton'!K149","v":528.50900000000001},{"$f":"'LUC Houghton'!L149","v":3.9161000000000001}]
[1998,{"$f":"'LUC Houghton'!B150","v":1487.2},{"$f":"'LUC Houghton'!C150","v":-31.948800000000002},{"$f":"'LUC Houghton'!D150","v":18.154800000000002},{"$f":"'LUC Houghton'!E150","v":667.09770000000003},{"$f":"'LUC Houghton'!F150","v":-18.080400000000001},{"$f":"'LUC Houghton'!G150","v":23.244800000000001},{"$f":"'LUC Houghton'!H150","v":269.38440000000003},{"$f":"'LUC Houghton'!I150","v":20.107500000000002},{"$f":"'LUC Houghton'!J150","v":12.069099999999992},{"$f":"'LUC Houghton'!K150","v":523.23739999999998},{"$f":"'LUC Houghton'!L150","v":3.9161000000000001}]
[1999,{"$f":"'LUC Houghton'!B151","v":1449.2},{"$f":"'LUC Houghton'!C151","v":-31.948800000000002},{"$f":"'LUC Houghton'!D151","v":17.885300000000001},{"$f":"'LUC Houghton'!E151","v":656.44110000000001},{"$f":"'LUC Houghton'!F151","v":-18.080400000000001},{"$f":"'LUC Houghton'!G151","v":23.244800000000001},{"$f":"'LUC Houghton'!H151","v":263.9341},{"$f":"'LUC Houghton'!I151","v":20.107500000000002},{"$f":"'LUC Houghton'!J151","v":5.0331000000000046},{"$f":"'LUC Houghton'!K151","v":508.69439999999997},{"$f":"'LUC Houghton'!L151","v":3.9161000000000001}]
[2000,{"$f":"'LUC Houghton'!B152","v":1409.9},{"$f":"'LUC Houghton'!C152","v":-31.948800000000002},{"$f":"'LUC Houghton'!D152","v":17.612100000000002},{"$f":"'LUC Houghton'!E152","v":649.56600000000003},{"$f":"'LUC Houghton'!F152","v":-18.080400000000001},{"$f":"'LUC Houghton'!G152","v":23.244800000000001},{"$f":"'LUC Houghton'!H152","v":260.86360000000002},{"$f":"'LUC Houghton'!I152","v":20.107500000000002},{"$f":"'LUC Houghton'!J152","v":-12.915300000000002},{"$f":"'LUC Houghton'!K152","v":497.51389999999998},{"$f":"'LUC Houghton'!L152","v":3.9161000000000001}]
[2001,{"$f":"'LUC Houghton'!B153","v":1385.4},{"$f":"'LUC Houghton'!C153","v":-31.948800000000002},{"$f":"'LUC Houghton'!D153","v":17.612100000000002},{"$f":"'LUC Houghton'!E153","v":643.19039999999995},{"$f":"'LUC Houghton'!F153","v":-18.080400000000001},{"$f":"'LUC Houghton'!G153","v":23.244800000000001},{"$f":"'LUC Houghton'!H153","v":261.69690000000003},{"$f":"'LUC Houghton'!I153","v":20.107500000000002},{"$f":"'LUC Houghton'!J153","v":-12.915300000000002},{"$f":"'LUC Houghton'!K153","v":478.53289999999998},{"$f":"'LUC Houghton'!L153","v":3.9161000000000001}]
[2002,{"$f":"'LUC Houghton'!B154","v":1517.7},{"$f":"'LUC Houghton'!C154","v":-31.948800000000002},{"$f":"'LUC Houghton'!D154","v":17.612100000000002},{"$f":"'LUC Houghton'!E154","v":625.50990000000002},{"$f":"'LUC Houghton'!F154","v":-18.080400000000001},{"$f":"'LUC Houghton'!G154","v":23.244800000000001},{"$f":"'LUC Houghton'!H154","v":258.52359999999999},{"$f":"'LUC Houghton'!I154","v":20.107500000000002},{"$f":"'LUC Houghton'!J154","v":-12.915300000000002},{"$f":"'LUC Houghton'!K154","v":631.69600000000003},{"$f":"'LUC Houghton'!L154","v":3.9161000000000001}]
[2003,{"$f":"'LUC Houghton'!B155","v":1513.2},{"$f":"'LUC Houghton'!C155","v":-31.948800000000002},{"$f":"'LUC Houghton'!D155","v":17.612100000000002},{"$f":"'LUC Houghton'!E155","v":616.45360000000005},{"$f":"'LUC Houghton'!F155","v":-18.080400000000001},{"$f":"'LUC Houghton'!G155","v":23.244800000000001},{"$f":"'LUC Houghton'!H155","v":225.52120000000002},{"$f":"'LUC Houghton'!I155","v":20.107500000000002},{"$f":"'LUC Houghton'!J155","v":-12.915300000000002},{"$f":"'LUC Houghton'!K155","v":669.29750000000001},{"$f":"'LUC Houghton'!L155","v":3.9161000000000001}]
[2004,{"$f":"'LUC Houghton'!B156","v":1534.9},{"$f":"'LUC Houghton'!C156","v":-31.948800000000002},{"$f":"'LUC Houghton'!D156","v":17.612100000000002},{"$f":"'LUC Houghton'!E156","v":609.35249999999996},{"$f":"'LUC Houghton'!F156","v":-18.080400000000001},{"$f":"'LUC Houghton'!G156","v":23.244800000000001},{"$f":"'LUC Houghton'!H156","v":225.78640000000001},{"$f":"'LUC Houghton'!I156","v":20.107500000000002},{"$f":"'LUC Houghton'!J156","v":-12.915300000000002},{"$f":"'LUC Houghton'!K156","v":697.84320000000002},{"$f":"'LUC Houghton'!L156","v":3.9161000000000001}]
[2005,{"$f":"'LUC Houghton'!B157","v":1467.3},{"$f":"'LUC Houghton'!C157","v":-31.948800000000002},{"$f":"'LUC Houghton'!D157","v":17.612100000000002},{"$f":"'LUC Houghton'!E157","v":606.43420000000003},{"$f":"'LUC Houghton'!F157","v":-18.080400000000001},{"$f":"'LUC Houghton'!G157","v":23.244800000000001},{"$f":"'LUC Houghton'!H157","v":239.23899999999998},{"$f":"'LUC Houghton'!I157","v":20.107500000000002},{"$f":"'LUC Houghton'!J157","v":-12.915300000000002},{"$f":"'LUC Houghton'!K157","v":619.69370000000004},{"$f":"'LUC Houghton'!L157","v":3.9161000000000001}]
[{"$f":"A157+1","v":2006},{"$f":"AVERAGE(B148:B157)*0.99","v":1463.9526000000001},{"$f":"AVERAGE(C148:C157)*0.99","v":-31.629311999999999},17.703348299999998,638.02227059999996,-17.899596000000003,23.012352,248.82593670000003,19.906425000000006,-1.1861388000000015,563.31150479999997,3.8769390000000001]
[{"$f":"A158+1","v":2007},{"$f":"AVERAGE(B149:B158)*0.99","v":1457.2852074000002},-31.597682687999995,17.6059766817,632.6707335893999,-17.881696404000003,22.989339648000001,247.62607023330003,19.886518575000004,-4.0082564412000012,566.11462097520007,3.8730620610000002]
[2008,1453.9177429326,-31.562922074112002,17.5251804731883,628.12910201475052,-17.862024747995999,22.964049073152001,247.63871948639672,19.864641413925,-6.4928155288788014,569.83757745174489,3.8688013050389998]
[2009,1450.6227994829273,-31.524720159449092,17.462848140033937,624.2712108142108,-17.840405598047603,22.936254731394051,245.48589711555005,19.840598413903578,-8.3304451662378014,574.45099501946754,3.8641187342378611]
[2010,1450.7636566317371,-31.482736255234546,17.4210254058973,621.08639178481781,-17.816646152254314,22.905708749802063,243.65952502998942,19.81417515688003,-9.6534361376953441,580.96089792639486,3.8589725889274091]
[2011,1454.8091586382795,-31.436595944502773,17.402109021081134,618.26691057151459,-17.790534521327494,22.872138716032467,241.95632160795836,19.78513599741115,-9.3305116153271825,589.22215072110794,3.8533169752312229]

{"sheet":"Concentrations","index":9,"n_rows":58,"n_cols":2,"rows_kept":58,"cut":false,"hidden":false,"merged":[]}
["Year","YE Average"]
[]
[]
[]
[1958,315.52166666666665]
[1959,316.34599165527453]
[1960,317.00198331054912]
[1961,317.85714163249031]
[1962,318.48563328776493]
[1963,319.03412494303939]
[1964,319.65094993164729]
[1965,320.75110825358854]
[1966,321.81126657552977]
[1967,322.46309156413759]
[1968,323.57658321941221]
[1969,325.00507487468678]
[1970,325.91439986329465]
[1971,326.97789151856915]
[1972,328.28388317384372]
[1973,329.4615414957849]
[1974,330.33753315105946]
[1975,331.53935813966734]
[1976,332.7570164616086]
[1977,334.55800811688312]
[1978,335.99066643882429]
[1979,337.7299914274322]
[1980,339.25931641604006]
[1981,340.47947473798138]
[1982,341.70879972658918]
[1983,343.71229138186379]
[1984,345.04661637047167]
[1985,346.38594135907948]
[1986,348.10609968102074]
[1987,350.27209133629526]
[1988,351.98641632490319]
[1989,353.36574131351108]
[1990,354.70839963545222]
[1991,355.82189129072685]
[1992,356.60121627933466]
[1993,358.07387460127592]
[1994,360.02736625655047]
[1995,361.79252457849168]
[1996,363.1685162337663]
[1997,365.23450788904074]
[1998,367.77633287764866]
[1999,369.00732453292323]
[2000,370.49748285486442]
[2001,372.413474510139]
[2002,374.64863283208024]
[2003,376.59545782068813]
[2004,378.54561614262934]
[2005,380.77494113123726]
[2006,382.69259945317839]
[2007,384.78692444178637]
[2008,386.37708276372751]
[2009,388.5139077523354]
[2010,390.71573274094328]
[2011,392.62089106288448]

{"sheet":"Combined, MtC","index":10,"n_rows":167,"n_cols":14,"rows_kept":167,"cut":false,"hidden":false,"merged":[]}
["Year",null,"Global","China","USA","W. Europe","Canada + Australia",null,"Concentration, ppm","Surplus concentration, ppm","Surplus Mass, GtC","Sunk Mass, GtC"," Ratio","Remains in the air in 2012"]
[null,null,null,null,null,null,null,null,null,278,2.13,0.45]
[]
[]
[1850,null,{"$f":"'FF Global'!B143/1000+'LUC Houghton'!B2","v":554.30700000000002},{"$f":"'LUC Houghton'!J2","v":101.83919999999999},{"$f":"'FF USA'!B74/1000+'LUC Extended'!C2","v":169.49420000000001},{"$f":"'FF W.Europe'!B126/1000+'LUC Houghton'!F2","v":98.327100000000002},{"$f":"('FF Canada'!B89+0)/1000+'LUC Houghton'!D2","v":5.5636000000000001},null,null,{"$f":"K5/K$2","v":5.5792670187793432},{"$f":"K6-L$2*C5/1000","v":11.883838750000001},{"$f":"(1-L$2)*C5/1000","v":0.30486885000000002},{"$f":"1-L5/K5","v":0.97434592841475576},{"$f":"N6*M5","v":2.8419140727989161E-2}]
[{"$f":"A5+1","v":1851},null,{"$f":"'FF Global'!B144/1000+'LUC Houghton'!B3","v":546.94200000000001},{"$f":"'LUC Houghton'!J3","v":93.076599999999999},{"$f":"'FF USA'!B75/1000+'LUC Extended'!C3","v":172.44860000000003},{"$f":"'FF W.Europe'!B127/1000+'LUC Houghton'!F3","v":96.909599999999998},{"$f":"('FF Canada'!B90+'FF Australia'!B24)/1000+'LUC Houghton'!D3","v":5.3645999999999994},null,null,5.6963741314553991,12.1332769,{"$f":"(1-L$2)*C6/1000","v":0.30081810000000003},{"$f":"1-L6/K6","v":0.97520718413671081},2.9167403382314758E-2]
[{"$f":"A6+1","v":1852},null,{"$f":"'FF Global'!B145/1000+'LUC Houghton'!B4","v":605.13099999999997},{"$f":"'LUC Houghton'!J4","v":83.830700000000007},{"$f":"'FF USA'!B76/1000+'LUC Extended'!C4","v":237.98450000000003},{"$f":"'FF W.Europe'!B128/1000+'LUC Houghton'!F4","v":97.844400000000007},{"$f":"('FF Canada'!B91+'FF Australia'!B25)/1000+'LUC Houghton'!D4","v":5.3460000000000001},null,null,5.8119252582159628,12.379400800000001,0.33282204999999998,0.97311484979143736,2.9908929975874628E-2]
[1853,null,{"$f":"'FF Global'!B146/1000+'LUC Houghton'!B5","v":606.05199999999991},{"$f":"'LUC Houghton'!J5","v":74.213999999999999},{"$f":"'FF USA'!B77/1000+'LUC Extended'!C5","v":246.74690000000001},{"$f":"'FF W.Europe'!B129/1000+'LUC Houghton'!F5","v":99.043000000000006},{"$f":"('FF Canada'!B92+'FF Australia'!B26)/1000+'LUC Houghton'!D5","v":5.3117999999999999},null,null,5.9397698356807513,12.65170975,0.33332859999999997,0.97365347398994828,3.0735251838243813E-2]
[1854,null,{"$f":"'FF Global'!B147/1000+'LUC Houghton'!B6","v":614.399},{"$f":"'LUC Houghton'!J6","v":64.312899999999999},{"$f":"'FF USA'!B78/1000+'LUC Extended'!C6","v":255.23460000000006},{"$f":"'FF W.Europe'!B130/1000+'LUC Houghton'!F6","v":107.4074},{"$f":"('FF Canada'!B93+'FF Australia'!B27)/1000+'LUC Houghton'!D6","v":5.2888999999999999},null,null,6.0678089906103292,12.92443315,0.33791945000000007,0.97385421502992575,3.1566930801667448E-2]
[1855,null,{"$f":"'FF Global'!B148/1000+'LUC Houghton'!B7","v":612.976},{"$f":"'LUC Houghton'!J7","v":54.193999999999996},{"$f":"'FF USA'!B79/1000+'LUC Extended'!C7","v":263.9796},{"$f":"'FF W.Europe'!B131/1000+'LUC Houghton'!F7","v":105.8896},{"$f":"('FF Canada'!B94+'FF Australia'!B28)/1000+'LUC Houghton'!D7","v":5.2713000000000001},null,null,6.1976115962441316,13.2009127,0.33713680000000007,0.97446109919354285,3.2414431559139908E-2]
[1856,null,{"$f":"'FF Global'!B149/1000+'LUC Houghton'!B8","v":623.33000000000004},{"$f":"'LUC Houghton'!J8","v":52.5623},{"$f":"'FF USA'!B80/1000+'LUC Extended'!C8","v":271.45329999999996},{"$f":"'FF W.Europe'!B132/1000+'LUC Houghton'!F8","v":109.2826},{"$f":"('FF Canada'!B95+'FF Australia'!B29)/1000+'LUC Houghton'!D8","v":5.242},null,null,6.3271135680751174,13.4767519,0.34283150000000007,0.9745612665022052,3.3263956443172399E-2]
[1857,null,{"$f":"'FF Global'!B150/1000+'LUC Houghton'!B9","v":629.63199999999995},{"$f":"'LUC Houghton'!J9","v":51.271999999999998},{"$f":"'FF USA'!B81/1000+'LUC Extended'!C9","v":278.45170000000002},{"$f":"'FF W.Europe'!B133/1000+'LUC Houghton'!F9","v":108.99639999999999},{"$f":"('FF Canada'!B96+'FF Australia'!B30)/1000+'LUC Houghton'!D9","v":5.2218},null,null,6.4588030046948361,13.7572504,0.34629759999999998,0.97482799324492919,3.4132237332353627E-2]
[1858,null,{"$f":"'FF Global'!B151/1000+'LUC Houghton'!B10","v":635.97},{"$f":"'LUC Houghton'!J10","v":50.234299999999998},{"$f":"'FF USA'!B82/1000+'LUC Extended'!C10","v":284.95820000000009},{"$f":"'FF W.Europe'!B134/1000+'LUC Houghton'!F10","v":108.76589999999999},{"$f":"('FF Canada'!B97+'FF Australia'!B31)/1000+'LUC Houghton'!D10","v":5.2017999999999995},null,null,6.5918238497652579,14.0405848,0.34978350000000008,0.97508768295747905,3.5013599905699237E-2]
[1859,null,{"$f":"'FF Global'!B152/1000+'LUC Houghton'!B11","v":646.01099999999997},{"$f":"'LUC Houghton'!J11","v":49.392099999999999},{"$f":"'FF USA'!B83/1000+'LUC Extended'!C11","v":292.10160000000008},{"$f":"'FF W.Europe'!B135/1000+'LUC Houghton'!F11","v":112.87219999999999},{"$f":"('FF Canada'!B98+'FF Australia'!B32)/1000+'LUC Houghton'!D11","v":5.1568999999999994},null,null,6.7261837089201872,14.326771299999999,0.35530605000000004,0.97519985190243108,3.590815525379381E-2]
[1860,null,{"$f":"'FF Global'!B153/1000+'LUC Houghton'!B12","v":659.00099999999998},{"$f":"'LUC Houghton'!J12","v":48.702500000000001},{"$f":"'FF USA'!B84/1000+'LUC Extended'!C12","v":298.61860000000001},{"$f":"'FF W.Europe'!B136/1000+'LUC Houghton'!F12","v":119.2103},{"$f":"('FF Canada'!B99+'FF Australia'!B33)/1000+'LUC Houghton'!D12","v":5.3310999999999993},null,null,6.8626649061032863,14.617476249999999,0.36245055000000004,0.97520430040035122,3.6821329683083694E-2]
[1861,null,{"$f":"'FF Global'!B154/1000+'LUC Houghton'!B13","v":674.04500000000007},{"$f":"'LUC Houghton'!J13","v":48.132600000000004},{"$f":"'FF USA'!B85/1000+'LUC Extended'!C13","v":303.13350000000003},{"$f":"'FF W.Europe'!B137/1000+'LUC Houghton'!F13","v":122.7132},{"$f":"('FF Canada'!B100+'FF Australia'!B34)/1000+'LUC Houghton'!D13","v":5.3924000000000003},null,null,7.001890469483568,14.914026699999999,0.3707247500000001,0.97514254483666707,3.7757554666204209E-2]
[1862,null,{"$f":"'FF Global'!B155/1000+'LUC Houghton'!B14","v":616.92700000000002},{"$f":"'LUC Houghton'!J14","v":47.773599999999995},{"$f":"'FF USA'!B86/1000+'LUC Extended'!C14","v":250.63619999999995},{"$f":"'FF W.Europe'!B138/1000+'LUC Houghton'!F14","v":122.37350000000001},{"$f":"('FF Canada'!B101+'FF Australia'!B35)/1000+'LUC Houghton'!D14","v":7.0221999999999998},null,null,7.144294342723005,15.21734695,0.33930985000000002,0.97770243058038442,3.8720036230732259E-2]
[1863,null,{"$f":"'FF Global'!B156/1000+'LUC Houghton'!B15","v":623.447},{"$f":"'LUC Houghton'!J15","v":46.611499999999999},{"$f":"'FF USA'!B87/1000+'LUC Extended'!C15","v":251.79090000000002},{"$f":"'FF W.Europe'!B139/1000+'LUC Houghton'!F15","v":125.3034},{"$f":"('FF Canada'!B102+'FF Australia'!B36)/1000+'LUC Houghton'!D15","v":7.6128999999999998},null,null,7.2746310328638497,15.494964099999999,0.34289585000000006,0.97787049729273012,3.9603088853678359E-2]
[1864,null,{"$f":"'FF Global'!B157/1000+'LUC Houghton'!B16","v":631.72900000000004},{"$f":"'LUC Houghton'!J16","v":46.161299999999997},{"$f":"'FF USA'!B88/1000+'LUC Extended'!C16","v":251.97890000000007},{"$f":"'FF W.Europe'!B140/1000+'LUC Houghton'!F16","v":129.84909999999999},{"$f":"('FF Canada'!B103+'FF Australia'!B37)/1000+'LUC Houghton'!D16","v":8.1429000000000009},null,null,7.4063451877934279,15.77551525,0.34745095000000004,0.97797530258163834,4.0499318635055404E-2]
[1865,null,{"$f":"'FF Global'!B158/1000+'LUC Houghton'!B17","v":639.25400000000002},{"$f":"'LUC Houghton'!J17","v":45.778099999999995},{"$f":"'FF USA'!B89/1000+'LUC Extended'!C17","v":251.28740000000002},{"$f":"'FF W.Europe'!B141/1000+'LUC Houghton'!F17","v":134.3158},{"$f":"('FF Canada'!B104+'FF Australia'!B38)/1000+'LUC Houghton'!D17","v":8.7512000000000008},null,null,7.5398090610328641,16.059793299999999,0.35158970000000006,0.97810745795837861,4.1411392013833238E-2]
[1866,null,{"$f":"'FF Global'!B159/1000+'LUC Houghton'!B18","v":642.40300000000002},{"$f":"'LUC Houghton'!J18","v":45.449199999999998},{"$f":"'FF USA'!B90/1000+'LUC Extended'!C18","v":250.96260000000001},{"$f":"'FF W.Europe'!B142/1000+'LUC Houghton'!F18","v":137.3895},{"$f":"('FF Canada'!B105+'FF Australia'!B39)/1000+'LUC Houghton'!D18","v":9.3971999999999998},null,null,7.6748627230046944,16.347457599999998,0.35332165000000004,0.97838675232288108,4.2338284691410072E-2]
[1867,null,{"$f":"'FF Global'!B160/1000+'LUC Houghton'!B19","v":649.09799999999996},{"$f":"'LUC Houghton'!J19","v":45.167099999999998},{"$f":"'FF USA'!B91/1000+'LUC Extended'!C19","v":252.42600000000004},{"$f":"'FF W.Europe'!B143/1000+'LUC Houghton'!F19","v":140.1576},{"$f":"('FF Canada'!B106+'FF Australia'!B40)/1000+'LUC Houghton'!D19","v":10.049900000000001},null,null,7.8105816666666668,16.636538949999998,0.35700389999999999,0.9785409753150609,4.3273567013137414E-2]
[1868,null,{"$f":"'FF Global'!B161/1000+'LUC Houghton'!B20","v":651.00300000000004},{"$f":"'LUC Houghton'!J20","v":44.921500000000002},{"$f":"'FF USA'!B92/1000+'LUC Extended'!C20","v":253.02970000000002},{"$f":"'FF W.Europe'!B144/1000+'LUC Houghton'!F20","v":139.5094},{"$f":"('FF Canada'!B107+'FF Australia'!B41)/1000+'LUC Houghton'!D20","v":10.325100000000001},null,null,7.9477150469483568,16.928633049999998,0.35805165000000005,0.97884934661041634,4.4222539581650754E-2]
[1869,null,{"$f":"'FF Global'!B162/1000+'LUC Houghton'!B21","v":657.16800000000001},{"$f":"'LUC Houghton'!J21","v":44.706299999999999},{"$f":"'FF USA'!B93/1000+'LUC Extended'!C21","v":254.2165},{"$f":"'FF W.Europe'!B145/1000+'LUC Houghton'!F21","v":143.45650000000001},{"$f":"('FF Canada'!B108+'FF Australia'!B42)/1000+'LUC Houghton'!D21","v":10.7194},null,null,8.0852508920187791,17.221584399999998,0.3614424,0.97901224465734993,4.5178085611218576E-2]
[1870,null,{"$f":"'FF Global'!B163/1000+'LUC Houghton'!B22","v":658.82999999999993},{"$f":"'LUC Houghton'!J22","v":44.5167},{"$f":"'FF USA'!B94/1000+'LUC Extended'!C22","v":253.71529999999996},{"$f":"'FF W.Europe'!B146/1000+'LUC Houghton'!F22","v":144.964},{"$f":"('FF Canada'!B109+'FF Australia'!B43)/1000+'LUC Houghton'!D22","v":11.3401},null,null,8.2240892018779341,17.517309999999998,0.36235649999999997,0.97931437532360843,4.614659914394708E-2]
[1871,null,{"$f":"'FF Global'!B164/1000+'LUC Houghton'!B23","v":687.86200000000008},{"$f":"'LUC Houghton'!J23","v":44.348499999999994},{"$f":"'FF USA'!B95/1000+'LUC Extended'!C23","v":252.31650000000002},{"$f":"'FF W.Europe'!B147/1000+'LUC Houghton'!F23","v":143.58320000000001},{"$f":"('FF Canada'!B110+'FF Australia'!B44)/1000+'LUC Houghton'!D23","v":11.996600000000001},null,null,8.3632786384976523,17.8137835,0.37832410000000011,0.97876228258864828,4.7121333360084929E-2]
[1872,null,{"$f":"'FF Global'!B165/1000+'LUC Houghton'!B24","v":790.59300000000007},{"$f":"'LUC Houghton'!J24","v":44.198900000000002},{"$f":"'FF USA'!B96/1000+'LUC Extended'!C24","v":338.36469999999991},{"$f":"'FF W.Europe'!B148/1000+'LUC Houghton'!F24","v":150.06610000000001},{"$f":"('FF Canada'!B111+'FF Australia'!B45)/1000+'LUC Houghton'!D24","v":12.493099999999998},null,null,8.5086015962441319,18.123321399999998,0.43482615000000008,0.97600736970873336,4.8143797731413973E-2]
[1873,null,{"$f":"'FF Global'!B166/1000+'LUC Houghton'!B25","v":812.07},{"$f":"'LUC Houghton'!J25","v":44.064900000000002},{"$f":"'FF USA'!B97/1000+'LUC Extended'!C25","v":347.33339999999993},{"$f":"'FF W.Europe'!B149/1000+'LUC Houghton'!F25","v":153.95400000000001},{"$f":"('FF Canada'!B112+'FF Australia'!B46)/1000+'LUC Houghton'!D25","v":12.941800000000001},null,null,8.6756282863849759,18.479088249999997,0.4466385000000001,0.97583005752461838,4.9327289143094651E-2]
[1874,null,{"$f":"'FF Global'!B167/1000+'LUC Houghton'!B26","v":806.88100000000009},{"$f":"'LUC Houghton'!J26","v":41.954499999999996},{"$f":"'FF USA'!B98/1000+'LUC Extended'!C26","v":351.10060000000004},{"$f":"'FF W.Europe'!B150/1000+'LUC Houghton'!F26","v":149.23599999999999},{"$f":"('FF Canada'!B113+'FF Australia'!B47)/1000+'LUC Houghton'!D26","v":13.416600000000001},null,null,8.8471923708920173,18.844519749999996,0.44378455000000006,0.97645020643203173,5.0549056941556869E-2]
[1875,null,{"$f":"'FF Global'!B168/1000+'LUC Houghton'!B27","v":827.93899999999996},{"$f":"'LUC Houghton'!J27","v":41.406199999999998},{"$f":"'FF USA'!B99/1000+'LUC Extended'!C27","v":356.38289999999995},{"$f":"'FF W.Europe'!B151/1000+'LUC Houghton'!F27","v":153.49699999999999},{"$f":"('FF Canada'!B114+'FF Australia'!B48)/1000+'LUC Houghton'!D27","v":13.928799999999999},null,null,9.0176601877934264,19.207616199999997,0.45536645000000003,0.97629240165679698,5.1768187060212849E-2]
[1876,null,{"$f":"'FF Global'!B169/1000+'LUC Houghton'!B28","v":835.36},{"$f":"'LUC Houghton'!J28","v":40.8748},{"$f":"'FF USA'!B100/1000+'LUC Extended'!C28","v":360.32989999999995},{"$f":"'FF W.Europe'!B152/1000+'LUC Houghton'!F28","v":153.2801},{"$f":"('FF Canada'!B115+'FF Australia'!B49)/1000+'LUC Houghton'!D28","v":14.407299999999999},null,null,9.1925768779342718,19.580188749999998,0.45944800000000002,0.97653505766128024,5.3025289321478597E-2]
[1877,null,{"$f":"'FF Global'!B170/1000+'LUC Houghton'!B29","v":845.71199999999999},{"$f":"'LUC Houghton'!J29","v":40.406700000000001},{"$f":"'FF USA'!B101/1000+'LUC Extended'!C29","v":370.23589999999996},{"$f":"'FF W.Europe'!B153/1000+'LUC Houghton'!F29","v":153.1694},{"$f":"('FF Canada'!B116+'FF Australia'!B50)/1000+'LUC Houghton'!D29","v":14.1419},null,null,9.3690613849765256,19.956100749999997,0.46514160000000004,0.97669175928569107,5.4299422130803708E-2]
[1878,null,{"$f":"'FF Global'!B171/1000+'LUC Houghton'!B30","v":853.17499999999995},{"$f":"'LUC Houghton'!J30","v":40.316499999999998},{"$f":"'FF USA'!B102/1000+'LUC Extended'!C30","v":375.07329999999996},{"$f":"'FF W.Europe'!B154/1000+'LUC Houghton'!F30","v":152.12790000000001},{"$f":"('FF Canada'!B117+'FF Australia'!B51)/1000+'LUC Houghton'!D30","v":14.016},null,null,9.5477329342723003,20.336671149999997,0.46924625000000003,0.97692610326739737,5.5595249590839071E-2]
[1879,null,{"$f":"'FF Global'!B172/1000+'LUC Houghton'!B31","v":873.274},{"$f":"'LUC Houghton'!J31","v":40.435300000000005},{"$f":"'FF USA'!B103/1000+'LUC Extended'!C31","v":389.21160000000003},{"$f":"'FF W.Europe'!B155/1000+'LUC Houghton'!F31","v":153.7149},{"$f":"('FF Canada'!B118+'FF Australia'!B52)/1000+'LUC Houghton'!D31","v":14.138500000000001},null,null,9.727981173708919,20.720599899999996,0.48030070000000008,0.97682013540544255,5.6908346910679211E-2]
[1880,null,{"$f":"'FF Global'!B173/1000+'LUC Houghton'!B32","v":905.86500000000001},{"$f":"'LUC Houghton'!J32","v":40.585900000000002},{"$f":"'FF USA'!B104/1000+'LUC Extended'!C32","v":400.88280000000003},{"$f":"'FF W.Europe'!B156/1000+'LUC Houghton'!F32","v":167.9922},{"$f":"('FF Canada'!B119+'FF Australia'!B53)/1000+'LUC Houghton'!D32","v":15.093399999999999},null,null,9.9124756807511734,21.113573199999998,0.49822575000000008,0.97640258494947696,5.8258777484207595E-2]
[1881,null,{"$f":"'FF Global'!B174/1000+'LUC Houghton'!B33","v":949.16},{"$f":"'LUC Houghton'!J33","v":40.348099999999995},{"$f":"'FF USA'!B105/1000+'LUC Extended'!C33","v":408.08080000000007},{"$f":"'FF W.Europe'!B157/1000+'LUC Houghton'!F33","v":168.9924},{"$f":"('FF Canada'!B120+'FF Australia'!B54)/1000+'LUC Houghton'!D33","v":14.985900000000001},null,null,10.103855610328637,21.521212449999997,0.522038,0.9757430952734264,5.9666758755275252E-2]
[1882,null,{"$f":"'FF Global'!B175/1000+'LUC Houghton'!B34","v":916.10500000000002},{"$f":"'LUC Houghton'!J34","v":40.131299999999996},{"$f":"'FF USA'!B106/1000+'LUC Extended'!C34","v":359.86989999999992},{"$f":"'FF W.Europe'!B158/1000+'LUC Houghton'!F34","v":171.41470000000001},{"$f":"('FF Canada'!B121+'FF Australia'!B55)/1000+'LUC Houghton'!D34","v":15.2441},null,null,10.304382370892018,21.948334449999997,0.5038577500000001,0.97704346308610224,6.1150070181695937E-2]
[1883,null,{"$f":"'FF Global'!B176/1000+'LUC Houghton'!B35","v":936.79299999999989},{"$f":"'LUC Houghton'!J35","v":39.931399999999996},{"$f":"'FF USA'!B107/1000+'LUC Extended'!C35","v":363.29909999999995},{"$f":"'FF W.Europe'!B159/1000+'LUC Houghton'!F35","v":177.11279999999999},{"$f":"('FF Canada'!B122+'FF Australia'!B56)/1000+'LUC Houghton'!D35","v":15.4872},null,null,10.497925680751173,22.360581699999997,0.51523615,0.97695783781868251,6.2586847455635725E-2]
[1884,null,{"$f":"'FF Global'!B177/1000+'LUC Houghton'!B36","v":944.58400000000006},{"$f":"'LUC Houghton'!J36","v":39.7453},{"$f":"'FF USA'!B108/1000+'LUC Extended'!C36","v":365.73789999999991},{"$f":"'FF W.Europe'!B160/1000+'LUC Houghton'!F36","v":173.5378},{"$f":"('FF Canada'!B123+'FF Australia'!B57)/1000+'LUC Houghton'!D36","v":15.7514},null,null,10.69583969483568,22.782138549999996,0.51952120000000002,0.97719611796496597,6.4062997432291921E-2]
[1885,null,{"$f":"'FF Global'!B178/1000+'LUC Houghton'!B37","v":950.03800000000001},{"$f":"'LUC Houghton'!J37","v":39.567399999999999},{"$f":"'FF USA'!B109/1000+'LUC Extended'!C37","v":365.84229999999991},{"$f":"'FF W.Europe'!B161/1000+'LUC Houghton'!F37","v":171.7978},{"$f":"('FF Canada'!B124+'FF Australia'!B58)/1000+'LUC Houghton'!D37","v":15.6478},null,null,10.895399694835678,23.207201349999995,0.52252090000000007,0.97748453628166587,6.555797373172606E-2]
[1886,null,{"$f":"'FF Global'!B179/1000+'LUC Houghton'!B38","v":956.49699999999996},{"$f":"'LUC Houghton'!J38","v":39.398699999999998},{"$f":"'FF USA'!B110/1000+'LUC Extended'!C38","v":368.78950000000009},{"$f":"'FF W.Europe'!B162/1000+'LUC Houghton'!F38","v":170.6011},{"$f":"('FF Canada'!B125+'FF Australia'!B59)/1000+'LUC Houghton'!D38","v":15.6937},null,null,11.096111948356805,23.634718449999994,0.52607335,0.97774150129552317,6.7068041793384728E-2]
[1887,null,{"$f":"'FF Global'!B180/1000+'LUC Houghton'!B39","v":968.97399999999993},{"$f":"'LUC Houghton'!J39","v":39.237700000000004},{"$f":"'FF USA'!B111/1000+'LUC Extended'!C39","v":370.70570000000004},{"$f":"'FF W.Europe'!B163/1000+'LUC Houghton'!F39","v":175.4812},{"$f":"('FF Canada'!B126+'FF Australia'!B60)/1000+'LUC Houghton'!D39","v":16.0001},null,null,11.298188779342722,24.065142099999996,0.53293570000000001,0.97785445447255426,6.8594860404839614E-2]
[1888,null,{"$f":"'FF Global'!B181/1000+'LUC Houghton'!B40","v":998.31100000000004},{"$f":"'LUC Houghton'!J40","v":39.083100000000002},{"$f":"'FF USA'!B112/1000+'LUC Extended'!C40","v":385.3492},{"$f":"'FF W.Europe'!B164/1000+'LUC Houghton'!F40","v":181.40979999999999},{"$f":"('FF Canada'!B127+'FF Australia'!B61)/1000+'LUC Houghton'!D40","v":16.8934},null,null,11.502901596244129,24.501180399999996,0.54907105,0.97759001643855492,7.014833351844682E-2]
[1889,null,{"$f":"'FF Global'!B182/1000+'LUC Houghton'!B41","v":995.52600000000007},{"$f":"'LUC Houghton'!J41","v":39.030899999999995},{"$f":"'FF USA'!B113/1000+'LUC Extended'!C41","v":371.49639999999999},{"$f":"'FF W.Europe'!B165/1000+'LUC Houghton'!F41","v":186.42170000000002},{"$f":"('FF Canada'!B128+'FF Australia'!B62)/1000+'LUC Houghton'!D41","v":16.207699999999999},null,null,11.713812370892017,24.950420349999995,0.54753930000000006,0.97805490679839391,7.1756393108435457E-2]
[1890,null,{"$f":"'FF Global'!B183/1000+'LUC Houghton'!B42","v":1021.707},{"$f":"'LUC Houghton'!J42","v":38.983799999999995},{"$f":"'FF USA'!B114/1000+'LUC Extended'!C42","v":386.25580000000002},{"$f":"'FF W.Europe'!B166/1000+'LUC Houghton'!F42","v":192.49260000000001},{"$f":"('FF Canada'!B129+'FF Australia'!B63)/1000+'LUC Houghton'!D42","v":16.438099999999999},null,null,11.924134765258215,25.398407049999996,0.56193884999999999,0.97787503567079026,7.3366426168573556E-2]
[1891,null,{"$f":"'FF Global'!B184/1000+'LUC Houghton'!B43","v":1032.33},{"$f":"'LUC Houghton'!J43","v":39.000900000000001},{"$f":"'FF USA'!B115/1000+'LUC Extended'!C43","v":389.27740000000006},{"$f":"'FF W.Europe'!B167/1000+'LUC Houghton'!F43","v":195.43770000000001},{"$f":"('FF Canada'!B130+'FF Australia'!B64)/1000+'LUC Houghton'!D43","v":16.870699999999999},null,null,12.13998835680751,25.858175199999994,0.56778150000000005,0.97804247609862272,7.5026382198464234E-2]
[1892,null,{"$f":"'FF Global'!B185/1000+'LUC Houghton'!B44","v":1048.2750000000001},{"$f":"'LUC Houghton'!J44","v":39.025600000000004},{"$f":"'FF USA'!B116/1000+'LUC Extended'!C44","v":408.10429999999997},{"$f":"'FF W.Europe'!B168/1000+'LUC Houghton'!F44","v":193.51510000000002},{"$f":"('FF Canada'!B131+'FF Australia'!B65)/1000+'LUC Houghton'!D44","v":16.8215},null,null,12.358086244131453,26.322723699999994,0.57655125000000007,0.97809682400001785,7.6710760556884861E-2]
[1893,null,{"$f":"'FF Global'!B186/1000+'LUC Houghton'!B45","v":1042.7429999999999},{"$f":"'LUC Houghton'!J45","v":39.057299999999998},{"$f":"'FF USA'!B117/1000+'LUC Extended'!C45","v":409.49990000000003},{"$f":"'FF W.Europe'!B169/1000+'LUC Houghton'!F45","v":183.31380000000001},{"$f":"('FF Canada'!B132+'FF Australia'!B66)/1000+'LUC Houghton'!D45","v":16.957799999999999},null,null,12.579552793427228,26.794447449999993,0.57350864999999995,0.97859598892381716,7.8428595896231496E-2]
[1894,null,{"$f":"'FF Global'!B187/1000+'LUC Houghton'!B46","v":1071.9649999999999},{"$f":"'LUC Houghton'!J46","v":54.584900000000005},{"$f":"'FF USA'!B118/1000+'LUC Extended'!C46","v":403.11410000000006},{"$f":"'FF W.Europe'!B170/1000+'LUC Houghton'!F46","v":200.25189999999998},{"$f":"('FF Canada'!B133+'FF Australia'!B67)/1000+'LUC Houghton'!D46","v":16.8048},null,null,12.799850610328637,27.263681799999993,0.58958074999999999,0.97837486681641073,8.014399893717232E-2]
[1895,null,{"$f":"'FF Global'!B188/1000+'LUC Houghton'!B47","v":1096.9670000000001},{"$f":"'LUC Houghton'!J47","v":56.377400000000002},{"$f":"'FF USA'!B119/1000+'LUC Extended'!C47","v":419.67450000000002},{"$f":"'FF W.Europe'!B171/1000+'LUC Houghton'!F47","v":202.16460000000001},{"$f":"('FF Canada'!B134+'FF Australia'!B68)/1000+'LUC Houghton'!D47","v":16.6126},null,null,13.026322089201875,27.746066049999992,0.60333185000000011,0.97825522908679152,8.1915431043274242E-2]
[1896,null,{"$f":"'FF Global'!B189/1000+'LUC Houghton'!B48","v":1111.4179999999999},{"$f":"'LUC Houghton'!J48","v":58.080100000000002},{"$f":"'FF USA'!B120/1000+'LUC Extended'!C48","v":419.58360000000005},{"$f":"'FF W.Europe'!B172/1000+'LUC Houghton'!F48","v":207.6951},{"$f":"('FF Canada'!B135+'FF Australia'!B69)/1000+'LUC Houghton'!D48","v":16.814399999999999},null,null,13.258075680751171,28.239701199999992,0.61127989999999999,0.97835388215793162,8.3736256763731184E-2]
[1897,null,{"$f":"'FF Global'!B190/1000+'LUC Houghton'!B49","v":1132.181},{"$f":"'LUC Houghton'!J49","v":59.7669},{"$f":"'FF USA'!B121/1000+'LUC Extended'!C49","v":425.79080000000005},{"$f":"'FF W.Europe'!B173/1000+'LUC Houghton'!F49","v":213.64279999999999},{"$f":"('FF Canada'!B136+'FF Australia'!B70)/1000+'LUC Houghton'!D49","v":16.9041},null,null,13.49288230046948,28.739839299999993,0.62269954999999999,0.9783332278409782,8.5588924714067816E-2]
[1898,null,{"$f":"'FF Global'!B191/1000+'LUC Houghton'!B50","v":1154.694},{"$f":"'LUC Houghton'!J50","v":61.365899999999996},{"$f":"'FF USA'!B122/1000+'LUC Extended'!C50","v":437.06839999999994},{"$f":"'FF W.Europe'!B174/1000+'LUC Houghton'!F50","v":216.21890000000002},{"$f":"('FF Canada'!B137+'FF Australia'!B71)/1000+'LUC Houghton'!D50","v":17.245000000000001},null,null,13.732075469483565,29.249320749999992,0.63508170000000008,0.97828730091108185,8.7484429924708382E-2]
[1899,null,{"$f":"'FF Global'!B192/1000+'LUC Houghton'!B51","v":1195.9269999999999},{"$f":"'LUC Houghton'!J51","v":62.8962},{"$f":"'FF USA'!B123/1000+'LUC Extended'!C51","v":457.95629999999994},{"$f":"'FF W.Europe'!B175/1000+'LUC Houghton'!F51","v":227.73179999999999},{"$f":"('FF Canada'!B138+'FF Australia'!B72)/1000+'LUC Houghton'!D51","v":18.155099999999997},null,null,13.976024906103282,29.76893304999999,0.65775985000000003,0.97790448690602294,8.9426112189367968E-2]
[1900,null,{"$f":"'FF Global'!B193/1000+'LUC Houghton'!B52","v":1221.7819999999999},{"$f":"'LUC Houghton'!J52","v":64.364199999999997},{"$f":"'FF USA'!B124/1000+'LUC Extended'!C52","v":467.1309},{"$f":"'FF W.Europe'!B176/1000+'LUC Houghton'!F52","v":234.0812},{"$f":"('FF Canada'!B139+'FF Australia'!B73)/1000+'LUC Houghton'!D52","v":19.666499999999999},null,null,14.228685539906099,30.30710019999999,0.67198009999999997,0.97782763459501154,9.1446673357949176E-2]
[1901,null,{"$f":"'FF Global'!B194/1000+'LUC Houghton'!B53","v":1303.1659999999999},{"$f":"'LUC Houghton'!J53","v":65.761800000000008},{"$f":"'FF USA'!B125/1000+'LUC Extended'!C53","v":482.7756},{"$f":"'FF W.Europe'!B177/1000+'LUC Houghton'!F53","v":229.68559999999999},{"$f":"('FF Canada'!B140+'FF Australia'!B74)/1000+'LUC Houghton'!D53","v":20.8245},null,null,14.486808497652577,30.856902099999989,0.71674130000000003,0.97677209145373023,9.3520238253262084E-2]
[1902,null,{"$f":"'FF Global'!B195/1000+'LUC Houghton'!B54","v":1321.2280000000001},{"$f":"'LUC Houghton'!J54","v":82.726900000000001},{"$f":"'FF USA'!B126/1000+'LUC Extended'!C54","v":449.05079999999998},{"$f":"'FF W.Europe'!B178/1000+'LUC Houghton'!F54","v":232.90639999999999},{"$f":"('FF Canada'!B141+'FF Australia'!B75)/1000+'LUC Houghton'!D54","v":34.116799999999998},null,null,14.762125258215956,31.443326799999987,0.72667540000000008,0.97688936019327322,9.5744175198613515E-2]
[1903,null,{"$f":"'FF Global'!B196/1000+'LUC Houghton'!B55","v":1401.6379999999999},{"$f":"'FF China'!B26/1000+'LUC Houghton'!J55","v":101.1109},{"$f":"'FF USA'!B127/1000+'LUC Extended'!C55","v":475.92169999999999},{"$f":"'FF W.Europe'!B179/1000+'LUC Houghton'!F55","v":239.08799999999999},{"$f":"('FF Canada'!B142+'FF Australia'!B76)/1000+'LUC Houghton'!D55","v":37.497500000000002},null,null,15.041257934272295,32.037879399999987,0.7709009,0.97593783001755108,9.8009231239524361E-2]
[1904,null,{"$f":"'FF Global'!B197/1000+'LUC Houghton'!B56","v":1431.404},{"$f":"'FF China'!B27/1000+'LUC Houghton'!J56","v":119.57899999999999},{"$f":"'FF USA'!B128/1000+'LUC Extended'!C56","v":462.44690000000003},{"$f":"'FF W.Europe'!B180/1000+'LUC Houghton'!F56","v":239.80439999999999},{"$f":"('FF Canada'!B143+'FF Australia'!B77)/1000+'LUC Houghton'!D56","v":41.678399999999996},null,null,15.337378638497647,32.668616499999985,0.78727220000000009,0.97590126903598751,0.10042569129404665]
[1905,null,{"$f":"'FF Global'!B198/1000+'LUC Houghton'!B57","v":1499.4659999999999},{"$f":"'FF China'!B28/1000+'LUC Houghton'!J57","v":138.52799999999999},{"$f":"'FF USA'!B129/1000+'LUC Extended'!C57","v":481.7792},{"$f":"'FF W.Europe'!B181/1000+'LUC Houghton'!F57","v":243.08510000000001},{"$f":"('FF Canada'!B144+'FF Australia'!B78)/1000+'LUC Houghton'!D57","v":45.041199999999996},null,null,15.639787934272292,33.312748299999981,0.8247063,0.97524352261263292,0.102905585309105]
[1906,null,{"$f":"'FF Global'!B199/1000+'LUC Houghton'!B58","v":1559.5839999999998},{"$f":"'FF China'!B29/1000+'LUC Houghton'!J58","v":161.80119999999999},{"$f":"'FF USA'!B130/1000+'LUC Extended'!C58","v":487.88159999999999},{"$f":"'FF W.Europe'!B182/1000+'LUC Houghton'!F58","v":255.7184},{"$f":"('FF Canada'!B145+'FF Australia'!B79)/1000+'LUC Houghton'!D58","v":48.744399999999999},null,null,15.956576525821589,33.987507999999984,0.85777120000000007,0.97476216261574689,0.10551783521045659]
[1907,null,{"$f":"'FF Global'!B200/1000+'LUC Houghton'!B59","v":1655.7249999999999},{"$f":"'FF China'!B30/1000+'LUC Houghton'!J59","v":166.20609999999999},{"$f":"'FF USA'!B131/1000+'LUC Extended'!C59","v":526.49919999999997},{"$f":"'FF W.Europe'!B183/1000+'LUC Houghton'!F59","v":268.0729},{"$f":"('FF Canada'!B146+'FF Australia'!B80)/1000+'LUC Houghton'!D59","v":54.107100000000003},null,null,16.286066103286377,34.689320799999983,0.91064875000000012,0.9737484410475975,0.10824982673445432]
[1908,null,{"$f":"'FF Global'!B201/1000+'LUC Houghton'!B60","v":1634.1309999999999},{"$f":"'FF China'!B31/1000+'LUC Houghton'!J60","v":171.69319999999999},{"$f":"'FF USA'!B132/1000+'LUC Extended'!C60","v":480.16760000000005},{"$f":"'FF W.Europe'!B184/1000+'LUC Houghton'!F60","v":271.55830000000003},{"$f":"('FF Canada'!B147+'FF Australia'!B81)/1000+'LUC Houghton'!D60","v":56.952300000000001},null,null,16.635867159624404,35.43439704999998,0.89877205000000004,0.97463560481269707,0.11116816435464054]
[1909,null,{"$f":"'FF Global'!B202/1000+'LUC Houghton'!B61","v":1669.8689999999999},{"$f":"'FF China'!B32/1000+'LUC Houghton'!J61","v":174.07860000000002},{"$f":"'FF USA'!B133/1000+'LUC Extended'!C61","v":505.73480000000001},{"$f":"'FF W.Europe'!B185/1000+'LUC Houghton'!F61","v":270.28219999999999},{"$f":"('FF Canada'!B148+'FF Australia'!B82)/1000+'LUC Houghton'!D61","v":58.134100000000004},null,null,16.981106103286375,36.169755999999978,0.91842794999999999,0.97460784778310361,0.11406125920877326]
[1910,null,{"$f":"'FF Global'!B203/1000+'LUC Houghton'!B62","v":1714.308},{"$f":"'FF China'!B33/1000+'LUC Houghton'!J62","v":176.04169999999999},{"$f":"'FF USA'!B134/1000+'LUC Extended'!C62","v":529.4375},{"$f":"'FF W.Europe'!B186/1000+'LUC Houghton'!F62","v":277.07139999999998},{"$f":"('FF Canada'!B149+'FF Australia'!B83)/1000+'LUC Houghton'!D62","v":62.9163},null,null,17.333895328638487,36.921197049999975,0.94286940000000008,0.97446265356122841,0.11703297841098166]
[1911,null,{"$f":"'FF Global'!B204/1000+'LUC Houghton'!B63","v":1668.8109999999999},{"$f":"'FF China'!B34/1000+'LUC Houghton'!J63","v":180.76420000000002},{"$f":"'FF USA'!B135/1000+'LUC Extended'!C63","v":521.69270000000006},{"$f":"'FF W.Europe'!B187/1000+'LUC Houghton'!F63","v":280.762},{"$f":"('FF Canada'!B150+'FF Australia'!B84)/1000+'LUC Houghton'!D63","v":68.024500000000003},null,null,17.696073075117361,37.692635649999978,0.91784604999999997,0.97564919422131202,0.12010001407778746]
[1912,null,{"$f":"'FF Global'!B205/1000+'LUC Houghton'!B64","v":1665.787},{"$f":"'FF China'!B35/1000+'LUC Houghton'!J64","v":176.2962},{"$f":"'FF USA'!B136/1000+'LUC Extended'!C64","v":519.51329999999996},{"$f":"'FF W.Europe'!B188/1000+'LUC Houghton'!F64","v":278.31909999999999},{"$f":"('FF Canada'!B151+'FF Australia'!B85)/1000+'LUC Houghton'!D64","v":72.622500000000002},null,null,18.048638779342713,38.443600599999975,0.9161828500000001,0.97616813108811662,0.12309753832538348]
[1913,null,{"$f":"'FF Global'!B206/1000+'LUC Houghton'!B65","v":1702.175},{"$f":"'FF China'!B36/1000+'LUC Houghton'!J65","v":176.74789999999999},{"$f":"'FF USA'!B137/1000+'LUC Extended'!C65","v":540.65499999999997},{"$f":"'FF W.Europe'!B189/1000+'LUC Houghton'!F65","v":300.79689999999999},{"$f":"('FF Canada'!B152+'FF Australia'!B86)/1000+'LUC Houghton'!D65","v":78.517399999999995},null,null,18.400565610328631,39.193204749999978,0.93619625000000006,0.97611330188557743,0.1261028038153314]
[1914,null,{"$f":"'FF Global'!B207/1000+'LUC Houghton'!B66","v":1607.654},{"$f":"'FF China'!B37/1000+'LUC Houghton'!J66","v":181.91139999999999},{"$f":"'FF USA'!B138/1000+'LUC Extended'!C66","v":502.01310000000007},{"$f":"'FF W.Europe'!B190/1000+'LUC Houghton'!F66","v":269.0093},{"$f":"('FF Canada'!B153+'FF Australia'!B87)/1000+'LUC Houghton'!D66","v":78.267099999999999},null,null,{"$f":"K69/K$2","v":18.760180046948349},{"$f":"K70-L$2*C69/1000","v":39.95918349999998},0.8842097000000001,0.97787217799382709,{"$f":"N70*M69","v":0.12918869517681617}]
[1915,null,{"$f":"'FF Global'!B208/1000+'LUC Houghton'!B67","v":1588.0140000000001},{"$f":"'FF China'!B38/1000+'LUC Houghton'!J67","v":182.7989},{"$f":"'FF USA'!B139/1000+'LUC Extended'!C67","v":510.95850000000002},{"$f":"'FF W.Europe'!B191/1000+'LUC Houghton'!F67","v":260.04950000000002},{"$f":"('FF Canada'!B154+'FF Australia'!B88)/1000+'LUC Houghton'!D67","v":77.684100000000001},null,null,19.099825258215954,40.682627799999977,{"$f":"(1-L$2)*C70/1000","v":0.87340770000000012},{"$f":"1-L70/K70","v":0.97853118770267833},0.13211204703855647]
[{"$f":"A70+1","v":1916},null,{"$f":"'FF Global'!B209/1000+'LUC Houghton'!B68","v":1653.0930000000001},{"$f":"'FF China'!B39/1000+'LUC Houghton'!J68","v":183.65809999999999},{"$f":"'FF USA'!B140/1000+'LUC Extended'!C68","v":547.29780000000005},{"$f":"'FF W.Europe'!B192/1000+'LUC Houghton'!F68","v":262.7826},{"$f":"('FF Canada'!B155+'FF Australia'!B89)/1000+'LUC Houghton'!D68","v":83.296199999999999},null,null,19.43532117370891,41.397234099999977,0.90920115000000012,0.978037152245396,0.13501056348415338]
[1917,null,{"$f":"'FF Global'!B210/1000+'LUC Houghton'!B69","v":1699.7760000000001},{"$f":"'FF China'!B40/1000+'LUC Houghton'!J69","v":189.15400000000002},{"$f":"'FF USA'!B141/1000+'LUC Extended'!C69","v":585.36130000000003},{"$f":"'FF W.Europe'!B193/1000+'LUC Houghton'!F69","v":249.6121},{"$f":"('FF Canada'!B156+'FF Australia'!B90)/1000+'LUC Houghton'!D69","v":86.701999999999998},null,null,19.78456617370891,42.141125949999974,0.93487680000000006,0.97781557139433761,0.13804236697368152]
[1918,null,{"$f":"'FF Global'!B211/1000+'LUC Houghton'!B70","v":1707.316},{"$f":"'FF China'!B41/1000+'LUC Houghton'!J70","v":194.51419999999999},{"$f":"'FF USA'!B142/1000+'LUC Extended'!C70","v":602.55320000000006},{"$f":"'FF W.Europe'!B194/1000+'LUC Houghton'!F70","v":239.81129999999999},{"$f":"('FF Canada'!B157+'FF Australia'!B91)/1000+'LUC Houghton'!D70","v":89.049400000000006},null,null,20.143673779342713,42.906025149999977,0.93902380000000008,0.97811440708578434,0.14117423674981672]
[1919,null,{"$f":"'FF Global'!B212/1000+'LUC Houghton'!B71","v":1585.7559999999999},{"$f":"'FF China'!B42/1000+'LUC Houghton'!J71","v":200.4743},{"$f":"'FF USA'!B143/1000+'LUC Extended'!C71","v":527.54460000000006},{"$f":"'FF W.Europe'!B195/1000+'LUC Houghton'!F71","v":244.6285},{"$f":"('FF Canada'!B158+'FF Australia'!B92)/1000+'LUC Houghton'!D71","v":85.6267},null,null,20.504374342722993,43.674317349999974,0.87216579999999999,0.98003023623676622,0.14433305115138254]
[1920,null,{"$f":"'FF Global'!B213/1000+'LUC Houghton'!B72","v":1723.192},{"$f":"'FF China'!B43/1000+'LUC Houghton'!J72","v":206.26440000000002},{"$f":"'FF USA'!B144/1000+'LUC Extended'!C72","v":592.37599999999998},{"$f":"'FF W.Europe'!B196/1000+'LUC Houghton'!F72","v":265.45400000000001},{"$f":"('FF Canada'!B159+'FF Australia'!B93)/1000+'LUC Houghton'!D72","v":89.535300000000007},null,null,20.839393215962431,44.387907549999973,0.94775560000000003,0.97864833797510242,0.14727407973207982]
[1921,null,{"$f":"'FF Global'!B214/1000+'LUC Houghton'!B73","v":1655.423},{"$f":"'FF China'!B44/1000+'LUC Houghton'!J73","v":210.96209999999999},{"$f":"'FF USA'!B145/1000+'LUC Extended'!C73","v":500.55120000000005},{"$f":"'FF W.Europe'!B197/1000+'LUC Houghton'!F73","v":220.25819999999999},{"$f":"('FF Canada'!B160+'FF Australia'!B94)/1000+'LUC Houghton'!D73","v":88.312200000000004},null,null,21.203447863849753,45.16334394999997,0.91048265000000006,0.97984022947884486,0.15048723225423449]
[1922,null,{"$f":"'FF Global'!B215/1000+'LUC Houghton'!B74","v":1685.9479999999999},{"$f":"'FF China'!B45/1000+'LUC Houghton'!J74","v":214.0162},{"$f":"'FF USA'!B146/1000+'LUC Extended'!C74","v":476.66920000000005},{"$f":"'FF W.Europe'!B198/1000+'LUC Houghton'!F74","v":264.31909999999999},{"$f":"('FF Canada'!B161+'FF Australia'!B95)/1000+'LUC Houghton'!D74","v":86.097399999999993},null,null,21.55318511737088,45.90828429999997,0.92727139999999997,0.97980165422997523,0.15358343914321143]
[1923,null,{"$f":"'FF Global'!B216/1000+'LUC Houghton'!B75","v":1809.0070000000001},{"$f":"'FF China'!B46/1000+'LUC Houghton'!J75","v":218.00590000000003},{"$f":"'FF USA'!B147/1000+'LUC Extended'!C75","v":593.35200000000009},{"$f":"'FF W.Europe'!B199/1000+'LUC Houghton'!F75","v":284.55840000000001},{"$f":"('FF Canada'!B162+'FF Australia'!B96)/1000+'LUC Houghton'!D75","v":93.24969999999999},null,null,21.909371314553979,46.666960899999971,0.99495385000000014,0.97867969478166728,0.15674952015049662]
[1924,null,{"$f":"'FF Global'!B217/1000+'LUC Houghton'!B76","v":1811.8670000000002},{"$f":"'FF China'!B47/1000+'LUC Houghton'!J76","v":221.16810000000001},{"$f":"'FF USA'!B148/1000+'LUC Extended'!C76","v":529.9692},{"$f":"'FF W.Europe'!B200/1000+'LUC Houghton'!F76","v":304.7004},{"$f":"('FF Canada'!B163+'FF Australia'!B97)/1000+'LUC Houghton'!D76","v":90.114999999999995},null,null,22.291555892018767,47.48101404999997,0.99652685000000019,0.97901209841578773,0.16016427129967759]
[1925,null,{"$f":"'FF Global'!B218/1000+'LUC Houghton'!B77","v":1821.5540000000001},{"$f":"'FF China'!B48/1000+'LUC Houghton'!J77","v":222.91650000000001},{"$f":"'FF USA'!B149/1000+'LUC Extended'!C77","v":531.60760000000005},{"$f":"'FF W.Europe'!B201/1000+'LUC Houghton'!F77","v":300.09160000000003},{"$f":"('FF Canada'!B164+'FF Australia'!B98)/1000+'LUC Houghton'!D77","v":90.356999999999999},null,null,22.674344694835668,48.296354199999968,1.0018547,0.97925610086734038,0.16359784680787021]
[1926,null,{"$f":"'FF Global'!B219/1000+'LUC Houghton'!B78","v":1800.78},{"$f":"'FF China'!B49/1000+'LUC Houghton'!J78","v":224.10769999999999},{"$f":"'FF USA'!B150/1000+'LUC Extended'!C78","v":565.24529999999993},{"$f":"'FF W.Europe'!B202/1000+'LUC Houghton'!F78","v":245.30249999999998},{"$f":"('FF Canada'!B165+'FF Australia'!B99)/1000+'LUC Houghton'!D78","v":93.346299999999999},null,null,23.059180046948345,49.116053499999971,0.99042900000000011,0.9798349230155472,0.16706339298062006]
[1927,null,{"$f":"'FF Global'!B220/1000+'LUC Houghton'!B79","v":1923.307},{"$f":"'FF China'!B50/1000+'LUC Houghton'!J79","v":226.06460000000001},{"$f":"'FF USA'!B151/1000+'LUC Extended'!C79","v":596.66330000000005},{"$f":"'FF W.Europe'!B203/1000+'LUC Houghton'!F79","v":315.20570000000004},{"$f":"('FF Canada'!B166+'FF Australia'!B100)/1000+'LUC Houghton'!D79","v":85.634399999999999},null,null,23.439626525821584,49.926404499999968,1.0578188500000001,0.97881243681387065,0.17050157027110702]
[1928,null,{"$f":"'FF Global'!B221/1000+'LUC Houghton'!B80","v":1920.2},{"$f":"'FF China'!B51/1000+'LUC Houghton'!J80","v":227.0658},{"$f":"'FF USA'!B152/1000+'LUC Extended'!C80","v":591.79219999999998},{"$f":"'FF W.Europe'!B204/1000+'LUC Houghton'!F80","v":305.24509999999998},{"$f":"('FF Canada'!B167+'FF Australia'!B101)/1000+'LUC Houghton'!D80","v":83.727699999999999},null,null,23.845958990610313,50.791892649999966,1.0561100000000001,0.97920711466143795,0.17419228021469174]
[1929,null,{"$f":"'FF Global'!B222/1000+'LUC Houghton'!B81","v":2021.7919999999999},{"$f":"'FF China'!B52/1000+'LUC Houghton'!J81","v":229.2799},{"$f":"'FF USA'!B153/1000+'LUC Extended'!C81","v":651.99840000000006},{"$f":"'FF W.Europe'!B205/1000+'LUC Houghton'!F81","v":326.93099999999998},{"$f":"('FF Canada'!B168+'FF Australia'!B102)/1000+'LUC Houghton'!D81","v":82.842199999999991},null,null,24.251635046948341,51.655982649999963,1.1119855999999999,0.97847324660273405,0.17789115050999085]
[1930,null,{"$f":"'FF Global'!B223/1000+'LUC Houghton'!B82","v":2002.248},{"$f":"'FF China'!B53/1000+'LUC Houghton'!J82","v":231.9563},{"$f":"'FF USA'!B154/1000+'LUC Extended'!C82","v":667.17179999999996},{"$f":"'FF W.Europe'!B206/1000+'LUC Houghton'!F82","v":316.58080000000001},{"$f":"('FF Canada'!B169+'FF Australia'!B103)/1000+'LUC Houghton'!D82","v":79.587099999999992},null,null,24.678774201877918,52.565789049999964,1.1012363999999999,0.97905032113277102,0.18180481799336892]
[1931,null,{"$f":"'FF Global'!B224/1000+'LUC Houghton'!B83","v":1894.491},{"$f":"'FF China'!B54/1000+'LUC Houghton'!J83","v":234.65469999999999},{"$f":"'FF USA'!B155/1000+'LUC Extended'!C83","v":592.39769999999999},{"$f":"'FF W.Europe'!B207/1000+'LUC Houghton'!F83","v":298.91879999999998},{"$f":"('FF Canada'!B170+'FF Australia'!B104)/1000+'LUC Houghton'!D83","v":72.380200000000002},null,null,25.101784342722986,53.466800649999961,1.0419700500000002,0.98051183094307703,0.18569507007874625]
[1932,null,{"$f":"'FF Global'!B225/1000+'LUC Houghton'!B84","v":1697.8229999999999},{"$f":"'FF China'!B55/1000+'LUC Houghton'!J84","v":235.10339999999999},{"$f":"'FF USA'!B156/1000+'LUC Extended'!C84","v":427.86309999999997},{"$f":"'FF W.Europe'!B208/1000+'LUC Houghton'!F84","v":276.8904},{"$f":"('FF Canada'!B171+'FF Australia'!B105)/1000+'LUC Houghton'!D84","v":69.620800000000003},null,null,25.502028920187776,54.319321599999959,0.93380264999999996,0.98280901486810912,0.18938585361090524]
[1933,null,{"$f":"'FF Global'!B226/1000+'LUC Houghton'!B85","v":1730.595},{"$f":"'FF China'!B56/1000+'LUC Houghton'!J85","v":236.93280000000001},{"$f":"'FF USA'!B157/1000+'LUC Extended'!C85","v":445.11959999999999},{"$f":"'FF W.Europe'!B209/1000+'LUC Houghton'!F85","v":277.86809999999997},{"$f":"('FF Canada'!B172+'FF Australia'!B106)/1000+'LUC Houghton'!D85","v":68.362400000000008},null,null,25.860723920187777,55.083341949999962,0.95182725000000001,0.98272023417054122,0.19269853119562647]
[1934,null,{"$f":"'FF Global'!B227/1000+'LUC Houghton'!B86","v":1780.9749999999999},{"$f":"'FF China'!B57/1000+'LUC Houghton'!J86","v":233.41220000000001},{"$f":"'FF USA'!B158/1000+'LUC Extended'!C86","v":461.6554000000001},{"$f":"'FF W.Europe'!B210/1000+'LUC Houghton'!F86","v":290.6472},{"$f":"('FF Canada'!B173+'FF Australia'!B107)/1000+'LUC Houghton'!D86","v":70.146900000000002},null,null,26.226342582159607,55.862109699999962,0.97953625,0.98246510460739012,0.19608686632800681]
[1935,null,{"$f":"'FF Global'!B228/1000+'LUC Houghton'!B87","v":1815.4340000000002},{"$f":"'FF China'!B58/1000+'LUC Houghton'!J87","v":235.5515},{"$f":"'FF USA'!B159/1000+'LUC Extended'!C87","v":474.53639999999996},{"$f":"'FF W.Europe'!B211/1000+'LUC Houghton'!F87","v":290.82589999999999},{"$f":"('FF Canada'!B174+'FF Australia'!B108)/1000+'LUC Houghton'!D87","v":69.191199999999995},null,null,26.60260490610327,56.663548449999965,0.99848870000000023,0.98237864151975818,0.19958659641796284]
[1936,null,{"$f":"'FF Global'!B229/1000+'LUC Houghton'!B88","v":1908.0839999999998},{"$f":"'FF China'!B59/1000+'LUC Houghton'!J88","v":237.50459999999998},{"$f":"'FF USA'!B160/1000+'LUC Extended'!C88","v":526.27570000000003},{"$f":"'FF W.Europe'!B212/1000+'LUC Houghton'!F88","v":292.64819999999997},{"$f":"('FF Canada'!B175+'FF Australia'!B109)/1000+'LUC Houghton'!D88","v":70.379300000000001},null,null,26.986147300469469,57.480493749999965,1.0494462,0.98174256810381,0.20316666912586639]
[1937,null,{"$f":"'FF Global'!B230/1000+'LUC Houghton'!B89","v":1955.5229999999999},{"$f":"'FF China'!B60/1000+'LUC Houghton'!J89","v":236.27590000000004},{"$f":"'FF USA'!B161/1000+'LUC Extended'!C89","v":521.25109999999995},{"$f":"'FF W.Europe'!B213/1000+'LUC Houghton'!F89","v":311.72109999999998},{"$f":"('FF Canada'!B176+'FF Australia'!B110)/1000+'LUC Houghton'!D89","v":71.568999999999988},null,null,27.389263638497635,58.339131549999962,1.07553765,0.98156404421141918,0.20694495250243997]
[1938,null,{"$f":"'FF Global'!B231/1000+'LUC Houghton'!B90","v":1876.5810000000001},{"$f":"'FF China'!B61/1000+'LUC Houghton'!J90","v":234.87039999999999},{"$f":"'FF USA'!B162/1000+'LUC Extended'!C90","v":446.42629999999997},{"$f":"'FF W.Europe'!B214/1000+'LUC Houghton'!F90","v":294.7373},{"$f":"('FF Canada'!B177+'FF Australia'!B111)/1000+'LUC Houghton'!D90","v":67.892400000000009},null,null,27.802402300469467,59.21911689999996,1.0321195500000002,0.98257117626824997,0.21083183896441307]
[1939,null,{"$f":"'FF Global'!B232/1000+'LUC Houghton'!B91","v":1937.2049999999999},{"$f":"'FF China'!B62/1000+'LUC Houghton'!J91","v":238.09690000000001},{"$f":"'FF USA'!B163/1000+'LUC Extended'!C91","v":484.70599999999996},{"$f":"'FF W.Europe'!B215/1000+'LUC Houghton'!F91","v":293.13120000000004},{"$f":"('FF Canada'!B178+'FF Australia'!B112)/1000+'LUC Houghton'!D91","v":70.323100000000011},null,null,28.198863075117352,60.063578349999958,1.0654627500000002,0.98226108434979709,0.21457156901868477]
[1940,null,{"$f":"'FF Global'!B233/1000+'LUC Houghton'!B92","v":2003.4949999999999},{"$f":"'FF China'!B63/1000+'LUC Houghton'!J92","v":243.28159999999997},{"$f":"'FF USA'!B164/1000+'LUC Extended'!C92","v":527.26599999999996},{"$f":"'FF W.Europe'!B216/1000+'LUC Houghton'!F92","v":273.58409999999998},{"$f":"('FF Canada'!B179+'FF Australia'!B113)/1000+'LUC Houghton'!D92","v":71.932199999999995},null,null,28.608131737089181,60.935320599999955,1.1019222500000001,0.98191652658671658,0.21844657437560949]
[1941,null,{"$f":"'FF Global'!B234/1000+'LUC Houghton'!B93","v":2034.194},{"$f":"'FF China'!B64/1000+'LUC Houghton'!J93","v":249.18490000000003},{"$f":"'FF USA'!B165/1000+'LUC Extended'!C93","v":571.53419999999994},{"$f":"'FF W.Europe'!B217/1000+'LUC Houghton'!F93","v":261.50549999999998},{"$f":"('FF Canada'!B180+'FF Australia'!B114)/1000+'LUC Houghton'!D93","v":75.330999999999989},null,null,29.031405328638478,61.836893349999954,1.1188067000000002,0.98190713279097808,0.22246959742592506]
[1942,null,{"$f":"'FF Global'!B235/1000+'LUC Houghton'!B94","v":2103.5940000000001},{"$f":"'FF China'!B65/1000+'LUC Houghton'!J94","v":262.98519999999996},{"$f":"'FF USA'!B166/1000+'LUC Extended'!C94","v":626.33039999999994},{"$f":"'FF W.Europe'!B218/1000+'LUC Houghton'!F94","v":257.4776},{"$f":"('FF Canada'!B181+'FF Australia'!B115)/1000+'LUC Houghton'!D94","v":78.8339},null,null,29.461164624413126,62.752280649999953,1.1569767000000002,0.98156279440339356,0.22656887805018414]
[1943,null,{"$f":"'FF Global'!B236/1000+'LUC Houghton'!B95","v":2114.8090000000002},{"$f":"'FF China'!B66/1000+'LUC Houghton'!J95","v":271.161},{"$f":"'FF USA'!B167/1000+'LUC Extended'!C95","v":631.99109999999996},{"$f":"'FF W.Europe'!B219/1000+'LUC Houghton'!F95","v":245.80709999999999},{"$f":"('FF Canada'!B182+'FF Australia'!B116)/1000+'LUC Houghton'!D95","v":80.320700000000002},null,null,29.90558589201876,63.698897949999953,1.1631449500000002,0.98173995175060946,0.23082463938325576]
[1944,null,{"$f":"'FF Global'!B237/1000+'LUC Houghton'!B96","v":2117.194},{"$f":"'FF China'!B67/1000+'LUC Houghton'!J96","v":284.42919999999998},{"$f":"'FF USA'!B168/1000+'LUC Extended'!C96","v":675.02160000000003},{"$f":"'FF W.Europe'!B220/1000+'LUC Houghton'!F96","v":215.80599999999998},{"$f":"('FF Canada'!B183+'FF Australia'!B117)/1000+'LUC Houghton'!D96","v":80.747099999999989},null,null,30.352376525821576,64.650561999999951,1.1644567000000001,0.98198845201067242,0.23511790364816684]
[1945,null,{"$f":"'FF Global'!B238/1000+'LUC Houghton'!B97","v":1879.729},{"$f":"'FF China'!B68/1000+'LUC Houghton'!J97","v":284.90450000000004},{"$f":"'FF USA'!B169/1000+'LUC Extended'!C97","v":642.9624},{"$f":"'FF W.Europe'!B221/1000+'LUC Houghton'!F97","v":209.92420000000001},{"$f":"('FF Canada'!B184+'FF Australia'!B118)/1000+'LUC Houghton'!D97","v":77.640100000000004},null,null,30.799671032863827,65.603299299999946,1.0338509499999999,0.98424086957468004,0.23943041607745053]
[1946,null,{"$f":"'FF Global'!B239/1000+'LUC Houghton'!B98","v":2014.8510000000001},{"$f":"'FF China'!B69/1000+'LUC Houghton'!J98","v":293.3999},{"$f":"'FF USA'!B170/1000+'LUC Extended'!C98","v":610.06309999999985},{"$f":"'FF W.Europe'!B222/1000+'LUC Houghton'!F98","v":254.68709999999999},{"$f":"('FF Canada'!B185+'FF Australia'!B119)/1000+'LUC Houghton'!D98","v":80.5488},null,null,31.196796877934247,66.449177349999943,1.1081680500000002,0.98332307344960679,0.24326404590465298]
[1947,null,{"$f":"'FF Global'!B240/1000+'LUC Houghton'!B99","v":2136.297},{"$f":"'FF China'!B70/1000+'LUC Houghton'!J99","v":296.11359999999996},{"$f":"'FF USA'!B171/1000+'LUC Extended'!C99","v":682.99379999999996},{"$f":"'FF W.Europe'!B223/1000+'LUC Houghton'!F99","v":288.95139999999998},{"$f":"('FF Canada'!B186+'FF Australia'!B120)/1000+'LUC Houghton'!D99","v":82.4679},null,null,31.622469624413121,67.355860299999947,1.1749633500000003,0.98255588534142735,0.24738974653697043]
[1948,null,{"$f":"'FF Global'!B241/1000+'LUC Houghton'!B100","v":2185.779},{"$f":"'FF China'!B71/1000+'LUC Houghton'!J100","v":295.19939999999997},{"$f":"'FF USA'!B172/1000+'LUC Extended'!C100","v":698.13720000000012},{"$f":"'FF W.Europe'!B224/1000+'LUC Houghton'!F100","v":300.64359999999999},{"$f":"('FF Canada'!B187+'FF Australia'!B121)/1000+'LUC Houghton'!D100","v":86.476100000000002},null,null,32.073799976525798,68.317193949999947,1.2021784500000001,0.98240298846466301,0.25178185813930087]
[1949,null,{"$f":"'FF Global'!B242/1000+'LUC Houghton'!B101","v":2110.8069999999998},{"$f":"'FF China'!B72/1000+'LUC Houghton'!J101","v":306.43099999999998},{"$f":"'FF USA'!B173/1000+'LUC Extended'!C101","v":578.94640000000004},{"$f":"'FF W.Europe'!B225/1000+'LUC Houghton'!F101","v":310.94200000000001},{"$f":"('FF Canada'!B188+'FF Australia'!B122)/1000+'LUC Houghton'!D101","v":82.400700000000001},null,null,32.535584272300447,69.300794499999952,1.1609438499999998,0.9832477555506236,0.25629182840006953]
[1950,null,{"$f":"'FF Global'!B243/1000+'LUC Houghton'!B102","v":2253.3139999999999},{"$f":"'FF China'!B73/1000+'LUC Houghton'!J102","v":311.57709999999997},{"$f":"'FF USA'!B174/1000+'LUC Extended'!C102","v":680.74300000000005},{"$f":"'FF W.Europe'!B226/1000+'LUC Houghton'!F102","v":308.95310000000001},{"$f":"('FF Canada'!B189+'FF Australia'!B123)/1000+'LUC Houghton'!D102","v":89.369200000000006},null,null,32.981529413145516,70.250657649999951,1.2393227,0.98235856088103113,0.26065844234401009]
[1951,null,{"$f":"'FF Global'!B244/1000+'LUC Houghton'!B103","v":2556.58},{"$f":"'FF China'!B74/1000+'LUC Houghton'!J103","v":317.58009999999996},{"$f":"'FF USA'!B175/1000+'LUC Extended'!C103","v":716.21509999999989},{"$f":"'FF W.Europe'!B227/1000+'LUC Houghton'!F103","v":337.4787},{"$f":"('FF Canada'!B190+'FF Australia'!B124)/1000+'LUC Houghton'!D103","v":92.679500000000004},null,null,33.457581666666648,71.264648949999952,1.4061190000000001,0.98026905316005208,0.26533941141637513]
[1952,null,{"$f":"'FF Global'!B245/1000+'LUC Houghton'!B104","v":2580.625},{"$f":"'FF China'!B75/1000+'LUC Houghton'!J104","v":343.09350000000001},{"$f":"'FF USA'!B176/1000+'LUC Extended'!C104","v":652.57280000000003},{"$f":"'FF W.Europe'!B228/1000+'LUC Houghton'!F104","v":331.71519999999998},{"$f":"('FF Canada'!B191+'FF Australia'!B125)/1000+'LUC Houghton'!D104","v":92.796199999999999},null,null,33.997704201877909,72.415109949999945,1.4193437500000001,0.98039989511885006,0.27068018781273534]
[1953,null,{"$f":"'FF Global'!B246/1000+'LUC Houghton'!B105","v":2607.7190000000001},{"$f":"'FF China'!B76/1000+'LUC Houghton'!J105","v":363.63760000000002},{"$f":"'FF USA'!B177/1000+'LUC Extended'!C105","v":644.87829999999997},{"$f":"'FF W.Europe'!B229/1000+'LUC Houghton'!F105","v":331.07600000000002},{"$f":"('FF Canada'!B192+'FF Australia'!B126)/1000+'LUC Houghton'!D105","v":92.673299999999998},null,null,34.542906666666646,73.576391199999946,1.4342454500000001,0.98050671653490939,0.276091612372033]
[1954,null,{"$f":"'FF Global'!B247/1000+'LUC Houghton'!B106","v":2663.018},{"$f":"'FF China'!B77/1000+'LUC Houghton'!J106","v":390.50260000000003},{"$f":"'FF USA'!B178/1000+'LUC Extended'!C106","v":613.28339999999992},{"$f":"'FF W.Europe'!B230/1000+'LUC Houghton'!F106","v":345.33069999999998},{"$f":"('FF Canada'!B193+'FF Australia'!B127)/1000+'LUC Houghton'!D106","v":95.366600000000005},null,null,35.09383321596242,74.749864749999944,1.4646599,0.98040585217246157,0.28158054168943902]
[1955,null,{"$f":"'FF Global'!B248/1000+'LUC Houghton'!B107","v":2826.3140000000003},{"$f":"'FF China'!B78/1000+'LUC Houghton'!J107","v":418.44749999999999},{"$f":"'FF USA'!B179/1000+'LUC Extended'!C107","v":669.20650000000001},{"$f":"'FF W.Europe'!B231/1000+'LUC Houghton'!F107","v":365.77620000000002},{"$f":"('FF Canada'!B194+'FF Australia'!B128)/1000+'LUC Houghton'!D107","v":97.670299999999997},null,null,35.656442652582136,75.948222849999951,1.5544727000000003,0.97953246775674885,0.28720814045070253]
[1956,null,{"$f":"'FF Global'!B249/1000+'LUC Houghton'!B108","v":2969.2860000000001},{"$f":"'FF China'!B79/1000+'LUC Houghton'!J108","v":445.5598},{"$f":"'FF USA'!B180/1000+'LUC Extended'!C108","v":713.13900000000001},{"$f":"'FF W.Europe'!B232/1000+'LUC Houghton'!F108","v":381.51009999999997},{"$f":"('FF Canada'!B195+'FF Australia'!B129)/1000+'LUC Houghton'!D108","v":103.61369999999999},null,null,36.253551244131437,77.220064149999956,1.6331073,0.97885125688541663,0.29320941357711694]
[1957,null,{"$f":"'FF Global'!B250/1000+'LUC Houghton'!B109","v":3033.127},{"$f":"'FF China'!B80/1000+'LUC Houghton'!J109","v":458.54559999999998},{"$f":"'FF USA'!B181/1000+'LUC Extended'!C109","v":703.99869999999999},{"$f":"'FF W.Europe'!B233/1000+'LUC Houghton'!F109","v":384.75290000000001},{"$f":"('FF Canada'!B196+'FF Australia'!B130)/1000+'LUC Houghton'!D109","v":101.86179999999999},null,null,{"$f":"K112/K$2","v":36.880865187793411},{"$f":"K113-L$2*C112/1000","v":78.556242849999961},1.6682198500000003,0.97876400665972019,0.29954440116884862]
[1958,null,{"$f":"'FF Global'!B251/1000+'LUC Houghton'!B110","v":3133.6350000000002},{"$f":"'FF China'!B81/1000+'LUC Houghton'!J110","v":525.13259999999991},{"$f":"'FF USA'!B182/1000+'LUC Extended'!C110","v":715.08429999999998},{"$f":"'FF W.Europe'!B234/1000+'LUC Houghton'!F110","v":377.33869999999996},{"$f":"('FF Canada'!B197+'FF Australia'!B131)/1000+'LUC Houghton'!D110","v":102.2743},null,{"$f":"Concentrations!B5","v":315.52166666666665},{"$f":"I113-J$2","v":37.521666666666647},{"$f":"J113*K$2","v":79.921149999999955},1.7234992500000004,0.97843500437618824,0.30604353974061599]
[1959,null,{"$f":"'FF Global'!B252/1000+'LUC Houghton'!B111","v":3106.94},{"$f":"'FF China'!B82/1000+'LUC Houghton'!J111","v":558.94309999999996},{"$f":"'FF USA'!B183/1000+'LUC Extended'!C111","v":698.8764000000001},{"$f":"'FF W.Europe'!B235/1000+'LUC Houghton'!F111","v":377.79680000000002},{"$f":"('FF Canada'!B198+'FF Australia'!B132)/1000+'LUC Houghton'!D111","v":104.3206},null,{"$f":"Concentrations!B6","v":316.34599165527453},{"$f":"I114-J$2","v":38.345991655274531},{"$f":"J114*K$2","v":81.676962225734741},1.7088170000000003,0.97907834775640579,0.31278882947951903]
[1960,null,{"$f":"'FF Global'!B253/1000+'LUC Houghton'!B112","v":3185.5839999999998},{"$f":"'FF China'!B83/1000+'LUC Houghton'!J112","v":555.99430000000007},{"$f":"'FF USA'!B184/1000+'LUC Extended'!C112","v":713.4076},{"$f":"'FF W.Europe'!B236/1000+'LUC Houghton'!F112","v":402.48679999999996},{"$f":"('FF Canada'!B199+'FF Australia'!B133)/1000+'LUC Houghton'!D112","v":107.5171},null,{"$f":"Concentrations!B7","v":317.00198331054912},39.001983310549122,83.074224451469618,1.7520712000000001,0.97890956898401704,0.31947272677032046]
[1961,null,{"$f":"'FF Global'!B254/1000+'LUC Houghton'!B113","v":3239.7750000000001},{"$f":"'FF China'!B84/1000+'LUC Houghton'!J113","v":473.63070000000005},{"$f":"'FF USA'!B185/1000+'LUC Extended'!C113","v":696.98579999999993},{"$f":"'FF W.Europe'!B237/1000+'LUC Houghton'!F113","v":412.17500000000001},{"$f":"('FF Canada'!B200+'FF Australia'!B134)/1000+'LUC Houghton'!D113","v":108.2641},null,{"$f":"Concentrations!B8","v":317.85714163249031},39.857141632490311,84.895711677204361,1.7818762500000003,0.97901099814352044,0.32635570934493191]
[1962,null,{"$f":"'FF Global'!B255/1000+'LUC Houghton'!B114","v":3285.239},{"$f":"'FF China'!B85/1000+'LUC Houghton'!J114","v":416.25029999999998},{"$f":"'FF USA'!B186/1000+'LUC Extended'!C114","v":728.38170000000002},{"$f":"'FF W.Europe'!B238/1000+'LUC Houghton'!F114","v":433.94919999999996},{"$f":"('FF Canada'!B201+'FF Australia'!B135)/1000+'LUC Houghton'!D114","v":113.09219999999999},null,{"$f":"Concentrations!B9","v":318.48563328776493},40.485633287764927,86.23439890293929,1.8068814500000001,0.97904685980320072,0.3333524444197194]
[1963,null,{"$f":"'FF Global'!B256/1000+'LUC Houghton'!B115","v":3395.9180000000001},{"$f":"'FF China'!B86/1000+'LUC Houghton'!J115","v":404.69040000000007},{"$f":"'FF USA'!B187/1000+'LUC Extended'!C115","v":758.36069999999995},{"$f":"'FF W.Europe'!B239/1000+'LUC Houghton'!F115","v":462.13679999999999},{"$f":"('FF Canada'!B202+'FF Australia'!B136)/1000+'LUC Houghton'!D115","v":115.9395},null,{"$f":"Concentrations!B10","v":319.03412494303939},41.034124943039387,87.402686128673892,1.8677549000000002,0.97863046340188786,0.34048671019355187]
[1964,null,{"$f":"'FF Global'!B257/1000+'LUC Houghton'!B116","v":3505.9449999999997},{"$f":"'FF China'!B87/1000+'LUC Houghton'!J116","v":404.14919999999995},{"$f":"'FF USA'!B188/1000+'LUC Extended'!C116","v":792.50430000000006},{"$f":"'FF W.Europe'!B240/1000+'LUC Houghton'!F116","v":477.61100000000005},{"$f":"('FF Canada'!B203+'FF Australia'!B137)/1000+'LUC Houghton'!D116","v":125.5009},null,{"$f":"Concentrations!B11","v":319.65094993164729},41.65094993164729,88.716523354408722,1.9282697499999999,0.97826481835523627,0.34792163429080419]
[1965,null,{"$f":"'FF Global'!B258/1000+'LUC Houghton'!B117","v":3629.4609999999998},{"$f":"'FF China'!B88/1000+'LUC Houghton'!J117","v":414.08460000000002},{"$f":"'FF USA'!B189/1000+'LUC Extended'!C117","v":824.79189999999994},{"$f":"'FF W.Europe'!B241/1000+'LUC Houghton'!F117","v":493.49270000000001},{"$f":"('FF Canada'!B204+'FF Australia'!B138)/1000+'LUC Houghton'!D117","v":132.80289999999999},null,{"$f":"Concentrations!B12","v":320.75110825358854},42.751108253588541,91.059860580143592,1.9962035499999999,0.97807811765489028,0.35565179056093149]
[1966,null,{"$f":"'FF Global'!B259/1000+'LUC Houghton'!B118","v":3771.9790000000003},{"$f":"'FF China'!B89/1000+'LUC Houghton'!J118","v":425.68730000000005},{"$f":"'FF USA'!B190/1000+'LUC Extended'!C118","v":903.4351999999999},{"$f":"'FF W.Europe'!B242/1000+'LUC Houghton'!F118","v":507.73669999999998},{"$f":"('FF Canada'!B205+'FF Australia'!B139)/1000+'LUC Houghton'!D118","v":134.70670000000001},null,{"$f":"Concentrations!B13","v":321.81126657552977},43.811266575529771,93.317997805878406,2.0745884500000003,0.97776861378535374,0.36362309322865494]
[1967,null,{"$f":"'FF Global'!B260/1000+'LUC Houghton'!B119","v":3850.3990000000003},{"$f":"'FF China'!B90/1000+'LUC Houghton'!J119","v":400.3098},{"$f":"'FF USA'!B191/1000+'LUC Extended'!C119","v":944.04840000000002},{"$f":"'FF W.Europe'!B243/1000+'LUC Houghton'!F119","v":516.25699999999995},{"$f":"('FF Canada'!B206+'FF Australia'!B140)/1000+'LUC Houghton'!D119","v":143.28640000000001},null,{"$f":"Concentrations!B14","v":322.46309156413759},44.463091564137585,94.706385031613053,2.1177194500000005,0.97763910586078118,0.3718907398969547]
[1968,null,{"$f":"'FF Global'!B261/1000+'LUC Houghton'!B120","v":3921.3890000000001},{"$f":"'FF China'!B91/1000+'LUC Houghton'!J120","v":409.62019999999995},{"$f":"'FF USA'!B192/1000+'LUC Extended'!C120","v":982.00399999999991},{"$f":"'FF W.Europe'!B244/1000+'LUC Houghton'!F120","v":544.76529999999991},{"$f":"('FF Canada'!B207+'FF Australia'!B141)/1000+'LUC Houghton'!D120","v":150.6388},null,{"$f":"Concentrations!B15","v":323.57658321941221},45.576583219412214,97.078122257348014,2.1567639500000002,0.97778321314989436,0.38039675138559065]
[1969,null,{"$f":"'FF Global'!B262/1000+'LUC Houghton'!B121","v":4108.152},{"$f":"'FF China'!B92/1000+'LUC Houghton'!J121","v":438.63409999999999},{"$f":"'FF USA'!B193/1000+'LUC Extended'!C121","v":1045.9092000000001},{"$f":"'FF W.Europe'!B245/1000+'LUC Houghton'!F121","v":574.62830000000008},{"$f":"('FF Canada'!B208+'FF Australia'!B142)/1000+'LUC Houghton'!D121","v":153.76519999999999},null,{"$f":"Concentrations!B16","v":325.00507487468678},47.005074874686784,100.12080948308285,2.2594835999999998,0.97743242776735861,0.38903996946332903]
[1970,null,{"$f":"'FF Global'!B263/1000+'LUC Houghton'!B122","v":4333.7190000000001},{"$f":"'FF China'!B93/1000+'LUC Houghton'!J122","v":491.20979999999997},{"$f":"'FF USA'!B194/1000+'LUC Extended'!C122","v":1127.4947},{"$f":"'FF W.Europe'!B246/1000+'LUC Houghton'!F122","v":618.34320000000002},{"$f":"('FF Canada'!B209+'FF Australia'!B143)/1000+'LUC Houghton'!D122","v":164.51509999999999},null,{"$f":"Concentrations!B17","v":325.91439986329465},47.914399863294648,102.05767170881759,2.3835454500000002,0.97664511241447349,0.39802236800345392]
[1971,null,{"$f":"'FF Global'!B264/1000+'LUC Houghton'!B123","v":4296.8919999999998},{"$f":"'FF China'!B94/1000+'LUC Houghton'!J123","v":519.71460000000002},{"$f":"'FF USA'!B195/1000+'LUC Extended'!C123","v":1098.7602999999999},{"$f":"'FF W.Europe'!B247/1000+'LUC Houghton'!F123","v":630.71259999999995},{"$f":"('FF Canada'!B210+'FF Australia'!B144)/1000+'LUC Houghton'!D123","v":168.94799999999998},null,{"$f":"Concentrations!B18","v":326.97789151856915},48.977891518569152,104.32290893455229,2.3632906000000005,0.97734638897499848,0.40754042890713738]
[1972,null,{"$f":"'FF Global'!B265/1000+'LUC Houghton'!B124","v":4422.4110000000001},{"$f":"'FF China'!B95/1000+'LUC Houghton'!J124","v":536.87950000000001},{"$f":"'FF USA'!B196/1000+'LUC Extended'!C124","v":1163.9576999999999},{"$f":"'FF W.Europe'!B248/1000+'LUC Houghton'!F124","v":649.58199999999999},{"$f":"('FF Canada'!B211+'FF Australia'!B145)/1000+'LUC Houghton'!D124","v":176.98069999999998},null,{"$f":"Concentrations!B19","v":328.28388317384372},50.283883173843719,107.10467116028711,2.4323260499999999,0.97729019636912096,0.41698668302703751]
[1973,null,{"$f":"'FF Global'!B266/1000+'LUC Houghton'!B125","v":4584.0249999999996},{"$f":"'FF China'!B96/1000+'LUC Houghton'!J125","v":548.81639999999993},{"$f":"'FF USA'!B197/1000+'LUC Extended'!C125","v":1207.934},{"$f":"'FF W.Europe'!B249/1000+'LUC Houghton'!F125","v":684.03030000000001},{"$f":"('FF Canada'!B212+'FF Australia'!B146)/1000+'LUC Houghton'!D125","v":180.8545},null,{"$f":"Concentrations!B20","v":329.4615414957849},51.4615414957849,109.61308338602183,2.5212137499999998,0.97699897063272001,0.42667642075634032]
[1974,null,{"$f":"'FF Global'!B267/1000+'LUC Houghton'!B126","v":4557.0540000000001},{"$f":"'FF China'!B97/1000+'LUC Houghton'!J126","v":556.64800000000002},{"$f":"'FF USA'!B198/1000+'LUC Extended'!C126","v":1161.9331},{"$f":"'FF W.Europe'!B250/1000+'LUC Houghton'!F126","v":661.95839999999998},{"$f":"('FF Canada'!B213+'FF Australia'!B147)/1000+'LUC Houghton'!D126","v":183.57750000000001},null,{"$f":"Concentrations!B21","v":330.33753315105946},52.337533151059461,111.47894561175664,2.5063797000000005,0.97751701286511206,0.43672146397454026]
[1975,null,{"$f":"'FF Global'!B268/1000+'LUC Houghton'!B127","v":4526.95},{"$f":"'FF China'!B98/1000+'LUC Houghton'!J127","v":603.69749999999999},{"$f":"'FF USA'!B199/1000+'LUC Extended'!C127","v":1120.1100999999999},{"$f":"'FF W.Europe'!B251/1000+'LUC Houghton'!F127","v":633.03800000000001},{"$f":"('FF Canada'!B214+'FF Australia'!B148)/1000+'LUC Houghton'!D127","v":186.58249999999998},null,{"$f":"Concentrations!B22","v":331.53935813966734},53.539358139667343,114.03883283749144,2.4898225000000003,0.97816688896186732,0.44676610046356668]
[1976,null,{"$f":"'FF Global'!B269/1000+'LUC Houghton'!B128","v":4776.415},{"$f":"'FF China'!B99/1000+'LUC Houghton'!J128","v":629.65359999999998},{"$f":"'FF USA'!B200/1000+'LUC Extended'!C128","v":1193.2050999999999},{"$f":"'FF W.Europe'!B252/1000+'LUC Houghton'!F128","v":670.98759999999993},{"$f":"('FF Canada'!B215+'FF Australia'!B149)/1000+'LUC Houghton'!D128","v":186.82570000000001},null,{"$f":"Concentrations!B23","v":332.7570164616086},54.7570164616086,116.63244506322631,2.6270282500000004,0.97747600808183444,0.45673811443129242]
[1977,null,{"$f":"'FF Global'!B270/1000+'LUC Houghton'!B129","v":4903.5529999999999},{"$f":"'FF China'!B100/1000+'LUC Houghton'!J129","v":663.69569999999999},{"$f":"'FF USA'!B201/1000+'LUC Extended'!C129","v":1233.0339999999999},{"$f":"'FF W.Europe'!B253/1000+'LUC Houghton'!F129","v":656.82850000000008},{"$f":"('FF Canada'!B216+'FF Australia'!B150)/1000+'LUC Houghton'!D129","v":193.03290000000001},null,{"$f":"Concentrations!B24","v":334.55800811688312},56.558008116883116,120.46855728896104,2.6969541499999998,0.97761279614620955,0.46726273653261291]
[1978,null,{"$f":"'FF Global'!B271/1000+'LUC Houghton'!B130","v":5042.5439999999999},{"$f":"'FF China'!B101/1000+'LUC Houghton'!J130","v":684.08660000000009},{"$f":"'FF USA'!B202/1000+'LUC Extended'!C130","v":1279.3546000000001},{"$f":"'FF W.Europe'!B254/1000+'LUC Houghton'!F130","v":673.84299999999996},{"$f":"('FF Canada'!B217+'FF Australia'!B151)/1000+'LUC Houghton'!D130","v":199.1361},null,{"$f":"Concentrations!B25","v":335.99066643882429},57.990666438824292,123.52011951469574,2.7733992000000005,0.97754698416017938,{"$f":"N134*M133","v":0.47796299145692661}]
[1979,null,{"$f":"'FF Global'!B272/1000+'LUC Houghton'!B131","v":5132.4650000000001},{"$f":"'FF China'!B102/1000+'LUC Houghton'!J131","v":655.71249999999998},{"$f":"'FF USA'!B203/1000+'LUC Extended'!C131","v":1285.0295999999998},{"$f":"'FF W.Europe'!B255/1000+'LUC Houghton'!F131","v":706.33529999999996},{"$f":"('FF Canada'!B218+'FF Australia'!B152)/1000+'LUC Houghton'!D131","v":207.2218},null,{"$f":"Concentrations!B26","v":337.7299914274322},59.729991427432196,127.22488174043058,{"$f":"(1-L$2)*C134/1000","v":2.82285575},{"$f":"1-L134/K134","v":0.97781207801977521},0.48894119587259482]
[{"$f":"A134+1","v":1980},null,{"$f":"'FF Global'!B273/1000+'LUC Houghton'!B132","v":5037.1930000000002},{"$f":"'FF China'!B103/1000+'LUC Houghton'!J132","v":609.62630000000001},{"$f":"'FF USA'!B204/1000+'LUC Extended'!C132","v":1234.1210999999998},{"$f":"'FF W.Europe'!B256/1000+'LUC Houghton'!F132","v":673.34659999999997},{"$f":"('FF Canada'!B219+'FF Australia'!B153)/1000+'LUC Houghton'!D132","v":211.93349999999998},null,{"$f":"Concentrations!B27","v":339.25931641604006},61.259316416040065,130.48234396616533,2.7704561500000002,0.97876757831145034,0.50003595462103356]
[1981,null,{"$f":"'FF Global'!B274/1000+'LUC Houghton'!B133","v":4960.6450000000004},{"$f":"'FF China'!B104/1000+'LUC Houghton'!J133","v":564.61259999999993},{"$f":"'FF USA'!B205/1000+'LUC Extended'!C133","v":1186.7449999999999},{"$f":"'FF W.Europe'!B257/1000+'LUC Houghton'!F133","v":638.7319},{"$f":"('FF Canada'!B220+'FF Australia'!B154)/1000+'LUC Houghton'!D133","v":211.0712},null,{"$f":"Concentrations!B28","v":340.47947473798138},62.479474737981377,133.08128119190033,2.7283547500000003,0.97949858368085763,0.51088324307154231]
[1982,null,{"$f":"'FF Global'!B275/1000+'LUC Houghton'!B134","v":5128.433},{"$f":"'FF China'!B105/1000+'LUC Houghton'!J134","v":553.79739999999993},{"$f":"'FF USA'!B206/1000+'LUC Extended'!C134","v":1136.4194},{"$f":"'FF W.Europe'!B258/1000+'LUC Houghton'!F134","v":610.28129999999999},{"$f":"('FF Canada'!B221+'FF Australia'!B155)/1000+'LUC Houghton'!D134","v":204.74},null,{"$f":"Concentrations!B29","v":341.70879972658918},63.708799726589177,135.69974341763495,2.8206381500000002,0.97921412318872936,0.52157629585506315]
[1983,null,{"$f":"'FF Global'!B276/1000+'LUC Houghton'!B135","v":5218.3209999999999},{"$f":"'FF China'!B106/1000+'LUC Houghton'!J135","v":556.07270000000005},{"$f":"'FF USA'!B207/1000+'LUC Extended'!C135","v":1145.2201},{"$f":"'FF W.Europe'!B259/1000+'LUC Houghton'!F135","v":598.20500000000004},{"$f":"('FF Canada'!B222+'FF Australia'!B156)/1000+'LUC Houghton'!D135","v":199.78809999999999},null,{"$f":"Concentrations!B30","v":343.71229138186379},65.712291381863793,139.96718064336986,2.8700765500000003,0.97949464626773597,0.53264784841602708]
[1984,null,{"$f":"'FF Global'!B277/1000+'LUC Houghton'!B136","v":5396.9939999999997},{"$f":"'FF China'!B107/1000+'LUC Houghton'!J136","v":588.70100000000002},{"$f":"'FF USA'!B208/1000+'LUC Extended'!C136","v":1177.9213999999999},{"$f":"'FF W.Europe'!B260/1000+'LUC Houghton'!F136","v":595.05889999999999},{"$f":"('FF Canada'!B223+'FF Australia'!B157)/1000+'LUC Houghton'!D136","v":206.79409999999999},null,{"$f":"Concentrations!B31","v":345.04661637047167},67.046616370471668,142.80929286910464,2.9683467000000001,0.97921461103570684,0.54379863171853682]
[1985,null,{"$f":"'FF Global'!B278/1000+'LUC Houghton'!B137","v":5528.3580000000002},{"$f":"'FF China'!B108/1000+'LUC Houghton'!J137","v":619.01239999999996},{"$f":"'FF USA'!B209/1000+'LUC Extended'!C137","v":1185.6980000000001},{"$f":"'FF W.Europe'!B261/1000+'LUC Houghton'!F137","v":612.81150000000002},{"$f":"('FF Canada'!B224+'FF Australia'!B158)/1000+'LUC Houghton'!D137","v":206.35720000000001},null,{"$f":"Concentrations!B32","v":346.38594135907948},68.385941359079482,145.66205509483927,3.0405969000000006,0.97912567622350033,0.55534162336830917]
[1986,null,{"$f":"'FF Global'!B279/1000+'LUC Houghton'!B138","v":5617.2109999999993},{"$f":"'FF China'!B109/1000+'LUC Houghton'!J138","v":641.00069999999994},{"$f":"'FF USA'!B210/1000+'LUC Extended'!C138","v":1191.6615999999999},{"$f":"'FF W.Europe'!B262/1000+'LUC Houghton'!F138","v":608.05190000000005},{"$f":"('FF Canada'!B225+'FF Australia'!B159)/1000+'LUC Houghton'!D138","v":200.64689999999999},null,{"$f":"Concentrations!B33","v":348.10609968102074},70.106099681020737,149.32599232057416,3.08946605,0.97931059421076871,0.56718114625516569]
[1987,null,{"$f":"'FF Global'!B280/1000+'LUC Houghton'!B139","v":5782.780999999999},{"$f":"'FF China'!B110/1000+'LUC Houghton'!J139","v":673.55889999999999},{"$f":"'FF USA'!B211/1000+'LUC Extended'!C139","v":1247.4453999999998},{"$f":"'FF W.Europe'!B263/1000+'LUC Houghton'!F139","v":616.02130000000011},{"$f":"('FF Canada'!B226+'FF Australia'!B160)/1000+'LUC Houghton'!D139","v":211.70949999999999},null,{"$f":"Concentrations!B34","v":350.27209133629526},72.272091336295261,153.9395545463089,3.1805295499999997,0.97933910125065859,0.57916369904305975]
[1988,null,{"$f":"'FF Global'!B281/1000+'LUC Houghton'!B140","v":5997.4780000000001},{"$f":"'FF China'!B111/1000+'LUC Houghton'!J140","v":710.99770000000001},{"$f":"'FF USA'!B212/1000+'LUC Extended'!C140","v":1312.6153999999999},{"$f":"'FF W.Europe'!B264/1000+'LUC Houghton'!F140","v":614.02210000000002},{"$f":"('FF Canada'!B227+'FF Australia'!B161)/1000+'LUC Houghton'!D140","v":219.32139999999998},null,{"$f":"Concentrations!B35","v":351.98641632490319},73.986416324903189,157.59106677204377,3.2986129000000002,0.97906852864463789,0.59138218652093288]
[1989,null,{"$f":"'FF Global'!B282/1000+'LUC Houghton'!B141","v":6123.4650000000001},{"$f":"'FF China'!B112/1000+'LUC Houghton'!J141","v":723.41340000000002},{"$f":"'FF USA'!B213/1000+'LUC Extended'!C141","v":1329.4884999999999},{"$f":"'FF W.Europe'!B265/1000+'LUC Houghton'!F141","v":642.27879999999993},{"$f":"('FF Canada'!B228+'FF Australia'!B162)/1000+'LUC Houghton'!D141","v":225.33440000000002},null,{"$f":"Concentrations!B36","v":353.36574131351108},75.36574131351108,160.5290289977786,3.3679057500000003,0.97901995812827969,0.60402532531569153]
[1990,null,{"$f":"'FF Global'!B283/1000+'LUC Houghton'!B142","v":6074.3959999999997},{"$f":"'FF China'!B113/1000+'LUC Houghton'!J142","v":732.154},{"$f":"'FF USA'!B214/1000+'LUC Extended'!C142","v":1283.4472000000001},{"$f":"'FF W.Europe'!B266/1000+'LUC Houghton'!F142","v":628.62959999999998},{"$f":"('FF Canada'!B229+'FF Australia'!B163)/1000+'LUC Houghton'!D142","v":213.3939},null,{"$f":"Concentrations!B37","v":354.70839963545222},76.708399635452224,163.38889122351324,3.3409178000000002,0.9795523564975438,0.61696936850039874]
[1991,null,{"$f":"'FF Global'!B284/1000+'LUC Houghton'!B143","v":6496.0349999999999},{"$f":"'FF China'!B114/1000+'LUC Houghton'!J143","v":755.70129999999995},{"$f":"'FF USA'!B215/1000+'LUC Extended'!C143","v":1283.1272000000001},{"$f":"'FF W.Europe'!B267/1000+'LUC Houghton'!F143","v":636.29059999999993},{"$f":"('FF Canada'!B230+'FF Australia'!B164)/1000+'LUC Houghton'!D143","v":210.00620000000001},null,{"$f":"Concentrations!B38","v":355.82189129072685},77.821891290726853,165.7606284492482,3.5728192500000002,0.97844591153264171,0.62984828162367423]
[1992,null,{"$f":"'FF Global'!B285/1000+'LUC Houghton'!B144","v":7468.7060000000001},{"$f":"'FF China'!B115/1000+'LUC Houghton'!J144","v":775.02510000000007},{"$f":"'FF USA'!B216/1000+'LUC Extended'!C144","v":1307.3212000000001},{"$f":"'FF W.Europe'!B268/1000+'LUC Houghton'!F144","v":621.07659999999998},{"$f":"('FF Canada'!B231+'FF Australia'!B165)/1000+'LUC Houghton'!D144","v":214.83450000000002},null,{"$f":"Concentrations!B39","v":356.60121627933466},78.601216279334665,167.42059067498283,4.1077883000000002,0.97546425870653786,0.64372314728882385]
[1993,null,{"$f":"'FF Global'!B286/1000+'LUC Houghton'!B145","v":7516.63},{"$f":"'FF China'!B116/1000+'LUC Houghton'!J145","v":824.54750000000001},{"$f":"'FF USA'!B217/1000+'LUC Extended'!C145","v":1340.5442},{"$f":"'FF W.Europe'!B269/1000+'LUC Houghton'!F145","v":610.20459999999991},{"$f":"('FF Canada'!B232+'FF Australia'!B166)/1000+'LUC Houghton'!D145","v":218.06200000000001},null,{"$f":"Concentrations!B40","v":358.07387460127592},80.073874601275918,170.55735290071769,4.1341465000000008,0.97576095999562973,0.65991464222625484]
[1994,null,{"$f":"'FF Global'!B287/1000+'LUC Houghton'!B146","v":7528.4629999999997},{"$f":"'FF China'!B117/1000+'LUC Houghton'!J146","v":877.00880000000006},{"$f":"'FF USA'!B218/1000+'LUC Extended'!C146","v":1358.4182000000001},{"$f":"'FF W.Europe'!B270/1000+'LUC Houghton'!F146","v":612.8925999999999},{"$f":"('FF Canada'!B233+'FF Australia'!B167)/1000+'LUC Houghton'!D146","v":220.6181},null,{"$f":"Concentrations!B41","v":360.02736625655047},82.027366256550465,174.71829012645247,4.1406546500000001,0.97630096627546437,0.67630769141369473]
[1995,null,{"$f":"'FF Global'!B288/1000+'LUC Houghton'!B147","v":7623.3960000000006},{"$f":"'FF China'!B118/1000+'LUC Houghton'!J147","v":936.52660000000003},{"$f":"'FF USA'!B219/1000+'LUC Extended'!C147","v":1369.1992},{"$f":"'FF W.Europe'!B271/1000+'LUC Houghton'!F147","v":622.0856},{"$f":"('FF Canada'!B234+'FF Australia'!B168)/1000+'LUC Houghton'!D147","v":223.79590000000002},null,{"$f":"Concentrations!B42","v":361.79252457849168},83.79252457849168,178.47807735218726,4.192867800000001,0.97650765930357764,0.69272459495125993]
[1996,null,{"$f":"'FF Global'!B289/1000+'LUC Houghton'!B148","v":7761.4989999999998},{"$f":"'FF China'!B119/1000+'LUC Houghton'!J148","v":971.71310000000005},{"$f":"'FF USA'!B220/1000+'LUC Extended'!C148","v":1402.6562000000001},{"$f":"'FF W.Europe'!B272/1000+'LUC Houghton'!F148","v":644.25659999999993},{"$f":"('FF Canada'!B235+'FF Australia'!B169)/1000+'LUC Houghton'!D148","v":231.85990000000001},null,{"$f":"Concentrations!B43","v":363.1685162337663},85.168516233766297,181.40893957792221,4.2688244500000003,0.97646850006437325,0.70938982234434789]
[1997,null,{"$f":"'FF Global'!B290/1000+'LUC Houghton'!B149","v":7727.4800000000005},{"$f":"'FF China'!B120/1000+'LUC Houghton'!J149","v":967.23230000000001},{"$f":"'FF USA'!B221/1000+'LUC Extended'!C149","v":1433.8912},{"$f":"'FF W.Europe'!B273/1000+'LUC Houghton'!F149","v":635.2245999999999},{"$f":"('FF Canada'!B236+'FF Australia'!B170)/1000+'LUC Houghton'!D149","v":236.70410000000001},null,{"$f":"Concentrations!B44","v":365.23450788904074},87.234507889040742,185.80950180365676,4.2501140000000008,0.97712649805987284,0.72648510658314291]
[1998,null,{"$f":"'FF Global'!B291/1000+'LUC Houghton'!B150","v":7649.6189999999997},{"$f":"'FF China'!B121/1000+'LUC Houghton'!J150","v":918.62609999999995},{"$f":"'FF USA'!B222/1000+'LUC Extended'!C150","v":1443.6222},{"$f":"'FF W.Europe'!B274/1000+'LUC Houghton'!F150","v":654.4215999999999},{"$f":"('FF Canada'!B237+'FF Australia'!B171)/1000+'LUC Houghton'!D150","v":242.7038},null,{"$f":"Concentrations!B45","v":367.77633287764866},89.776332877648656,191.22358902939163,4.2072904500000003,0.97799805729326983,0.74349135759352625]
[1999,null,{"$f":"'FF Global'!B292/1000+'LUC Houghton'!B151","v":7718.6229999999996},{"$f":"'FF China'!B122/1000+'LUC Houghton'!J151","v":909.87509999999997},{"$f":"'FF USA'!B223/1000+'LUC Extended'!C151","v":1470.7592000000002},{"$f":"'FF W.Europe'!B275/1000+'LUC Houghton'!F151","v":649.55459999999994},{"$f":"('FF Canada'!B238+'FF Australia'!B172)/1000+'LUC Houghton'!D151","v":247.18530000000001},null,{"$f":"Concentrations!B46","v":369.00732453292323},91.007324532923235,193.84560125512647,4.2452426499999998,0.97809987628033557,0.76021762216095834]
[2000,null,{"$f":"'FF Global'!B293/1000+'LUC Houghton'!B152","v":7865.6810000000005},{"$f":"'FF China'!B123/1000+'LUC Houghton'!J152","v":915.6857},{"$f":"'FF USA'!B224/1000+'LUC Extended'!C152","v":1522.9542000000001},{"$f":"'FF W.Europe'!B276/1000+'LUC Houghton'!F152","v":656.06659999999999},{"$f":"('FF Canada'!B239+'FF Australia'!B173)/1000+'LUC Houghton'!D152","v":253.21709999999999},null,{"$f":"Concentrations!B47","v":370.49748285486442},92.497482854864415,197.0196384808612,4.3261245500000003,0.97804216582998016,0.77723925807252692]
[2001,null,{"$f":"'FF Global'!B294/1000+'LUC Houghton'!B153","v":7891.0210000000006},{"$f":"'FF China'!B124/1000+'LUC Houghton'!J153","v":938.15269999999998},{"$f":"'FF USA'!B225/1000+'LUC Extended'!C153","v":1495.5682000000002},{"$f":"'FF W.Europe'!B277/1000+'LUC Houghton'!F153","v":670.99959999999999},{"$f":"('FF Canada'!B240+'FF Australia'!B174)/1000+'LUC Houghton'!D153","v":250.17410000000001},null,{"$f":"Concentrations!B48","v":372.413474510139},94.413474510138997,201.10070070659606,4.3400615500000006,0.9784184662969817,0.79468890527122715]
[2002,null,{"$f":"'FF Global'!B295/1000+'LUC Houghton'!B154","v":8125.9690000000001},{"$f":"'FF China'!B125/1000+'LUC Houghton'!J154","v":994.51369999999997},{"$f":"'FF USA'!B226/1000+'LUC Extended'!C154","v":1508.4732000000001},{"$f":"'FF W.Europe'!B278/1000+'LUC Houghton'!F154","v":672.18559999999991},{"$f":"('FF Canada'!B241+'FF Australia'!B175)/1000+'LUC Houghton'!D154","v":252.33410000000001},null,{"$f":"Concentrations!B49","v":374.64863283208024},96.648632832080239,205.86158793233091,4.4692829500000011,0.97828986458868128,0.8122178113408719]
[2003,null,{"$f":"'FF Global'!B296/1000+'LUC Houghton'!B155","v":8495.6350000000002},{"$f":"'FF China'!B126/1000+'LUC Houghton'!J155","v":1221.1116999999999},{"$f":"'FF USA'!B227/1000+'LUC Extended'!C155","v":1516.7892000000002},{"$f":"'FF W.Europe'!B279/1000+'LUC Houghton'!F155","v":693.43159999999989},{"$f":"('FF Canada'!B242+'FF Australia'!B176)/1000+'LUC Houghton'!D155","v":260.19210000000004},null,{"$f":"Concentrations!B50","v":376.59545782068813},98.595457820688125,210.0083251580657,4.6725992500000002,0.97775040943503977,0.83024248818356738]
[2004,null,{"$f":"'FF Global'!B297/1000+'LUC Houghton'!B156","v":8872.969000000001},{"$f":"'FF China'!B127/1000+'LUC Houghton'!J156","v":1429.1806999999999},{"$f":"'FF USA'!B228/1000+'LUC Extended'!C156","v":1539.7602000000002},{"$f":"'FF W.Europe'!B280/1000+'LUC Houghton'!F156","v":700.66159999999991},{"$f":"('FF Canada'!B243+'FF Australia'!B177)/1000+'LUC Houghton'!D156","v":261.71510000000001},null,{"$f":"Concentrations!B51","v":378.54561614262934},100.54561614262934,214.16216238380048,4.880132950000001,0.97721290775326453,0.8491354032398668]
[2005,null,{"$f":"'FF Global'!B298/1000+'LUC Houghton'!B157","v":9007.5929999999989},{"$f":"'FF China'!B128/1000+'LUC Houghton'!J157","v":1566.0367000000001},{"$f":"'FF USA'!B229/1000+'LUC Extended'!C157","v":1548.4062000000001},{"$f":"'FF W.Europe'!B281/1000+'LUC Houghton'!F157","v":701.46259999999995},{"$f":"('FF Canada'!B244+'FF Australia'!B178)/1000+'LUC Houghton'!D157","v":266.68209999999999},null,{"$f":"Concentrations!B52","v":380.77494113123726},102.77494113123726,218.91062460953535,4.9541761500000003,0.97736895521249079,0.8689359263501093]
[2006,null,{"$f":"'FF Global'!B299/1000+'LUC Houghton'!B158","v":7809.6210000000001},{"$f":"'FF China'!B129/1000+'LUC Houghton'!J158","v":1749.24},{"$f":"'FF USA'!B230/1000+'LUC Extended'!C158","v":1523.830688},{"$f":"'FF W.Europe'!B282/1000+'LUC Houghton'!F158","v":716.58399999999995},{"$f":"('FF Canada'!B245+'FF Australia'!B179)/1000+'LUC Houghton'!D158","v":247.66300000000001},null,{"$f":"Concentrations!B53","v":382.69259945317839},104.69259945317839,222.99523683526996,4.2952915500000008,0.98073819149252506,0.88905619696217286]
[2007,null,{"$f":"'FF Global'!B300/1000+'LUC Houghton'!B159","v":8021.2139999999999},{"$f":"'FF China'!B130/1000+'LUC Houghton'!J159","v":1852.1420000000001},{"$f":"'FF USA'!B231/1000+'LUC Extended'!C159","v":1548.6923173119999},{"$f":"'FF W.Europe'!B283/1000+'LUC Houghton'!F159","v":708.178},{"$f":"('FF Canada'!B246+'FF Australia'!B180)/1000+'LUC Houghton'!D159","v":252.14},null,{"$f":"Concentrations!B54","v":384.78692444178637},106.78692444178637,227.45614906100496,4.4116676999999997,0.98060431552098082,0.90651736077410527]
[2008,null,{"$f":"'FF Global'!B301/1000+'LUC Houghton'!B160","v":8156.7730000000001},{"$f":"'FF China'!B131/1000+'LUC Houghton'!J160","v":1918.5830000000001},{"$f":"'FF USA'!B232/1000+'LUC Extended'!C160","v":1501.6970779258879},{"$f":"'FF W.Europe'!B284/1000+'LUC Houghton'!F160","v":693.05100000000004},{"$f":"('FF Canada'!B247+'FF Australia'!B181)/1000+'LUC Houghton'!D160","v":250.96899999999999},null,{"$f":"Concentrations!B55","v":386.37708276372751},108.37708276372751,230.84318628673958,4.4862251500000001,0.9805659191325341,0.92444765582383326]
[2009,null,{"$f":"'FF Global'!B302/1000+'LUC Houghton'!B161","v":8132.1679999999997},{"$f":"'FF China'!B132/1000+'LUC Houghton'!J161","v":2097.6849999999999},{"$f":"'FF USA'!B233/1000+'LUC Extended'!C161","v":1406.7442798405509},{"$f":"'FF W.Europe'!B285/1000+'LUC Houghton'!F161","v":642.94200000000001},{"$f":"('FF Canada'!B248+'FF Australia'!B182)/1000+'LUC Houghton'!D161","v":242.67500000000001},null,{"$f":"Concentrations!B56","v":388.5139077523354},110.5139077523354,235.3946235124744,4.4726923999999997,0.98099917350167098,0.94276951481411231]
[2010,null,{"$f":"'FF Global'!B303/1000+'LUC Houghton'!B162","v":8519.5020000000004},{"$f":"'FF China'!B133/1000+'LUC Houghton'!J162","v":2251.6959999999999},{"$f":"'FF USA'!B234/1000+'LUC Extended'!C162","v":1443.5292637447653},{"$f":"'FF W.Europe'!B286/1000+'LUC Houghton'!F162","v":654.48400000000004},{"$f":"('FF Canada'!B249+'FF Australia'!B183)/1000+'LUC Houghton'!D162","v":235.69},null,{"$f":"Concentrations!B57","v":390.71573274094328},112.71573274094328,240.08451073820919,4.685726100000001,0.98048301372882252,0.96102987676218099]
[2011,null,{"$f":"'FF Global'!B304/1000+'LUC Houghton'!B163","v":8807.0460000000003},{"$f":"'FF China'!B134/1000+'LUC Houghton'!J163","v":2459.645},{"$f":"'FF USA'!B235/1000+'LUC Extended'!C163","v":1415.4054040554972},{"$f":"'FF W.Europe'!B287/1000+'LUC Houghton'!F163","v":620.05999999999995},{"$f":"('FF Canada'!B250+'FF Australia'!B184)/1000+'LUC Houghton'!D163","v":233.02500000000001},null,{"$f":"Concentrations!B58","v":392.62089106288448},114.62089106288448,244.14249796394392,4.8438753000000005,0.98015963897971026,{"$f":"N167*M166","v":0.98015963897971026}]
[2012,null,null,null,null,null,null,null,null,null,null,null,null,1]

{"sheet":"coefficients","index":11,"n_rows":167,"n_cols":4,"rows_kept":167,"cut":false,"hidden":false,"merged":[]}
["Year",null,null,"Remains in Air"]
[{"$f":"A167","v":2012}]
[]
[]
[1850,null,null,{"$f":"'Combined, MtC'!N5","v":2.8419140727989161E-2}]
[{"$f":"A5+1","v":1851},null,null,{"$f":"'Combined, MtC'!N6","v":2.9167403382314758E-2}]
[{"$f":"A6+1","v":1852},null,null,{"$f":"'Combined, MtC'!N7","v":2.9908929975874628E-2}]
[{"$f":"A7+1","v":1853},null,null,{"$f":"'Combined, MtC'!N8","v":3.0735251838243813E-2}]
[1854,null,null,{"$f":"'Combined, MtC'!N9","v":3.1566930801667448E-2}]
[1855,null,null,{"$f":"'Combined, MtC'!N10","v":3.2414431559139908E-2}]
[1856,null,null,{"$f":"'Combined, MtC'!N11","v":3.3263956443172399E-2}]
[1857,null,null,{"$f":"'Combined, MtC'!N12","v":3.4132237332353627E-2}]
[1858,null,null,{"$f":"'Combined, MtC'!N13","v":3.5013599905699237E-2}]
[1859,null,null,{"$f":"'Combined, MtC'!N14","v":3.590815525379381E-2}]
[1860,null,null,{"$f":"'Combined, MtC'!N15","v":3.6821329683083694E-2}]
[1861,null,null,{"$f":"'Combined, MtC'!N16","v":3.7757554666204209E-2}]
[1862,null,null,{"$f":"'Combined, MtC'!N17","v":3.8720036230732259E-2}]
[1863,null,null,{"$f":"'Combined, MtC'!N18","v":3.9603088853678359E-2}]
[1864,null,null,{"$f":"'Combined, MtC'!N19","v":4.0499318635055404E-2}]
[1865,null,null,{"$f":"'Combined, MtC'!N20","v":4.1411392013833238E-2}]
[1866,null,null,{"$f":"'Combined, MtC'!N21","v":4.2338284691410072E-2}]
[1867,null,null,{"$f":"'Combined, MtC'!N22","v":4.3273567013137414E-2}]
[1868,null,null,{"$f":"'Combined, MtC'!N23","v":4.4222539581650754E-2}]
[1869,null,null,{"$f":"'Combined, MtC'!N24","v":4.5178085611218576E-2}]
[1870,null,null,{"$f":"'Combined, MtC'!N25","v":4.614659914394708E-2}]
[1871,null,null,{"$f":"'Combined, MtC'!N26","v":4.7121333360084929E-2}]
[1872,null,null,{"$f":"'Combined, MtC'!N27","v":4.8143797731413973E-2}]
[1873,null,null,{"$f":"'Combined, MtC'!N28","v":4.9327289143094651E-2}]
[1874,null,null,{"$f":"'Combined, MtC'!N29","v":5.0549056941556869E-2}]
[1875,null,null,{"$f":"'Combined, MtC'!N30","v":5.1768187060212849E-2}]
[1876,null,null,{"$f":"'Combined, MtC'!N31","v":5.3025289321478597E-2}]
[1877,null,null,{"$f":"'Combined, MtC'!N32","v":5.4299422130803708E-2}]
[1878,null,null,{"$f":"'Combined, MtC'!N33","v":5.5595249590839071E-2}]
[1879,null,null,{"$f":"'Combined, MtC'!N34","v":5.6908346910679211E-2}]
[1880,null,null,{"$f":"'Combined, MtC'!N35","v":5.8258777484207595E-2}]
[1881,null,null,{"$f":"'Combined, MtC'!N36","v":5.9666758755275252E-2}]
[1882,null,null,{"$f":"'Combined, MtC'!N37","v":6.1150070181695937E-2}]
[1883,null,null,{"$f":"'Combined, MtC'!N38","v":6.2586847455635725E-2}]
[1884,null,null,{"$f":"'Combined, MtC'!N39","v":6.4062997432291921E-2}]
[1885,null,null,{"$f":"'Combined, MtC'!N40","v":6.555797373172606E-2}]
[1886,null,null,{"$f":"'Combined, MtC'!N41","v":6.7068041793384728E-2}]
[1887,null,null,{"$f":"'Combined, MtC'!N42","v":6.8594860404839614E-2}]
[1888,null,null,{"$f":"'Combined, MtC'!N43","v":7.014833351844682E-2}]
[1889,null,null,{"$f":"'Combined, MtC'!N44","v":7.1756393108435457E-2}]
[1890,null,null,{"$f":"'Combined, MtC'!N45","v":7.3366426168573556E-2}]
[1891,null,null,{"$f":"'Combined, MtC'!N46","v":7.5026382198464234E-2}]
[1892,null,null,{"$f":"'Combined, MtC'!N47","v":7.6710760556884861E-2}]
[1893,null,null,{"$f":"'Combined, MtC'!N48","v":7.8428595896231496E-2}]
[1894,null,null,{"$f":"'Combined, MtC'!N49","v":8.014399893717232E-2}]
[1895,null,null,{"$f":"'Combined, MtC'!N50","v":8.1915431043274242E-2}]
[1896,null,null,{"$f":"'Combined, MtC'!N51","v":8.3736256763731184E-2}]
[1897,null,null,{"$f":"'Combined, MtC'!N52","v":8.5588924714067816E-2}]
[1898,null,null,{"$f":"'Combined, MtC'!N53","v":8.7484429924708382E-2}]
[1899,null,null,{"$f":"'Combined, MtC'!N54","v":8.9426112189367968E-2}]
[1900,null,null,{"$f":"'Combined, MtC'!N55","v":9.1446673357949176E-2}]
[1901,null,null,{"$f":"'Combined, MtC'!N56","v":9.3520238253262084E-2}]
[1902,null,null,{"$f":"'Combined, MtC'!N57","v":9.5744175198613515E-2}]
[1903,null,null,{"$f":"'Combined, MtC'!N58","v":9.8009231239524361E-2}]
[1904,null,null,{"$f":"'Combined, MtC'!N59","v":0.10042569129404665}]
[1905,null,null,{"$f":"'Combined, MtC'!N60","v":0.102905585309105}]
[1906,null,null,{"$f":"'Combined, MtC'!N61","v":0.10551783521045659}]
[1907,null,null,{"$f":"'Combined, MtC'!N62","v":0.10824982673445432}]
[1908,null,null,{"$f":"'Combined, MtC'!N63","v":0.11116816435464054}]
[1909,null,null,{"$f":"'Combined, MtC'!N64","v":0.11406125920877326}]
[1910,null,null,{"$f":"'Combined, MtC'!N65","v":0.11703297841098166}]
[1911,null,null,{"$f":"'Combined, MtC'!N66","v":0.12010001407778746}]
[1912,null,null,{"$f":"'Combined, MtC'!N67","v":0.12309753832538348}]
[1913,null,null,{"$f":"'Combined, MtC'!N68","v":0.1261028038153314}]
[1914,null,null,{"$f":"'Combined, MtC'!N69","v":0.12918869517681617}]
[1915,null,null,{"$f":"'Combined, MtC'!N70","v":0.13211204703855647}]
[{"$f":"A70+1","v":1916},null,null,{"$f":"'Combined, MtC'!N71","v":0.13501056348415338}]
[1917,null,null,{"$f":"'Combined, MtC'!N72","v":0.13804236697368152}]
[1918,null,null,{"$f":"'Combined, MtC'!N73","v":0.14117423674981672}]
[1919,null,null,{"$f":"'Combined, MtC'!N74","v":0.14433305115138254}]
[1920,null,null,{"$f":"'Combined, MtC'!N75","v":0.14727407973207982}]
[1921,null,null,{"$f":"'Combined, MtC'!N76","v":0.15048723225423449}]
[1922,null,null,{"$f":"'Combined, MtC'!N77","v":0.15358343914321143}]
[1923,null,null,{"$f":"'Combined, MtC'!N78","v":0.15674952015049662}]
[1924,null,null,{"$f":"'Combined, MtC'!N79","v":0.16016427129967759}]
[1925,null,null,{"$f":"'Combined, MtC'!N80","v":0.16359784680787021}]
[1926,null,null,{"$f":"'Combined, MtC'!N81","v":0.16706339298062006}]
[1927,null,null,{"$f":"'Combined, MtC'!N82","v":0.17050157027110702}]
[1928,null,null,{"$f":"'Combined, MtC'!N83","v":0.17419228021469174}]
[1929,null,null,{"$f":"'Combined, MtC'!N84","v":0.17789115050999085}]
[1930,null,null,{"$f":"'Combined, MtC'!N85","v":0.18180481799336892}]
[1931,null,null,{"$f":"'Combined, MtC'!N86","v":0.18569507007874625}]
[1932,null,null,{"$f":"'Combined, MtC'!N87","v":0.18938585361090524}]
[1933,null,null,{"$f":"'Combined, MtC'!N88","v":0.19269853119562647}]
[1934,null,null,{"$f":"'Combined, MtC'!N89","v":0.19608686632800681}]
[1935,null,null,{"$f":"'Combined, MtC'!N90","v":0.19958659641796284}]
[1936,null,null,{"$f":"'Combined, MtC'!N91","v":0.20316666912586639}]
[1937,null,null,{"$f":"'Combined, MtC'!N92","v":0.20694495250243997}]
[1938,null,null,{"$f":"'Combined, MtC'!N93","v":0.21083183896441307}]
[1939,null,null,{"$f":"'Combined, MtC'!N94","v":0.21457156901868477}]
[1940,null,null,{"$f":"'Combined, MtC'!N95","v":0.21844657437560949}]
[1941,null,null,{"$f":"'Combined, MtC'!N96","v":0.22246959742592506}]
[1942,null,null,{"$f":"'Combined, MtC'!N97","v":0.22656887805018414}]
[1943,null,null,{"$f":"'Combined, MtC'!N98","v":0.23082463938325576}]
[1944,null,null,{"$f":"'Combined, MtC'!N99","v":0.23511790364816684}]
[1945,null,null,{"$f":"'Combined, MtC'!N100","v":0.23943041607745053}]
[1946,null,null,{"$f":"'Combined, MtC'!N101","v":0.24326404590465298}]
[1947,null,null,{"$f":"'Combined, MtC'!N102","v":0.24738974653697043}]
[1948,null,null,{"$f":"'Combined, MtC'!N103","v":0.25178185813930087}]
[1949,null,null,{"$f":"'Combined, MtC'!N104","v":0.25629182840006953}]
[1950,null,null,{"$f":"'Combined, MtC'!N105","v":0.26065844234401009}]
[1951,null,null,{"$f":"'Combined, MtC'!N106","v":0.26533941141637513}]
[1952,null,null,{"$f":"'Combined, MtC'!N107","v":0.27068018781273534}]
[1953,null,null,{"$f":"'Combined, MtC'!N108","v":0.276091612372033}]
[1954,null,null,{"$f":"'Combined, MtC'!N109","v":0.28158054168943902}]
[1955,null,null,{"$f":"'Combined, MtC'!N110","v":0.28720814045070253}]
[1956,null,null,{"$f":"'Combined, MtC'!N111","v":0.29320941357711694}]
[1957,null,null,{"$f":"'Combined, MtC'!N112","v":0.29954440116884862}]
[1958,null,null,{"$f":"'Combined, MtC'!N113","v":0.30604353974061599}]
[1959,null,null,{"$f":"'Combined, MtC'!N114","v":0.31278882947951903}]
[1960,null,null,{"$f":"'Combined, MtC'!N115","v":0.31947272677032046}]
[1961,null,null,{"$f":"'Combined, MtC'!N116","v":0.32635570934493191}]
[1962,null,null,{"$f":"'Combined, MtC'!N117","v":0.3333524444197194}]
[1963,null,null,{"$f":"'Combined, MtC'!N118","v":0.34048671019355187}]
[1964,null,null,{"$f":"'Combined, MtC'!N119","v":0.34792163429080419}]
[1965,null,null,{"$f":"'Combined, MtC'!N120","v":0.35565179056093149}]
[1966,null,null,{"$f":"'Combined, MtC'!N121","v":0.36362309322865494}]
[1967,null,null,{"$f":"'Combined, MtC'!N122","v":0.3718907398969547}]
[1968,null,null,{"$f":"'Combined, MtC'!N123","v":0.38039675138559065}]
[1969,null,null,{"$f":"'Combined, MtC'!N124","v":0.38903996946332903}]
[1970,null,null,{"$f":"'Combined, MtC'!N125","v":0.39802236800345392}]
[1971,null,null,{"$f":"'Combined, MtC'!N126","v":0.40754042890713738}]
[1972,null,null,{"$f":"'Combined, MtC'!N127","v":0.41698668302703751}]
[1973,null,null,{"$f":"'Combined, MtC'!N128","v":0.42667642075634032}]
[1974,null,null,{"$f":"'Combined, MtC'!N129","v":0.43672146397454026}]
[1975,null,null,{"$f":"'Combined, MtC'!N130","v":0.44676610046356668}]
[1976,null,null,{"$f":"'Combined, MtC'!N131","v":0.45673811443129242}]
[1977,null,null,{"$f":"'Combined, MtC'!N132","v":0.46726273653261291}]
[1978,null,null,{"$f":"'Combined, MtC'!N133","v":0.47796299145692661}]
[1979,null,null,{"$f":"'Combined, MtC'!N134","v":0.48894119587259482}]
[{"$f":"A134+1","v":1980},null,null,{"$f":"'Combined, MtC'!N135","v":0.50003595462103356}]
[1981,null,null,{"$f":"'Combined, MtC'!N136","v":0.51088324307154231}]
[1982,null,null,{"$f":"'Combined, MtC'!N137","v":0.52157629585506315}]
[1983,null,null,{"$f":"'Combined, MtC'!N138","v":0.53264784841602708}]
[1984,null,null,{"$f":"'Combined, MtC'!N139","v":0.54379863171853682}]
[1985,null,null,{"$f":"'Combined, MtC'!N140","v":0.55534162336830917}]
[1986,null,null,{"$f":"'Combined, MtC'!N141","v":0.56718114625516569}]
[1987,null,null,{"$f":"'Combined, MtC'!N142","v":0.57916369904305975}]
[1988,null,null,{"$f":"'Combined, MtC'!N143","v":0.59138218652093288}]
[1989,null,null,{"$f":"'Combined, MtC'!N144","v":0.60402532531569153}]
[1990,null,null,{"$f":"'Combined, MtC'!N145","v":0.61696936850039874}]
[1991,null,null,{"$f":"'Combined, MtC'!N146","v":0.62984828162367423}]
[1992,null,null,{"$f":"'Combined, MtC'!N147","v":0.64372314728882385}]
[1993,null,null,{"$f":"'Combined, MtC'!N148","v":0.65991464222625484}]
[1994,null,null,{"$f":"'Combined, MtC'!N149","v":0.67630769141369473}]
[1995,null,null,{"$f":"'Combined, MtC'!N150","v":0.69272459495125993}]
[1996,null,null,{"$f":"'Combined, MtC'!N151","v":0.70938982234434789}]
[1997,null,null,{"$f":"'Combined, MtC'!N152","v":0.72648510658314291}]
[1998,null,null,{"$f":"'Combined, MtC'!N153","v":0.74349135759352625}]
[1999,null,null,{"$f":"'Combined, MtC'!N154","v":0.76021762216095834}]
[2000,null,null,{"$f":"'Combined, MtC'!N155","v":0.77723925807252692}]
[2001,null,null,{"$f":"'Combined, MtC'!N156","v":0.79468890527122715}]
[2002,null,null,{"$f":"'Combined, MtC'!N157","v":0.8122178113408719}]
[2003,null,null,{"$f":"'Combined, MtC'!N158","v":0.83024248818356738}]
[2004,null,null,{"$f":"'Combined, MtC'!N159","v":0.8491354032398668}]
[2005,null,null,{"$f":"'Combined, MtC'!N160","v":0.8689359263501093}]
[2006,null,null,{"$f":"'Combined, MtC'!N161","v":0.88905619696217286}]
[2007,null,null,{"$f":"'Combined, MtC'!N162","v":0.90651736077410527}]
[2008,null,null,{"$f":"'Combined, MtC'!N163","v":0.92444765582383326}]
[2009,null,null,{"$f":"'Combined, MtC'!N164","v":0.94276951481411231}]
[2010,null,null,{"$f":"'Combined, MtC'!N165","v":0.96102987676218099}]
[2011,null,null,{"$f":"'Combined, MtC'!N166","v":0.98015963897971026}]
[2012,null,null,{"$f":"'Combined, MtC'!N167","v":1}]

{"sheet":"Accumulated per IPCC","index":12,"n_rows":175,"n_cols":25,"rows_kept":175,"cut":false,"hidden":false,"merged":[]}
[{"$f":"'Combined, MtC'!A1","v":"Year"},null,"Coefficient",null,{"$f":"'Combined, MtC'!C1","v":"Global"},{"$f":"'Combined, MtC'!D1","v":"China"},{"$f":"'Combined, MtC'!E1","v":"USA"},{"$f":"'Combined, MtC'!F1","v":"W. Europe"},{"$f":"'Combined, MtC'!G1","v":"Canada + Australia"},"ROW",null,"ACCUMULATION, GtC",null,{"$f":"E1","v":"Global"},{"$f":"F1","v":"China"},"USA","W. Europe","Canada + Australia",null,"GRAPH:","USA","w/ W. Europe","w/ Canada & Australia","w/ China","Row"]
[]
[]
[null,null,null,null,null,null,null,null,null,null,null,null,null,0,0,0,0,0]
[{"$f":"'Combined, MtC'!A5","v":1850},null,{"$f":"coefficients!D5","v":2.8419140727989161E-2},null,{"$f":"'Combined, MtC'!C5*$C5","v":15.752928639509488},{"$f":"'Combined, MtC'!D5*$C5","v":2.8941825564258337},{"$f":"'Combined, MtC'!E5*$C5","v":4.816879522377941},{"$f":"'Combined, MtC'!F5*$C5","v":2.794371692275063},{"$f":"'Combined, MtC'!G5*$C5","v":0.1581127313542405},null,null,null,null,{"$f":"N4+0.001*E5","v":1.575292863950949E-2},{"$f":"O4+0.001*F5","v":2.8941825564258337E-3},{"$f":"P4+0.001*G5","v":4.8168795223779409E-3},{"$f":"Q4+0.001*H5","v":2.7943716922750632E-3},{"$f":"R4+0.001*I5","v":1.5811273135424051E-4},null,null,{"$f":"P5","v":4.8168795223779409E-3},{"$f":"U5+Q5","v":7.611251214653004E-3},{"$f":"V5+R5","v":7.7693639460072444E-3},{"$f":"W5+O5","v":1.0663546502433077E-2},{"$f":"N5","v":1.575292863950949E-2}]
[{"$f":"'Combined, MtC'!A6","v":1851},null,{"$f":"coefficients!D6","v":2.9167403382314758E-2},null,{"$f":"'Combined, MtC'!C6*$C6","v":15.952877940729998},{"$f":"'Combined, MtC'!D6*$C6","v":2.7148027376543578},{"$f":"'Combined, MtC'!E6*$C6","v":5.0298778789154452},{"$f":"'Combined, MtC'!F6*$C6","v":2.8266013948187703},{"$f":"'Combined, MtC'!G6*$C6","v":0.15647145218476574},null,null,null,null,{"$f":"N5+0.001*E6","v":3.1705806580239485E-2},5.6089852940801911E-3,9.8467574012933851E-3,5.6209730870938335E-3,3.1458418353900628E-4,null,null,{"$f":"P6","v":9.8467574012933851E-3},{"$f":"U6+Q6","v":1.5467730488387219E-2},1.5782314671926225E-2,{"$f":"W6+O6","v":2.1391299966006416E-2},{"$f":"N6","v":3.1705806580239485E-2}]
[{"$f":"'Combined, MtC'!A7","v":1852},null,{"$f":"coefficients!D7","v":2.9908929975874628E-2},null,{"$f":"'Combined, MtC'!C7*$C7","v":18.098820705230988},{"$f":"'Combined, MtC'!D7*$C7","v":2.5072865361285532},{"$f":"'Combined, MtC'!E7*$C7","v":7.1178617458435367},{"$f":"'Combined, MtC'!F7*$C7","v":2.9264213081314678},{"$f":"'Combined, MtC'!G7*$C7","v":0.15989313965102578},null,null,null,null,4.9804627285470471E-2,8.1162718302087433E-3,1.6964619147136921E-2,8.547394395225302E-3,4.7447732319003209E-4,null,null,1.6964619147136921E-2,2.5512013542362225E-2,2.5986490865552256E-2,3.4102762695760999E-2,4.9804627285470471E-2]
[{"$f":"'Combined, MtC'!A8","v":1853},null,{"$f":"coefficients!D8","v":3.0735251838243813E-2},null,{"$f":"'Combined, MtC'!C8*$C8","v":18.627160847071337},{"$f":"'Combined, MtC'!D8*$C8","v":2.2809859799234262},{"$f":"'Combined, MtC'!E8*$C8","v":7.5838281118059623},{"$f":"'Combined, MtC'!F8*$C8","v":3.0441115478151821},{"$f":"'Combined, MtC'!G8*$C8","v":0.16325951071438349},null,null,null,null,6.8431788132541804E-2,1.039725781013217E-2,2.4548447258942882E-2,1.1591505943040484E-2,6.3773683390441565E-4,null,null,2.4548447258942882E-2,3.6139953201983363E-2,3.6777690035887781E-2,4.717494784601995E-2,6.8431788132541804E-2]
[{"$f":"'Combined, MtC'!A9","v":1854},null,{"$f":"coefficients!D9","v":3.1566930801667448E-2},null,{"$f":"'Combined, MtC'!C9*$C9","v":19.394690717613678},{"$f":"'Combined, MtC'!D9*$C9","v":2.0301608639545585},{"$f":"'Combined, MtC'!E9*$C9","v":8.056972956391272},{"$f":"'Combined, MtC'!F9*$C9","v":3.3905219633870161},{"$f":"'Combined, MtC'!G9*$C9","v":0.16695434031693895},null,null,null,null,8.7826478850155487E-2,1.2427418674086728E-2,3.2605420215334156E-2,1.4982027906427501E-2,8.0469117422135464E-4,null,null,3.2605420215334156E-2,4.7587448121761661E-2,4.8392139295983017E-2,6.0819557970069743E-2,8.7826478850155487E-2]
[{"$f":"'Combined, MtC'!A10","v":1855},null,{"$f":"coefficients!D10","v":3.2414431559139908E-2},null,{"$f":"'Combined, MtC'!C10*$C10","v":19.869268599395344},{"$f":"'Combined, MtC'!D10*$C10","v":1.7566677039160281},{"$f":"'Combined, MtC'!E10*$C10","v":8.5567486772091303},{"$f":"'Combined, MtC'!F10*$C10","v":3.4323511920247012},{"$f":"'Combined, MtC'!G10*$C10","v":0.17086619307769421},null,null,null,null,0.10769574744955084,1.4184086378002756E-2,4.1162168892543288E-2,1.8414379098452203E-2,9.7555736729904887E-4,null,null,4.1162168892543288E-2,5.9576547990995488E-2,6.0552105358294535E-2,7.4736191736297294E-2,0.10769574744955084]
[{"$f":"'Combined, MtC'!A11","v":1856},null,{"$f":"coefficients!D11","v":3.3263956443172399E-2},null,{"$f":"'Combined, MtC'!C11*$C11","v":20.734421969722654},{"$f":"'Combined, MtC'!D11*$C11","v":1.7484300577529606},{"$f":"'Combined, MtC'!E11*$C11","v":9.0296107475554095},{"$f":"'Combined, MtC'!F11*$C11","v":3.6351716463966319},{"$f":"'Combined, MtC'!G11*$C11","v":0.17436965967510973},null,null,null,null,0.12843016941927349,1.5932516435755717E-2,5.0191779640098702E-2,2.2049550744848836E-2,1.1499270269741586E-3,null,null,5.0191779640098702E-2,7.2241330384947539E-2,7.3391257411921693E-2,8.932377384767741E-2,0.12843016941927349]
[{"$f":"'Combined, MtC'!A12","v":1857},null,{"$f":"coefficients!D12","v":3.4132237332353627E-2},null,{"$f":"'Combined, MtC'!C12*$C12","v":21.490748856044476},{"$f":"'Combined, MtC'!D12*$C12","v":1.750028072504435},{"$f":"'Combined, MtC'!E12*$C12","v":9.5041795099973321},{"$f":"'Combined, MtC'!F12*$C12","v":3.7202909931721488},{"$f":"'Combined, MtC'!G12*$C12","v":0.17823171690208417},null,null,null,null,0.14992091827531795,1.7682544508260151E-2,5.9695959150096033E-2,2.5769841738020986E-2,1.3281587438762428E-3,null,null,5.9695959150096033E-2,8.5465800888117019E-2,8.6793959631993267E-2,0.10447650414025342,0.14992091827531795]
[{"$f":"'Combined, MtC'!A13","v":1858},null,{"$f":"coefficients!D13","v":3.5013599905699237E-2},null,{"$f":"'Combined, MtC'!C13*$C13","v":22.267599132027545},{"$f":"'Combined, MtC'!D13*$C13","v":1.758883681742867},{"$f":"'Combined, MtC'!E13*$C13","v":9.9774124046482271},{"$f":"'Combined, MtC'!F13*$C13","v":3.8082857059832924},{"$f":"'Combined, MtC'!G13*$C13","v":0.18213374398946627},null,null,null,null,0.1721885174073455,1.9441428190003017E-2,6.9673371554744262E-2,2.957812744400428E-2,1.5102924878657091E-3,null,null,6.9673371554744262E-2,9.925149899874855E-2,0.10076179148661425,0.12020321967661726,0.1721885174073455]
[{"$f":"'Combined, MtC'!A14","v":1859},null,{"$f":"coefficients!D14","v":3.590815525379381E-2},null,{"$f":"'Combined, MtC'!C14*$C14","v":23.19706328365859},{"$f":"'Combined, MtC'!D14*$C14","v":1.7735791951109092},{"$f":"'Combined, MtC'!E14*$C14","v":10.48882960268158},{"$f":"'Combined, MtC'!F14*$C14","v":4.0530324814372651},{"$f":"'Combined, MtC'!G14*$C14","v":0.18517476582828926},null,null,null,null,0.19538558069100409,2.1215007385113928E-2,8.0162201157425839E-2,3.3631159925441544E-2,1.6954672536939983E-3,null,null,8.0162201157425839E-2,0.11379336108286739,0.11548882833656139,0.13670383572167533,0.19538558069100409]
[{"$f":"'Combined, MtC'!A15","v":1860},null,{"$f":"coefficients!D15","v":3.6821329683083694E-2},null,{"$f":"'Combined, MtC'!C15*$C15","v":24.265293082481836},{"$f":"'Combined, MtC'!D15*$C15","v":1.7932908088903836},{"$f":"'Combined, MtC'!E15*$C15","v":10.995533920100897},{"$f":"'Combined, MtC'!F15*$C15","v":4.3894817579193122},{"$f":"'Combined, MtC'!G15*$C15","v":0.19629819067348744},null,null,null,null,0.21965087377348594,2.3008298194004313E-2,9.1157735077526739E-2,3.8020641683360855E-2,1.8917654443674856E-3,null,null,9.1157735077526739E-2,0.12917837676088759,0.13107014220525506,0.15407844039925939,0.21965087377348594]
[{"$f":"'Combined, MtC'!A16","v":1861},null,{"$f":"coefficients!D16","v":3.7757554666204209E-2},null,{"$f":"'Combined, MtC'!C16*$C16","v":25.45029093498162},{"$f":"'Combined, MtC'!D16*$C16","v":1.8173692757265407},{"$f":"'Combined, MtC'!E16*$C16","v":11.445579697407814},{"$f":"'Combined, MtC'!F16*$C16","v":4.6333503572648507},{"$f":"'Combined, MtC'!G16*$C16","v":0.20360383778203958},null,null,null,null,0.24510116470846754,2.4825667469730854E-2,0.10260331477493455,4.2653992040625706E-2,2.0953692821495252E-3,null,null,0.10260331477493455,0.14525730681556026,0.14735267609770977,0.17217834356744063,0.24510116470846754]
[{"$f":"'Combined, MtC'!A17","v":1862},null,{"$f":"coefficients!D17","v":3.8720036230732259E-2},null,{"$f":"'Combined, MtC'!C17*$C17","v":23.88743579171696},{"$f":"'Combined, MtC'!D17*$C17","v":1.8497955228725105},{"$f":"'Combined, MtC'!E17*$C17","v":9.7046427447330537},{"$f":"'Combined, MtC'!F17*$C17","v":4.738306353681514},{"$f":"'Combined, MtC'!G17*$C17","v":0.27189983841944804},null,null,null,null,0.26898860050018453,2.6675462992603365E-2,0.1123079575196676,4.7392298394307218E-2,2.3672691205689732E-3,null,null,0.1123079575196676,0.15970025591397483,0.1620675250345438,0.18874298802714717,0.26898860050018453]
[{"$f":"'Combined, MtC'!A18","v":1863},null,{"$f":"coefficients!D18","v":3.9603088853678359E-2},null,{"$f":"'Combined, MtC'!C18*$C18","v":24.690426936559213},{"$f":"'Combined, MtC'!D18*$C18","v":1.8459593761032287},{"$f":"'Combined, MtC'!E18*$C18","v":9.9716973852476425},{"$f":"'Combined, MtC'!F18*$C18","v":4.9624016838680003},{"$f":"'Combined, MtC'!G18*$C18","v":0.30149435513416795},null,null,null,null,0.29367902743674373,2.8521422368706594E-2,0.12227965490491524,5.235470007817522E-2,2.6687634757031412E-3,null,null,0.12227965490491524,0.17463435498309046,0.1773031184587936,0.20582454082750018,0.29367902743674373]
[{"$f":"'Combined, MtC'!A19","v":1864},null,{"$f":"coefficients!D19","v":4.0499318635055404E-2},null,{"$f":"'Combined, MtC'!C19*$C19","v":25.584594062004918},{"$f":"'Combined, MtC'!D19*$C19","v":1.8695011973083828},{"$f":"'Combined, MtC'!E19*$C19","v":10.204973760410764},{"$f":"'Combined, MtC'!F19*$C19","v":5.2588000753751727},{"$f":"'Combined, MtC'!G19*$C19","v":0.32978190171339267},null,null,null,null,0.31926362149874865,3.0390923566014978E-2,0.13248462866532601,5.7613500153550393E-2,2.9985453774165338E-3,null,null,0.13248462866532601,0.19009812881887639,0.19309667419629292,0.22348759776230789,0.31926362149874865]
[{"$f":"'Combined, MtC'!A20","v":1865},null,{"$f":"coefficients!D20","v":4.1411392013833238E-2},null,{"$f":"'Combined, MtC'!C20*$C20","v":26.472397990410954},{"$f":"'Combined, MtC'!D20*$C20","v":1.8957348447484592},{"$f":"'Combined, MtC'!E20*$C20","v":10.40616102953692},{"$f":"'Combined, MtC'!F20*$C20","v":5.5622042474516222},{"$f":"'Combined, MtC'!G20*$C20","v":0.36239937379145748},null,null,null,null,0.34573601948915961,3.228665841076344E-2,0.14289078969486294,6.3175704401002009E-2,3.3609447512079915E-3,null,null,0.14289078969486294,0.20606649409586494,0.20942743884707293,0.24171409725783638,0.34573601948915961]
[{"$f":"'Combined, MtC'!A21","v":1866},null,{"$f":"coefficients!D21","v":4.2338284691410072E-2},null,{"$f":"'Combined, MtC'!C21*$C21","v":27.198241100615906},{"$f":"'Combined, MtC'!D21*$C21","v":1.9242411685968346},{"$f":"'Combined, MtC'!E21*$C21","v":10.62532600569647},{"$f":"'Combined, MtC'!F21*$C21","v":5.8168357646104836},{"$f":"'Combined, MtC'!G21*$C21","v":0.39786132890211873},null,null,null,null,0.37293426058977552,3.4210899579360271E-2,0.1535161157005594,6.8992540165612487E-2,3.7588060801101103E-3,null,null,0.1535161157005594,0.22250865586617188,0.226267461946282,0.2604783615256423,0.37293426058977552]
[{"$f":"'Combined, MtC'!A22","v":1867},null,{"$f":"coefficients!D22","v":4.3273567013137414E-2},null,{"$f":"'Combined, MtC'!C22*$C22","v":28.088785801093469},{"$f":"'Combined, MtC'!D22*$C22","v":1.9545415286390788},{"$f":"'Combined, MtC'!E22*$C22","v":10.923373426858227},{"$f":"'Combined, MtC'!F22*$C22","v":6.0651192960005087},{"$f":"'Combined, MtC'!G22*$C22","v":0.43489502112532974},null,null,null,null,{"$f":"N21+0.001*E22","v":0.401023046390869},3.6165441107999352E-2,0.16443948912741763,7.5057659461612997E-2,4.1937011012354404E-3,null,null,0.16443948912741763,{"$f":"U22+Q22","v":0.23949714858903062},0.24369084969026605,0.27985629079826541,0.401023046390869]
[{"$f":"'Combined, MtC'!A23","v":1868},null,{"$f":"coefficients!D23","v":4.4222539581650754E-2},null,{"$f":"'Combined, MtC'!C23*$C23","v":28.789005935273387},{"$f":"'Combined, MtC'!D23*$C23","v":1.9865428118171244},{"$f":"'Combined, MtC'!E23*$C23","v":11.189615923583217},{"$f":"'Combined, MtC'!F23*$C23","v":6.1694599635123479},{"$f":"'Combined, MtC'!G23*$C23","v":0.45660214343450223},null,null,null,null,0.42981205232614239,3.8151983919816473E-2,0.17562910505100085,8.1227119425125338E-2,4.6503032446699429E-3,null,null,0.17562910505100085,0.25685622447612622,0.26150652772079613,0.29965851164061263,0.42981205232614239]
[{"$f":"'Combined, MtC'!A24","v":1869},null,{"$f":"coefficients!D24","v":4.5178085611218576E-2},null,{"$f":"'Combined, MtC'!C24*$C24","v":29.689592164953289},{"$f":"'Combined, MtC'!D24*$C24","v":2.0197450487608211},{"$f":"'Combined, MtC'!E24*$C24","v":11.485014800784347},{"$f":"'Combined, MtC'!F24*$C24","v":6.4810900384857781},{"$f":"'Combined, MtC'!G24*$C24","v":0.48428197090089642},null,null,null,null,0.45950164449109571,4.0171728968577292E-2,0.18711411985178519,8.7708209463611117E-2,5.1345852155708395E-3,null,null,0.18711411985178519,0.2748223293153963,0.27995691453096716,0.32012864349954445,0.45950164449109571]
[{"$f":"'Combined, MtC'!A25","v":1870},null,{"$f":"coefficients!D25","v":4.614659914394708E-2},null,{"$f":"'Combined, MtC'!C25*$C25","v":30.402763914006652},{"$f":"'Combined, MtC'!D25*$C25","v":2.0542943101113491},{"$f":"'Combined, MtC'!E25*$C25","v":11.708098245786275},{"$f":"'Combined, MtC'!F25*$C25","v":6.6895955983031445},{"$f":"'Combined, MtC'!G25*$C25","v":0.52330704895227431},null,null,null,null,0.48990440840510235,4.2226023278688643E-2,0.19882221809757147,9.4397805061914267E-2,5.6578922645231138E-3,null,null,0.19882221809757147,0.29322002315948575,0.29887791542400888,0.34110393870269751,0.48990440840510235]
[{"$f":"'Combined, MtC'!A26","v":1871},null,{"$f":"coefficients!D26","v":4.7121333360084929E-2},null,{"$f":"'Combined, MtC'!C26*$C26","v":32.412974607734746},{"$f":"'Combined, MtC'!D26*$C26","v":2.0897604525197262},{"$f":"'Combined, MtC'!E26*$C26","v":11.889489908749869},{"$f":"'Combined, MtC'!F26*$C26","v":6.7658318321077466},{"$f":"'Combined, MtC'!G26*$C26","v":0.56529578778759493},null,null,null,null,0.52231738301283714,4.4315783731208369E-2,0.21071170800632133,0.10116363689402201,6.2231880523107089E-3,null,null,0.21071170800632133,0.31187534490034335,0.31809853295265406,0.36241431668386243,0.52231738301283714]
[{"$f":"'Combined, MtC'!A27","v":1872},null,{"$f":"coefficients!D27","v":4.8143797731413973E-2},null,{"$f":"'Combined, MtC'!C27*$C27","v":38.062149479871771},{"$f":"'Combined, MtC'!D27*$C27","v":2.1279029015509932},{"$f":"'Combined, MtC'!E27*$C27","v":16.290161676250566},{"$f":"'Combined, MtC'!F27*$C27","v":7.2247519647421425},{"$f":"'Combined, MtC'!G27*$C27","v":0.60146527943832784},null,null,null,null,0.56037953249270889,4.6443686632759364E-2,0.22700186968257191,0.10838838885876416,6.8246533317490371E-3,null,null,0.22700186968257191,0.33539025854133608,0.34221491187308511,0.3886585985058445,0.56037953249270889]
[{"$f":"'Combined, MtC'!A28","v":1873},null,{"$f":"coefficients!D28","v":4.9327289143094651E-2},null,{"$f":"'Combined, MtC'!C28*$C28","v":40.057211694432873},{"$f":"'Combined, MtC'!D28*$C28","v":2.1736020633615514},{"$f":"'Combined, MtC'!E28*$C28","v":17.133015050854148},{"$f":"'Combined, MtC'!F28*$C28","v":7.5941334727359946},{"$f":"'Combined, MtC'!G28*$C28","v":0.63838391063210242},null,null,null,null,0.60043674418714177,4.8617288696120912E-2,0.24413488473342607,0.11598252233150015,7.46303724238114E-3,null,null,0.24413488473342607,0.36011740706492623,0.36758044430730735,0.41619773300342827,0.60043674418714177]
[{"$f":"'Combined, MtC'!A29","v":1874},null,{"$f":"coefficients!D29","v":5.0549056941556869E-2},null,{"$f":"'Combined, MtC'!C29*$C29","v":40.787073614060354},{"$f":"'Combined, MtC'!D29*$C29","v":2.1207604094545474},{"$f":"'Combined, MtC'!E29*$C29","v":17.747804221614786},{"$f":"'Combined, MtC'!F29*$C29","v":7.5437390617301805},{"$f":"'Combined, MtC'!G29*$C29","v":0.67819647736209188},null,null,null,null,0.64122381780120208,5.0738049105575458E-2,0.26188268895504085,0.12352626139323034,8.1412337197432315E-3,null,null,0.26188268895504085,0.38540895034827116,0.3935501840680144,0.44428823317358984,0.64122381780120208]
[{"$f":"'Combined, MtC'!A30","v":1875},null,{"$f":"coefficients!D30","v":5.1768187060212849E-2},null,{"$f":"'Combined, MtC'!C30*$C30","v":42.860901026445561},{"$f":"'Combined, MtC'!D30*$C30","v":2.1435239070525851},{"$f":"'Combined, MtC'!E30*$C30","v":18.449296632261127},{"$f":"'Combined, MtC'!F30*$C30","v":7.9462614091814912},{"$f":"'Combined, MtC'!G30*$C30","v":0.72106872392429266},null,null,null,null,0.68408471882764765,5.2881573012628046E-2,0.28033198558730199,0.13147252280241184,8.8623024436675236E-3,null,null,0.28033198558730199,0.41180450838971383,0.42066681083338137,0.47354838384600939,0.68408471882764765]
[{"$f":"'Combined, MtC'!A31","v":1876},null,{"$f":"coefficients!D31","v":5.3025289321478597E-2},null,{"$f":"'Combined, MtC'!C31*$C31","v":44.295205687590361},{"$f":"'Combined, MtC'!D31*$C31","v":2.1673980959575734},{"$f":"'Combined, MtC'!E31*$C31","v":19.106597198679449},{"$f":"'Combined, MtC'!F31*$C31","v":8.1277216497251725},{"$f":"'Combined, MtC'!G31*$C31","v":0.76395125084133852},null,null,null,null,0.72837992451523803,5.5048971108585622E-2,0.29943858278598146,0.13960024445213701,9.6262536945088614E-3,null,null,0.29943858278598146,0.43903882723811849,0.44866508093262736,0.503714052041213,0.72837992451523803]
[{"$f":"'Combined, MtC'!A32","v":1877},null,{"$f":"coefficients!D32","v":5.4299422130803708E-2},null,{"$f":"'Combined, MtC'!C32*$C32","v":45.921672889086267},{"$f":"'Combined, MtC'!D32*$C32","v":2.194060460212746},{"$f":"'Combined, MtC'!E32*$C32","v":20.103595422078026},{"$f":"'Combined, MtC'!F32*$C32","v":8.3170099081219249},{"$f":"'Combined, MtC'!G32*$C32","v":0.76789699783161292},null,null,null,null,0.77430159740432425,5.7243031568798369E-2,0.31954217820805947,0.14791725436025893,1.0394150692340474E-2,null,null,0.31954217820805947,0.4674594325683184,0.47785358326065885,0.53509661482945725,0.77430159740432425]
[{"$f":"'Combined, MtC'!A33","v":1878},null,{"$f":"coefficients!D33","v":5.5595249590839071E-2},null,{"$f":"'Combined, MtC'!C33*$C33","v":47.432477069664124},{"$f":"'Combined, MtC'!D33*$C33","v":2.2414058801290633},{"$f":"'Combined, MtC'!E33*$C33","v":20.852293728359658},{"$f":"'Combined, MtC'!F33*$C33","v":8.4575885702302074},{"$f":"'Combined, MtC'!G33*$C33","v":0.77922301826520046},null,null,null,null,0.82173407447398839,5.9484437448927431E-2,0.34039447193641914,0.15637484293048914,1.1173373710605675E-2,null,null,0.34039447193641914,0.49676931486690828,0.50794268857751401,0.56742712602644141,0.82173407447398839]
[{"$f":"'Combined, MtC'!A34","v":1879},null,{"$f":"coefficients!D34","v":5.6908346910679211E-2},null,{"$f":"'Combined, MtC'!C34*$C34","v":49.69657974007648},{"$f":"'Combined, MtC'!D34*$C34","v":2.3011060798373872},{"$f":"'Combined, MtC'!E34*$C34","v":22.149388754460514},{"$f":"'Combined, MtC'!F34*$C34","v":8.7476608545403636},{"$f":"'Combined, MtC'!G34*$C34","v":0.80459866279663805},null,null,null,null,0.87143065421406485,6.1785543528764822E-2,0.36254386069087963,0.16512250378502952,1.1977972373402314E-2,null,null,0.36254386069087963,0.5276663644759092,0.53964433684931157,0.60142988037807643,0.87143065421406485]
[{"$f":"'Combined, MtC'!A35","v":1880},null,{"$f":"coefficients!D35","v":5.8258777484207595E-2},null,{"$f":"'Combined, MtC'!C35*$C35","v":52.774587465731713},{"$f":"'Combined, MtC'!D35*$C35","v":2.3644849170963012},{"$f":"'Combined, MtC'!E35*$C35","v":23.354941842446099},{"$f":"'Combined, MtC'!F35*$C35","v":9.7870201988824999},{"$f":"'Combined, MtC'!G35*$C35","v":0.87932303208013884},null,null,null,null,0.92420524167979656,6.4150028445861124E-2,0.3858988025333257,0.17490952398391202,1.2857295405482453E-2,null,null,0.3858988025333257,0.56080832651723767,0.57366562192272008,0.63781565036858123,0.92420524167979656]
[{"$f":"'Combined, MtC'!A36","v":1881},null,{"$f":"coefficients!D36","v":5.9666758755275252E-2},null,{"$f":"'Combined, MtC'!C36*$C36","v":56.633300740157054},{"$f":"'Combined, MtC'!D36*$C36","v":2.4074403489337213},{"$f":"'Combined, MtC'!E36*$C36","v":24.348858646259732},{"$f":"'Combined, MtC'!F36*$C36","v":10.083228762274977},{"$f":"'Combined, MtC'!G36*$C36","v":0.89416008003067948},null,null,null,null,0.98083854241995361,6.655746879479485E-2,0.41024766117958544,0.18499275274618698,1.3751455485513132E-2,null,null,0.41024766117958544,0.59524041392577243,0.60899186941128558,0.67554933820608043,0.98083854241995361]
[{"$f":"'Combined, MtC'!A37","v":1882},null,{"$f":"coefficients!D37","v":6.1150070181695937E-2},null,{"$f":"'Combined, MtC'!C37*$C37","v":56.01988504380256},{"$f":"'Combined, MtC'!D37*$C37","v":2.454031811482694},{"$f":"'Combined, MtC'!E37*$C37","v":22.006069641279893},{"$f":"'Combined, MtC'!F37*$C37","v":10.482020935174354},{"$f":"'Combined, MtC'!G37*$C37","v":0.93217778485679104},null,null,null,null,1.0368584274637562,6.9011500606277545E-2,0.43225373082086532,0.19547477368136135,1.4683633270369924E-2,null,null,0.43225373082086532,0.62772850450222673,0.64241213777259665,0.71142363837887423,1.0368584274637562]
[{"$f":"'Combined, MtC'!A38","v":1883},null,{"$f":"coefficients!D38","v":6.2586847455635725E-2},null,{"$f":"'Combined, MtC'!C38*$C38","v":58.630920588507351},{"$f":"'Combined, MtC'!D38*$C38","v":2.499180440489972},{"$f":"'Combined, MtC'!E38*$C38","v":22.737745352469744},{"$f":"'Combined, MtC'!F38*$C38","v":11.084931796040518},{"$f":"'Combined, MtC'!G38*$C38","v":0.96929502391492162},null,null,null,null,{"$f":"N37+0.001*E38","v":1.0954893480522636},7.1510681046767513E-2,0.45499147617333507,0.20655970547740188,1.5652928294284846E-2,null,null,0.45499147617333507,{"$f":"U38+Q38","v":0.6615511816507369},0.67720410994502178,0.74871479099178928,1.0954893480522636]
[{"$f":"'Combined, MtC'!A39","v":1884},null,{"$f":"coefficients!D39","v":6.4062997432291921E-2},null,{"$f":"'Combined, MtC'!C39*$C39","v":60.512882366584037},{"$f":"'Combined, MtC'!D39*$C39","v":2.546203051845672},{"$f":"'Combined, MtC'!E39*$C39","v":23.430266148591834},{"$f":"'Combined, MtC'!F39*$C39","v":11.117351635805589},{"$f":"'Combined, MtC'!G39*$C39","v":1.0090818977550029},null,null,null,null,1.1560022304188478,7.405688409861319E-2,0.47842174232192691,0.21767705711320748,1.6662010192039851E-2,null,null,0.47842174232192691,0.69609879943513442,0.71276080962717425,0.78681769372578747,1.1560022304188478]
[{"$f":"'Combined, MtC'!A40","v":1885},null,{"$f":"coefficients!D40","v":6.555797373172606E-2},null,{"$f":"'Combined, MtC'!C40*$C40","v":62.282566248141563},{"$f":"'Combined, MtC'!D40*$C40","v":2.5939585698326977},{"$f":"'Combined, MtC'!E40*$C40","v":23.983879893354239},{"$f":"'Combined, MtC'!F40*$C40","v":11.262715659568327},{"$f":"'Combined, MtC'!G40*$C40","v":1.025838061359303},null,null,null,null,1.2182847966669894,7.6650842668445893E-2,0.50240562221528118,0.2289397727727758,1.7687848253399155E-2,null,null,0.50240562221528118,0.73134539498805695,0.74903324324145615,0.82568408590990205,1.2182847966669894]
[{"$f":"'Combined, MtC'!A41","v":1886},null,{"$f":"coefficients!D41","v":6.7068041793384728E-2},null,{"$f":"'Combined, MtC'!C41*$C41","v":64.150380771247114},{"$f":"'Combined, MtC'!D41*$C41","v":2.6423936582050267},{"$f":"'Combined, MtC'!E41*$C41","v":24.733989598961465},{"$f":"'Combined, MtC'!F41*$C41","v":11.441881704797407},{"$f":"'Combined, MtC'!G41*$C41","v":1.0525457274928418},null,null,null,null,1.2824351774382365,7.9293236326650918E-2,0.52713961181424263,0.2403816544775732,1.8740393980891997E-2,null,null,0.52713961181424263,0.76752126629181583,0.78626166027270783,0.86555489659935869,1.2824351774382365]
[{"$f":"'Combined, MtC'!A42","v":1887},null,{"$f":"coefficients!D42","v":6.8594860404839614E-2},null,{"$f":"'Combined, MtC'!C42*$C42","v":66.46663626591905},{"$f":"'Combined, MtC'!D42*$C42","v":2.6915045541069755},{"$f":"'Combined, MtC'!E42*$C42","v":25.428505742778356},{"$f":"'Combined, MtC'!F42*$C42","v":12.037108417673741},{"$f":"'Combined, MtC'!G42*$C42","v":1.0975246259634743},null,null,null,null,1.3489018137041555,8.1984740880757898E-2,0.55256811755702095,0.25241876289524695,1.9837918606855472E-2,null,null,0.55256811755702095,0.80498688045226796,0.82482479905912343,0.90680953993988134,1.3489018137041555]
[{"$f":"'Combined, MtC'!A43","v":1888},null,{"$f":"coefficients!D43","v":7.014833351844682E-2},null,{"$f":"'Combined, MtC'!C43*$C43","v":70.029852983134163},{"$f":"'Combined, MtC'!D43*$C43","v":2.7416143337348089},{"$f":"'Combined, MtC'!E43*$C43","v":27.031604202666667},{"$f":"'Combined, MtC'!F43*$C43","v":12.725595153914734},{"$f":"'Combined, MtC'!G43*$C43","v":1.1850438574605295},null,null,null,null,1.4189316666872898,8.4726355214492705E-2,0.57959972175968766,0.2651443580491617,2.1022962464316002E-2,null,null,0.57959972175968766,0.84474407980884936,0.86576704227316537,0.95049339748765804,1.4189316666872898]
[{"$f":"'Combined, MtC'!A44","v":1889},null,{"$f":"coefficients!D44","v":7.1756393108435457E-2},null,{"$f":"'Combined, MtC'!C44*$C44","v":71.435355005668328},{"$f":"'Combined, MtC'!D44*$C44","v":2.8007166037760332},{"$f":"'Combined, MtC'!E44*$C44","v":26.657241716768581},{"$f":"'Combined, MtC'!F44*$C44","v":13.376948789142823},{"$f":"'Combined, MtC'!G44*$C44","v":1.1630060925835892},null,null,null,null,1.4903670216929581,8.7527071818268742E-2,0.60625696347645619,0.27852130683830451,2.2185968556899589E-2,null,null,0.60625696347645619,0.88477827031476064,0.90696423887166022,0.99449131068992891,1.4903670216929581]
[{"$f":"'Combined, MtC'!A45","v":1890},null,{"$f":"coefficients!D45","v":7.3366426168573556E-2},null,{"$f":"'Combined, MtC'!C45*$C45","v":74.958991181414788},{"$f":"'Combined, MtC'!D45*$C45","v":2.8601020844704372},{"$f":"'Combined, MtC'!E45*$C45","v":28.338207632883314},{"$f":"'Combined, MtC'!F45*$C45","v":14.122494125896763},{"$f":"'Combined, MtC'!G45*$C45","v":1.2060046500016288},null,null,null,null,1.5653260128743729,9.0387173902739176E-2,0.6345951711093395,0.29264380096420128,2.3391973206901218E-2,null,null,0.6345951711093395,0.92723897207354078,0.95063094528044201,1.0410181191831811,1.5653260128743729]
[{"$f":"'Combined, MtC'!A46","v":1891},null,{"$f":"coefficients!D46","v":7.5026382198464234E-2},null,{"$f":"'Combined, MtC'!C46*$C46","v":77.451985134940571},{"$f":"'Combined, MtC'!D46*$C46","v":2.9260964294840837},{"$f":"'Combined, MtC'!E46*$C46","v":29.206074993624444},{"$f":"'Combined, MtC'!F46*$C46","v":14.662983576188793},{"$f":"'Combined, MtC'!G46*$C46","v":1.2657475861556304},null,null,null,null,1.6427779980093136,9.3313270332223267E-2,0.66380124610296398,0.30730678454039007,2.465772079305685E-2,null,null,0.66380124610296398,0.97110803064335405,0.99576575143641088,1.0890790217686341,1.6427779980093136]
[{"$f":"'Combined, MtC'!A47","v":1892},null,{"$f":"coefficients!D47","v":7.6710760556884861E-2},null,{"$f":"'Combined, MtC'!C47*$C47","v":80.413972522768489},{"$f":"'Combined, MtC'!D47*$C47","v":2.9936834571887663},{"$f":"'Combined, MtC'!E47*$C47","v":31.305991239535103},{"$f":"'Combined, MtC'!F47*$C47","v":14.844690500241631},{"$f":"'Combined, MtC'!G47*$C47","v":1.2903900587076387},null,null,null,null,1.7231919705320822,9.6306953789412036E-2,0.69510723734249913,0.32215147504063169,2.5948110851764489E-2,null,null,0.69510723734249913,1.0172587123831307,1.0432068232348952,1.1395137770243073,1.7231919705320822]
[{"$f":"'Combined, MtC'!A48","v":1893},null,{"$f":"coefficients!D48","v":7.8428595896231496E-2},null,{"$f":"'Combined, MtC'!C48*$C48","v":81.780869370624117},{"$f":"'Combined, MtC'!D48*$C48","v":3.0632091984978822},{"$f":"'Combined, MtC'!E48*$C48","v":32.116502176647209},{"$f":"'Combined, MtC'!F48*$C48","v":14.377043942402603},{"$f":"'Combined, MtC'!G48*$C48","v":1.3299764434891144},null,null,null,null,1.8049728399027063,9.9370162987909919E-2,0.72722373951914632,0.33652851898303426,2.7278087295253602E-2,null,null,0.72722373951914632,1.0637522585021806,1.0910303457974342,1.1904005087853442,1.8049728399027063]
[{"$f":"'Combined, MtC'!A49","v":1894},null,{"$f":"coefficients!D49","v":8.014399893717232E-2},null,{"$f":"'Combined, MtC'!C49*$C49","v":85.911561820685918},{"$f":"'Combined, MtC'!D49*$C49","v":4.3746521675856576},{"$f":"'Combined, MtC'!E49*$C49","v":32.307176001959185},{"$f":"'Combined, MtC'!F49*$C49","v":16.048988060766735},{"$f":"'Combined, MtC'!G49*$C49","v":1.3468038733393934},null,null,null,null,1.8908844017233921,0.10374481515549558,0.75953091552110552,0.35257750704380098,2.8624891168592997E-2,null,null,0.75953091552110552,1.1121084225649065,1.1407333137334994,1.244478128888995,1.8908844017233921]
[{"$f":"'Combined, MtC'!A50","v":1895},null,{"$f":"coefficients!D50","v":8.1915431043274242E-2},null,{"$f":"'Combined, MtC'!C50*$C50","v":89.858524645247428},{"$f":"'Combined, MtC'!D50*$C50","v":4.6181790220990893},{"$f":"'Combined, MtC'!E50*$C50","v":34.377817565370599},{"$f":"'Combined, MtC'!F50*$C50","v":16.560400350691122},{"$f":"'Combined, MtC'!G50*$C50","v":1.3608282897494977},null,null,null,null,1.9807429263686396,0.10836299417759467,0.79390873308647614,0.36913790739449209,2.9985719458342493E-2,null,null,0.79390873308647614,1.1630466404809683,1.1930323599393107,1.3013953541169054,1.9807429263686396]
[{"$f":"'Combined, MtC'!A51","v":1896},null,{"$f":"coefficients!D51","v":8.3736256763731184E-2},null,{"$f":"'Combined, MtC'!C51*$C51","v":93.065983019832572},{"$f":"'Combined, MtC'!D51*$C51","v":4.8634101664631837},{"$f":"'Combined, MtC'!E51*$C51","v":35.134360063450686},{"$f":"'Combined, MtC'!F51*$C51","v":17.391610222168826},{"$f":"'Combined, MtC'!G51*$C51","v":1.4079749157280816},null,null,null,null,2.0738089093884722,0.11322640434405785,0.82904309314992686,0.38652951761666093,3.1393694374070573E-2,null,null,0.82904309314992686,1.2155726107665878,1.2469663051406583,1.3601927094847162,2.0738089093884722]
[{"$f":"'Combined, MtC'!A52","v":1897},null,{"$f":"coefficients!D52","v":8.5588924714067816E-2},null,{"$f":"'Combined, MtC'!C52*$C52","v":96.902154371698018},{"$f":"'Combined, MtC'!D52*$C52","v":5.1153847044932199},{"$f":"'Combined, MtC'!E52*$C52","v":36.442976725142714},{"$f":"'Combined, MtC'!F52*$C52","v":18.285457524902647},{"$f":"'Combined, MtC'!G52*$C52","v":1.4468037422590738},null,null,null,null,2.1707110637601703,0.11834178904855107,0.8654860698750696,0.40481497514156356,3.284049811632965E-2,null,null,0.8654860698750696,1.2703010450166332,1.3031415431329629,1.4214833321815139,2.1707110637601703]
[{"$f":"'Combined, MtC'!A53","v":1898},null,{"$f":"coefficients!D53","v":8.7484429924708382E-2},null,{"$f":"'Combined, MtC'!C53*$C53","v":101.01774632748122},{"$f":"'Combined, MtC'!D53*$C53","v":5.3685607783166613},{"$f":"'Combined, MtC'!E53*$C53","v":38.236679812104406},{"$f":"'Combined, MtC'!F53*$C53","v":18.915787205447529},{"$f":"'Combined, MtC'!G53*$C53","v":1.508668994051596},null,null,null,null,2.2717288100876516,0.12371034982686772,0.90372274968717403,0.42373076234701107,3.4349167110381246E-2,null,null,0.90372274968717403,1.327453512034185,1.3618026791445663,1.485513028971434,2.2717288100876516]
[{"$f":"'Combined, MtC'!A54","v":1899},null,{"$f":"coefficients!D54","v":8.9426112189367968E-2},null,{"$f":"'Combined, MtC'!C54*$C54","v":106.94710207229426},{"$f":"'Combined, MtC'!D54*$C54","v":5.6245626374849254},{"$f":"'Combined, MtC'!E54*$C54","v":40.95325146162785},{"$f":"'Combined, MtC'!F54*$C54","v":20.365169495886708},{"$f":"'Combined, MtC'!G54*$C54","v":1.6235400094091941},null,null,null,null,{"$f":"N53+0.001*E54","v":2.3786759121599457},0.12933491246435264,0.9446760011488019,0.44409593184289775,3.5972707119790441E-2,null,null,0.9446760011488019,{"$f":"U54+Q54","v":1.3887719329916997},1.42474464011149,1.5540795525758426,2.3786759121599457]
[{"$f":"'Combined, MtC'!A55","v":1900},null,{"$f":"coefficients!D55","v":9.1446673357949176E-2},null,{"$f":"'Combined, MtC'!C55*$C55","v":111.72789946862186},{"$f":"'Combined, MtC'!D55*$C55","v":5.8858919733457125},{"$f":"'Combined, MtC'!E55*$C55","v":42.717566827704822},{"$f":"'Combined, MtC'!F55*$C55","v":21.405947035636771},{"$f":"'Combined, MtC'!G55*$C55","v":1.7984360015941074},null,null,null,null,2.4904038116285676,0.13522080443769835,0.98739356797650668,0.4655018788785345,3.7771143121384548E-2,null,null,0.98739356797650668,1.4528954468550412,1.4906665899764258,1.6258873944141241,2.4904038116285676]
[{"$f":"'Combined, MtC'!A56","v":1901},null,{"$f":"coefficients!D56","v":9.3520238253262084E-2},null,{"$f":"'Combined, MtC'!C56*$C56","v":121.87239480355053},{"$f":"'Combined, MtC'!D56*$C56","v":6.1500592039633712},{"$f":"'Combined, MtC'!E56*$C56","v":45.149289134861554},{"$f":"'Combined, MtC'!F56*$C56","v":21.480252035343455},{"$f":"'Combined, MtC'!G56*$C56","v":1.9475122015050563},null,null,null,null,2.6122762064321181,0.14137086364166171,1.0325428571113682,0.48698213091387799,3.9718655322889602E-2,null,null,1.0325428571113682,1.5195249880252462,1.5592436433481358,1.7006145069897975,2.6122762064321181]
[{"$f":"'Combined, MtC'!A57","v":1902},null,{"$f":"coefficients!D57","v":9.5744175198613515E-2},null,{"$f":"'Combined, MtC'!C57*$C57","v":126.49988510931374},{"$f":"'Combined, MtC'!D57*$C57","v":7.9206188072381805},{"$f":"'Combined, MtC'!E57*$C57","v":42.993998468277553},{"$f":"'Combined, MtC'!F57*$C57","v":22.299431166478357},{"$f":"'Combined, MtC'!G57*$C57","v":3.2664848764160572},null,null,null,null,2.7387760915414319,0.14929148244889989,1.0755368555796456,0.50928156208035635,4.298514019930566E-2,null,null,1.0755368555796456,1.584818417660002,1.6278035578593077,1.7770950403082075,2.7387760915414319]
[{"$f":"'Combined, MtC'!A58","v":1903},null,{"$f":"coefficients!D58","v":9.8009231239524361E-2},null,{"$f":"'Combined, MtC'!C58*$C58","v":137.37346285610442},{"$f":"'Combined, MtC'!D58*$C58","v":9.909801578936424},{"$f":"'Combined, MtC'!E58*$C58","v":46.644719947207541},{"$f":"'Combined, MtC'!F58*$C58","v":23.432831078595399},{"$f":"'Combined, MtC'!G58*$C58","v":3.6751011484040648},null,null,null,null,2.8761495543975362,0.15920128402783632,1.1221815755268532,0.53271439315895175,4.6660241347709727E-2,null,null,1.1221815755268532,1.6548959686858049,1.7015562100335146,1.8607574940613509,2.8761495543975362]
[{"$f":"'Combined, MtC'!A59","v":1904},null,{"$f":"coefficients!D59","v":0.10042569129404665},null,{"$f":"'Combined, MtC'!C59*$C59","v":143.74973622106356},{"$f":"'Combined, MtC'!D59*$C59","v":12.008803739250803},{"$f":"'Combined, MtC'!E59*$C59","v":46.441549619288864},{"$f":"'Combined, MtC'!F59*$C59","v":24.082522645354079},{"$f":"'Combined, MtC'!G59*$C59","v":4.1855821320297935},null,null,null,null,3.0198992906186,0.17121008776708713,1.1686231251461421,0.55679691580430579,5.0845823479739524E-2,null,null,1.1686231251461421,1.7254200409504479,1.7762658644301874,1.9474759521972747,3.0198992906186]
[{"$f":"'Combined, MtC'!A60","v":1905},null,{"$f":"coefficients!D60","v":0.102905585309105},null,{"$f":"'Combined, MtC'!C60*$C60","v":154.30342638110244},{"$f":"'Combined, MtC'!D60*$C60","v":14.255304921699697},{"$f":"'Combined, MtC'!E60*$C60","v":49.57777056575236},{"$f":"'Combined, MtC'!F60*$C60","v":25.014814495422321},{"$f":"'Combined, MtC'!G60*$C60","v":4.6349910490244595},null,null,null,null,3.1742027169997025,0.18546539268878681,1.2182008957118944,0.5818117302997281,5.548081452876398E-2,null,null,1.2182008957118944,1.8000126260116225,1.8554934405403865,2.0409588332291735,3.1742027169997025]
[{"$f":"'Combined, MtC'!A61","v":1906},null,{"$f":"coefficients!D61","v":0.10551783521045659},null,{"$f":"'Combined, MtC'!C61*$C61","v":164.56392750886471},{"$f":"'Combined, MtC'!D61*$C61","v":17.072912358454129},{"$f":"'Combined, MtC'!E61*$C61","v":51.480210271013895},{"$f":"'Combined, MtC'!F61*$C61","v":26.982851991481621},{"$f":"'Combined, MtC'!G61*$C61","v":5.1434035666325801},null,null,null,null,3.3387666445085671,0.20253830504724094,1.2696811059829083,0.60879458229120975,6.0624218095396559E-2,null,null,1.2696811059829083,1.878475688274118,1.9390999063695147,2.1416382114167556,3.3387666445085671]
[{"$f":"'Combined, MtC'!A62","v":1907},null,{"$f":"coefficients!D62","v":0.10824982673445432},null,{"$f":"'Combined, MtC'!C62*$C62","v":179.23194436990437},{"$f":"'Combined, MtC'!D62*$C62","v":17.991781527209387},{"$f":"'Combined, MtC'!E62*$C62","v":56.993447175828813},{"$f":"'Combined, MtC'!F62*$C62","v":29.018844977202701},{"$f":"'Combined, MtC'!G62*$C62","v":5.8570842001037935},null,null,null,null,3.5179985888784713,0.22053008657445033,1.3266745531587372,0.6378134272684125,6.6481302295500352E-2,null,null,1.3266745531587372,1.9644879804271498,2.03096928272265,2.2514993692971004,3.5179985888784713]
[{"$f":"'Combined, MtC'!A63","v":1908},null,{"$f":"coefficients!D63","v":0.11116816435464054},null,{"$f":"'Combined, MtC'!C63*$C63","v":181.66334358501308},{"$f":"'Combined, MtC'!D63*$C63","v":19.08681787617417},{"$f":"'Combined, MtC'!E63*$C63","v":53.379350674573303},{"$f":"'Combined, MtC'!F63*$C63","v":30.188637726266787},{"$f":"'Combined, MtC'!G63*$C63","v":6.3312826467747945},null,null,null,null,3.6996619324634845,0.2396169044506245,1.3800539038333104,0.66800206499467929,7.2812584942275146E-2,null,null,1.3800539038333104,2.0480559688279896,2.1208685537702645,2.360485458220889,3.6996619324634845]
[{"$f":"'Combined, MtC'!A64","v":1909},null,{"$f":"coefficients!D64","v":0.11406125920877326},null,{"$f":"'Combined, MtC'!C64*$C64","v":190.467360853695},{"$f":"'Combined, MtC'!D64*$C64","v":19.855624317300361},{"$f":"'Combined, MtC'!E64*$C64","v":57.684748113697104},{"$f":"'Combined, MtC'!F64*$C64","v":30.828728073717496},{"$f":"'Combined, MtC'!G64*$C64","v":6.6308486489687457},null,null,null,null,3.8901292933171794,0.25947252876792487,1.4377386519470075,0.69883079306839679,7.9443433591243895E-2,null,null,1.4377386519470075,2.1365694450154042,2.216012878606648,2.4754854073745727,3.8901292933171794]
[{"$f":"'Combined, MtC'!A65","v":1910},null,{"$f":"coefficients!D65","v":0.11703297841098166},null,{"$f":"'Combined, MtC'!C65*$C65","v":200.63057115377316},{"$f":"'Combined, MtC'!D65*$C65","v":20.602684475532509},{"$f":"'Combined, MtC'!E65*$C65","v":61.9616475074641},{"$f":"'Combined, MtC'!F65*$C65","v":32.426491174500462},{"$f":"'Combined, MtC'!G65*$C65","v":7.3632819795988453},null,null,null,null,4.0907598644709529,0.28007521324345735,1.4997002994544715,0.73125728424289727,8.6806715570842741E-2,null,null,1.4997002994544715,2.2309575836973687,2.3177642992682115,2.5978395125116687,4.0907598644709529]
[{"$f":"'Combined, MtC'!A66","v":1911},null,{"$f":"coefficients!D66","v":0.12010001407778746},null,{"$f":"'Combined, MtC'!C66*$C66","v":200.42422459316657},{"$f":"'Combined, MtC'!D66*$C66","v":21.709782964759992},{"$f":"'Combined, MtC'!E66*$C66","v":62.655300614278957},{"$f":"'Combined, MtC'!F66*$C66","v":33.719520152507762},{"$f":"'Combined, MtC'!G66*$C66","v":8.1697434076344528},null,null,null,null,4.2911840890641191,0.30178499620821736,1.5623556000687504,0.76497680439540505,9.4976458978477188E-2,null,null,1.5623556000687504,2.3273324044641557,2.4223088634426331,2.7240938596508504,4.2911840890641191]
[{"$f":"'Combined, MtC'!A67","v":1912},null,{"$f":"coefficients!D67","v":0.12309753832538348},null,{"$f":"'Combined, MtC'!C67*$C67","v":205.05427907442558},{"$f":"'Combined, MtC'!D67*$C67","v":21.701628236119472},{"$f":"'Combined, MtC'!E67*$C67","v":63.950808357296438},{"$f":"'Combined, MtC'!F67*$C67","v":34.260396078936232},{"$f":"'Combined, MtC'!G67*$C67","v":8.9396509770351624},null,null,null,null,4.4962383681385445,0.32348662444433685,1.6263064084260468,0.79923720047434132,0.10391610995551236,null,null,1.6263064084260468,2.4255436089003881,2.5294597188559003,2.8529463433002373,4.4962383681385445]
[{"$f":"'Combined, MtC'!A68","v":1913},null,{"$f":"coefficients!D68","v":0.1261028038153314},null,{"$f":"'Combined, MtC'!C68*$C68","v":214.64904008436173},{"$f":"'Combined, MtC'!D68*$C68","v":22.288405758471811},{"$f":"'Combined, MtC'!E68*$C68","v":68.178111396777993},{"$f":"'Combined, MtC'!F68*$C68","v":37.931332468959859},{"$f":"'Combined, MtC'!G68*$C68","v":9.9012642882899016},null,null,null,null,4.7108874082229066,0.34577503020280864,1.6944845198228249,0.83716853294330118,0.11381737424380226,null,null,1.6944845198228249,2.5316530527661261,2.6454704270099283,2.9912454572127372,4.7108874082229066]
[{"$f":"'Combined, MtC'!A69","v":1914},null,{"$f":"coefficients!D69","v":0.12918869517681617},null,{"$f":"'Combined, MtC'!C69*$C69","v":207.69072255578922},{"$f":"'Combined, MtC'!D69*$C69","v":23.500896403787873},{"$f":"'Combined, MtC'!E69*$C69","v":64.854417350668541},{"$f":"'Combined, MtC'!F69*$C69","v":34.752960457428692},{"$f":"'Combined, MtC'!G69*$C69","v":10.111224524273389},null,null,null,null,4.9185781307786955,0.36927592660659653,1.7593389371734935,0.87192149340072989,0.12392859876807565,null,null,1.7593389371734935,2.6312604305742235,2.7551890293422994,3.1244649559488957,4.9185781307786955]
[{"$f":"'Combined, MtC'!A70","v":1915},null,{"$f":"coefficients!D70","v":0.13211204703855647},null,{"$f":"'Combined, MtC'!C70*$C70","v":209.79578026588624},{"$f":"'Combined, MtC'!D70*$C70","v":24.149936875396381},{"$f":"'Combined, MtC'!E70*$C70","v":67.503773386750254},{"$f":"'Combined, MtC'!F70*$C70","v":34.355671776353098},{"$f":"'Combined, MtC'!G70*$C70","v":10.263005473347926},null,null,null,null,{"$f":"N69+0.001*E70","v":5.1283739110445818},0.39342586348199293,1.8268427105602438,0.90627716517708301,0.13419160424142357,null,null,{"$f":"P70","v":1.8268427105602438},{"$f":"U70+Q70","v":2.733119875737327},2.8673114799787505,{"$f":"W70+O70","v":3.2607373434607432},{"$f":"N70","v":5.1283739110445818}]
[{"$f":"'Combined, MtC'!A71","v":1916},null,{"$f":"coefficients!D71","v":0.13501056348415338},null,{"$f":"'Combined, MtC'!C71*$C71","v":223.18501742170957},{"$f":"'Combined, MtC'!D71*$C71","v":24.795783569428988},{"$f":"'Combined, MtC'!E71*$C71","v":73.890984371637487},{"$f":"'Combined, MtC'!F71*$C71","v":35.478426899830886},{"$f":"'Combined, MtC'!G71*$C71","v":11.245866898088737},null,null,null,null,5.3515589284662912,0.4182216470514219,1.9007336949318814,0.94175559207691384,0.1454374711395123,null,null,1.9007336949318814,2.842489287008795,2.9879267581483071,3.4061484051997288,5.3515589284662912]
[{"$f":"'Combined, MtC'!A72","v":1917},null,{"$f":"coefficients!D72","v":0.13804236697368152},null,{"$f":"'Combined, MtC'!C72*$C72","v":234.6411023650565},{"$f":"'Combined, MtC'!D72*$C72","v":26.111265882539758},{"$f":"'Combined, MtC'!E72*$C72","v":80.804659386791286},{"$f":"'Combined, MtC'!F72*$C72","v":34.457045109271291},{"$f":"'Combined, MtC'!G72*$C72","v":11.968549301352136},null,null,null,null,5.586200030831348,0.44433291293396165,1.9815383543186726,0.97621263718618512,0.15740602044086444,null,null,1.9815383543186726,2.9577509915048577,3.1151570119457221,3.5594899248796836,5.586200030831348]
[{"$f":"'Combined, MtC'!A73","v":1918},null,{"$f":"coefficients!D73","v":0.14117423674981672},null,{"$f":"'Combined, MtC'!C73*$C73","v":241.02903319075008},{"$f":"'Combined, MtC'!D73*$C73","v":27.460393722001196},{"$f":"'Combined, MtC'!E73*$C73","v":85.064988111159664},{"$f":"'Combined, MtC'!F73*$C73","v":33.855177241481321},{"$f":"'Combined, MtC'!G73*$C73","v":12.57148107802913},null,null,null,null,5.8272290640220978,0.47179330665596286,2.0666033424298322,1.0100678144276665,0.16997750151889357,null,null,2.0666033424298322,3.0766711568574987,3.246648658376392,3.7184419650323548,5.8272290640220978]
[{"$f":"'Combined, MtC'!A74","v":1919},null,{"$f":"coefficients!D74","v":0.14433305115138254},null,{"$f":"'Combined, MtC'!C74*$C74","v":228.87700186161175},{"$f":"'Combined, MtC'!D74*$C74","v":28.935067396437606},{"$f":"'Combined, MtC'!E74*$C74","v":76.142121736435641},{"$f":"'Combined, MtC'!F74*$C74","v":35.307977803585985},{"$f":"'Combined, MtC'!G74*$C74","v":12.358762871024087},null,null,null,null,6.0561060658837098,0.50072837405240045,2.1427454641662678,1.0453757922312525,0.18233626438991765,null,null,2.1427454641662678,3.1881212563975203,3.3704575207874381,3.8711858948398383,6.0561060658837098]
[{"$f":"'Combined, MtC'!A75","v":1920},null,{"$f":"coefficients!D75","v":0.14727407973207982},null,{"$f":"'Combined, MtC'!C75*$C75","v":253.78151600168209},{"$f":"'Combined, MtC'!D75*$C75","v":30.377399691489607},{"$f":"'Combined, MtC'!E75*$C75","v":87.241630255370509},{"$f":"'Combined, MtC'!F75*$C75","v":39.094493561199513},{"$f":"'Combined, MtC'!G75*$C75","v":13.186228911035688},null,null,null,null,6.3098875818853921,0.53110577374389001,2.2299870944216384,1.084470285792452,0.19552249330095334,null,null,2.2299870944216384,3.3144573802140904,3.5099798735150438,4.0410856472589334,6.3098875818853921]
[{"$f":"'Combined, MtC'!A76","v":1921},null,{"$f":"coefficients!D76","v":0.15048723225423449},null,{"$f":"'Combined, MtC'!C76*$C76","v":249.12002548000163},{"$f":"'Combined, MtC'!D76*$C76","v":31.747102539541043},{"$f":"'Combined, MtC'!E76*$C76","v":75.326564689535786},{"$f":"'Combined, MtC'!F76*$C76","v":33.146046899299627},{"$f":"'Combined, MtC'!G76*$C76","v":13.289858552282409},null,null,null,null,6.5590076073653938,0.56285287628343106,2.305313659111174,1.1176163326917516,0.20881235185323574,null,null,2.305313659111174,3.4229299918029259,3.6317423436561618,4.1945952199395933,6.5590076073653938]
[{"$f":"'Combined, MtC'!A77","v":1922},null,{"$f":"coefficients!D77","v":0.15358343914321143},null,{"$f":"'Combined, MtC'!C77*$C77","v":258.93369205661901},{"$f":"'Combined, MtC'!D77*$C77","v":32.869344028361368},{"$f":"'Combined, MtC'!E77*$C77","v":73.208495069643291},{"$f":"'Combined, MtC'!F77*$C77","v":40.595036409238418},{"$f":"'Combined, MtC'!G77*$C77","v":13.223134793288731},null,null,null,null,6.8179412994220128,0.59572222031179245,2.3785221541808172,1.1582113691009901,0.22203548664652448,null,null,2.3785221541808172,3.5367335232818071,3.7587690099283315,4.3544912302401242,6.8179412994220128]
[{"$f":"'Combined, MtC'!A78","v":1923},null,{"$f":"coefficients!D78","v":0.15674952015049662},null,{"$f":"'Combined, MtC'!C78*$C78","v":283.56097919888947},{"$f":"'Combined, MtC'!D78*$C78","v":34.172320214977155},{"$f":"'Combined, MtC'!E78*$C78","v":93.007641280337481},{"$f":"'Combined, MtC'!F78*$C78","v":44.604392654793081},{"$f":"'Combined, MtC'!G78*$C78","v":14.616845729177763},null,null,null,null,7.1015022786209023,0.62989454052676963,2.4715297954611546,1.2028157617557831,0.23665233237570224,null,null,2.4715297954611546,3.6743455572169377,3.9109978895926401,4.5408924301194098,7.1015022786209023]
[{"$f":"'Combined, MtC'!A79","v":1924},null,{"$f":"coefficients!D79","v":0.16016427129967759},null,{"$f":"'Combined, MtC'!C79*$C79","v":290.19635774693296},{"$f":"'Combined, MtC'!D79*$C79","v":35.423227571234222},{"$f":"'Combined, MtC'!E79*$C79","v":84.882130729273086},{"$f":"'Combined, MtC'!F79*$C79","v":48.802117530720281},{"$f":"'Combined, MtC'!G79*$C79","v":14.433203308170445},null,null,null,null,7.3916986363678356,0.6653177680980038,2.5564119261904277,1.2516178792865034,0.25108553568387271,null,null,2.5564119261904277,3.8080298054769308,4.0591153411608039,4.7244331092588077,7.3916986363678356]
[{"$f":"'Combined, MtC'!A80","v":1925},null,{"$f":"coefficients!D80","v":0.16359784680787021},null,{"$f":"'Combined, MtC'!C80*$C80","v":298.00231224426324},{"$f":"'Combined, MtC'!D80*$C80","v":36.468659417946604},{"$f":"'Combined, MtC'!E80*$C80","v":86.969858706699554},{"$f":"'Combined, MtC'!F80*$C80","v":49.094339605128667},{"$f":"'Combined, MtC'!G80*$C80","v":14.782210644018727},null,null,null,null,7.6897009486120993,0.70178642751595044,2.6433817848971271,1.300712218891632,0.26586774632789145,null,null,2.6433817848971271,3.9440940037887593,4.2099617501166504,4.9117481776326013,7.6897009486120993]
[{"$f":"'Combined, MtC'!A81","v":1926},null,{"$f":"coefficients!D81","v":0.16706339298062006},null,{"$f":"'Combined, MtC'!C81*$C81","v":300.844416811641},{"$f":"'Combined, MtC'!D81*$C81","v":37.440192755082904},{"$f":"'Combined, MtC'!E81*$C81","v":94.431797684348467},{"$f":"'Combined, MtC'!F81*$C81","v":40.98106795662855},{"$f":"'Combined, MtC'!G81*$C81","v":15.594749600186855},null,null,null,null,7.9905453654237402,0.73922662027103336,2.7378135825814756,1.3416932868482605,0.28146249592807832,null,null,2.7378135825814756,4.0795068694297356,4.3609693653578141,5.1001959856288472,7.9905453654237402]
[{"$f":"'Combined, MtC'!A82","v":1927},null,{"$f":"coefficients!D82","v":0.17050157027110702},null,{"$f":"'Combined, MtC'!C82*$C82","v":327.92686361341202},{"$f":"'Combined, MtC'!D82*$C82","v":38.544369282709702},{"$f":"'Combined, MtC'!E82*$C82","v":101.73202957314062},{"$f":"'Combined, MtC'!F82*$C82","v":53.743066808403483},{"$f":"'Combined, MtC'!G82*$C82","v":14.600799669224086},null,null,null,null,8.3184722290371518,0.77777098955374302,2.8395456121546161,1.3954363536566641,0.29606329559730238,null,null,2.8395456121546161,4.2349819658112802,4.5310452614085825,5.3088162509623258,8.3184722290371518]
[{"$f":"'Combined, MtC'!A83","v":1928},null,{"$f":"coefficients!D83","v":0.17419228021469174},null,{"$f":"'Combined, MtC'!C83*$C83","v":334.48401646825107},{"$f":"'Combined, MtC'!D83*$C83","v":39.55310946077315},{"$f":"'Combined, MtC'!E83*$C83","v":103.08563273126889},{"$f":"'Combined, MtC'!F83*$C83","v":53.171339993361599},{"$f":"'Combined, MtC'!G83*$C83","v":14.584718980131646},null,null,null,null,8.6529562455054023,0.81732409901451619,2.9426312448858849,1.4486076936500256,0.31064801457743402,null,null,2.9426312448858849,4.3912389385359107,4.7018869531133447,5.5192110521278606,8.6529562455054023]
[{"$f":"'Combined, MtC'!A84","v":1929},null,{"$f":"coefficients!D84","v":0.17789115050999085},null,{"$f":"'Combined, MtC'!C84*$C84","v":359.65890497189542},{"$f":"'Combined, MtC'!D84*$C84","v":40.786865199815651},{"$f":"'Combined, MtC'!E84*$C84","v":115.98474550667324},{"$f":"'Combined, MtC'!F84*$C84","v":58.158131727381814},{"$f":"'Combined, MtC'!G84*$C84","v":14.736894268778762},null,null,null,null,9.0126151504772984,0.85811096421433186,3.0586159903925583,1.5067658253774074,0.32538490884621279,null,null,3.0586159903925583,4.5653818157699657,4.8907667246161788,5.7488776888305111,9.0126151504772984]
[{"$f":"'Combined, MtC'!A85","v":1930},null,{"$f":"coefficients!D85","v":0.18180481799336892},null,{"$f":"'Combined, MtC'!C85*$C85","v":364.01833321758693},{"$f":"'Combined, MtC'!D85*$C85","v":42.170772903915278},{"$f":"'Combined, MtC'!E85*$C85","v":121.29504766930833},{"$f":"'Combined, MtC'!F85*$C85","v":57.555914724195127},{"$f":"'Combined, MtC'!G85*$C85","v":14.46931823012005},null,null,null,null,9.376633483694885,0.90028173711824711,3.1799110380618667,1.5643217401016025,0.33985422707633284,null,null,3.1799110380618667,4.744232778163469,5.0840870052398017,5.9843687423580487,9.376633483694885]
[{"$f":"'Combined, MtC'!A86","v":1931},null,{"$f":"coefficients!D86","v":0.18569507007874625},null,{"$f":"'Combined, MtC'!C86*$C86","v":351.79763900855409},{"$f":"'Combined, MtC'!D86*$C86","v":43.574220960807175},{"$f":"'Combined, MtC'!E86*$C86","v":110.00533241598809},{"$f":"'Combined, MtC'!F86*$C86","v":55.507747513854731},{"$f":"'Combined, MtC'!G86*$C86","v":13.440646311313669},null,null,null,null,{"$f":"N85+0.001*E86","v":9.728431122703439},0.94385595807905431,3.2899163704778549,1.6198294876154573,0.35329487338764654,null,null,3.2899163704778549,{"$f":"U86+Q86","v":4.909745858093312},5.2630407314809586,6.2068966895600131,9.728431122703439]
[{"$f":"'Combined, MtC'!A87","v":1932},null,{"$f":"coefficients!D87","v":0.18938585361090524},null,{"$f":"'Combined, MtC'!C87*$C87","v":321.54365813522793},{"$f":"'Combined, MtC'!D87*$C87","v":44.525258095826096},{"$f":"'Combined, MtC'!E87*$C87","v":81.031218422108097},{"$f":"'Combined, MtC'!F87*$C87","v":52.439124760664996},{"$f":"'Combined, MtC'!G87*$C87","v":13.185194637074112},null,null,null,null,10.049974780838667,0.98838121617488039,3.3709475888999632,1.6722686123761223,0.36648006802472066,null,null,3.3709475888999632,5.0432162012760857,5.4096962693008059,6.3980774854756861,10.049974780838667]
[{"$f":"'Combined, MtC'!A88","v":1933},null,{"$f":"coefficients!D88","v":0.19269853119562647},null,{"$f":"'Combined, MtC'!C88*$C88","v":333.48311459449519},{"$f":"'Combined, MtC'!D88*$C88","v":45.656602552067127},{"$f":"'Combined, MtC'!E88*$C88","v":85.773893126384777},{"$f":"'Combined, MtC'!F88*$C88","v":53.54477473611945},{"$f":"'Combined, MtC'!G88*$C88","v":13.173334069007897},null,null,null,null,10.383457895433162,1.0340378187269474,3.4567214820263481,1.7258133871122419,0.37965340209372855,null,null,3.4567214820263481,5.18253486913859,5.5621882712323183,6.5962260899592655,10.383457895433162]
[{"$f":"'Combined, MtC'!A89","v":1934},null,{"$f":"coefficients!D89","v":0.19608686632800681},null,{"$f":"'Combined, MtC'!C89*$C89","v":349.22580675852191},{"$f":"'Combined, MtC'!D89*$C89","v":45.769066860725992},{"$f":"'Combined, MtC'!E89*$C89","v":90.524560709402536},{"$f":"'Combined, MtC'!F89*$C89","v":56.992098655009464},{"$f":"'Combined, MtC'!G89*$C89","v":13.754885803624061},null,null,null,null,10.732683702191684,1.0798068855876735,3.5472460427357508,1.7828054857672513,0.3934082878973526,null,null,3.5472460427357508,5.3300515285030023,5.7234598164003554,6.8032667019880293,10.732683702191684]
[{"$f":"'Combined, MtC'!A90","v":1935},null,{"$f":"coefficients!D90","v":0.19958659641796284},null,{"$f":"'Combined, MtC'!C90*$C90","v":362.33629308144799},{"$f":"'Combined, MtC'!D90*$C90","v":47.012922166145771},{"$f":"'Combined, MtC'!E90*$C90","v":94.711104952432976},{"$f":"'Combined, MtC'!F90*$C90","v":58.044951531190819},{"$f":"'Combined, MtC'!G90*$C90","v":13.80963611007455},null,null,null,null,11.095019995273132,1.1268198077538192,3.641957147688184,1.840850437298442,0.40721792400742718,null,null,3.641957147688184,5.4828075849866256,5.8900255089940527,7.0168453167478724,11.095019995273132]
[{"$f":"'Combined, MtC'!A91","v":1936},null,{"$f":"coefficients!D91","v":0.20316666912586639},null,{"$f":"'Combined, MtC'!C91*$C91","v":387.65907069235959},{"$f":"'Combined, MtC'!D91*$C91","v":48.253018484071241},{"$f":"'Combined, MtC'!E91*$C91","v":106.92168101088373},{"$f":"'Combined, MtC'!F91*$C91","v":59.456360019680368},{"$f":"'Combined, MtC'!G91*$C91","v":14.298727956410088},null,null,null,null,11.482679065965492,1.1750728262378904,3.748878828699068,1.9003067973181225,0.42151665196383725,null,null,3.748878828699068,5.6491856260171902,6.0707022779810274,7.245775104218918,11.482679065965492]
[{"$f":"'Combined, MtC'!A92","v":1937},null,{"$f":"coefficients!D92","v":0.20694495250243997},null,{"$f":"'Combined, MtC'!C92*$C92","v":404.6856143524289},{"$f":"'Combined, MtC'!D92*$C92","v":48.89610490297126},{"$f":"'Combined, MtC'!E92*$C92","v":107.87028413134458},{"$f":"'Combined, MtC'!F92*$C92","v":64.509108233508329},{"$f":"'Combined, MtC'!G92*$C92","v":14.810843305647124},null,null,null,null,11.887364680317921,1.2239689311408617,3.8567491128304123,1.9648159055516308,0.43632749526948439,null,null,3.8567491128304123,5.8215650183820431,6.2578925136515275,7.481861444792389,11.887364680317921]
[{"$f":"'Combined, MtC'!A93","v":1938},null,{"$f":"coefficients!D93","v":0.21083183896441307},null,{"$f":"'Combined, MtC'!C93*$C93","v":395.64302319567724},{"$f":"'Combined, MtC'!D93*$C93","v":49.518158350307282},{"$f":"'Combined, MtC'!E93*$C93","v":94.120877791078755},{"$f":"'Combined, MtC'!F93*$C93","v":62.140006970405906},{"$f":"'Combined, MtC'!G93*$C93","v":14.31387954370752},null,null,null,null,12.283007703513599,1.273487089491169,3.950869990621491,2.0269559125220367,0.45064137481319189,null,null,3.950869990621491,5.9778259031435272,6.4284672779567194,7.7019543674478879,12.283007703513599]
[{"$f":"'Combined, MtC'!A94","v":1939},null,{"$f":"coefficients!D94","v":0.21457156901868477},null,{"$f":"'Combined, MtC'!C94*$C94","v":415.6691163608412},{"$f":"'Combined, MtC'!D94*$C94","v":51.088825411484883},{"$f":"'Combined, MtC'!E94*$C94","v":104.0041269327706},{"$f":"'Combined, MtC'!F94*$C94","v":62.897621512329899},{"$f":"'Combined, MtC'!G94*$C94","v":15.089337905257873},null,null,null,null,12.698676819874439,1.3245759149026539,4.0548741175542613,2.0898535340343667,0.46573071271844974,null,null,4.0548741175542613,6.144727651588628,6.6104583643070773,7.9350342792097308,12.698676819874439]
[{"$f":"'Combined, MtC'!A95","v":1940},null,{"$f":"coefficients!D95","v":0.21844657437560949},null,{"$f":"'Combined, MtC'!C95*$C95","v":437.65661952866174},{"$f":"'Combined, MtC'!D95*$C95","v":53.144032128617269},{"$f":"'Combined, MtC'!E95*$C95","v":115.17945148473011},{"$f":"'Combined, MtC'!F95*$C95","v":59.763509448634181},{"$f":"'Combined, MtC'!G95*$C95","v":15.713342677301217},null,null,null,null,13.136333439403101,1.3777199470312711,4.1700535690389913,2.1496170434830009,0.48144405539575097,null,null,4.1700535690389913,6.3196706125219926,6.8011146679177434,8.1788346149490145,13.136333439403101]
[{"$f":"'Combined, MtC'!A96","v":1941},null,{"$f":"coefficients!D96","v":0.22246959742592506},null,{"$f":"'Combined, MtC'!C96*$C96","v":452.54632026623221},{"$f":"'Combined, MtC'!D96*$C96","v":55.436064387619403},{"$f":"'Combined, MtC'!E96*$C96","v":127.14898338914813},{"$f":"'Combined, MtC'!F96*$C96","v":58.177023309665245},{"$f":"'Combined, MtC'!G96*$C96","v":16.758857243692358},null,null,null,null,13.588879759669334,1.4331560114188906,4.2972025524281392,2.2077940667926663,0.49820291263944333,null,null,4.2972025524281392,6.5049966192208055,7.0031995318602487,8.4363555432791397,13.588879759669334]
[{"$f":"'Combined, MtC'!A97","v":1942},null,{"$f":"coefficients!D97","v":0.22656887805018414},null,{"$f":"'Combined, MtC'!C97*$C97","v":476.60893245309904},{"$f":"'Combined, MtC'!D97*$C97","v":59.584261707803279},{"$f":"'Combined, MtC'!E97*$C97","v":141.90697601672304},{"$f":"'Combined, MtC'!F97*$C97","v":58.336410955054092},{"$f":"'Combined, MtC'!G97*$C97","v":17.861308275320411},null,null,null,null,14.065488692122432,1.4927402731266939,4.4391095284448623,2.2661304777477205,0.51606422091476378,null,null,4.4391095284448623,6.7052400061925823,7.2213042271073462,8.7140445002340403,14.065488692122432]
[{"$f":"'Combined, MtC'!A98","v":1943},null,{"$f":"coefficients!D98","v":0.23082463938325576},null,{"$f":"'Combined, MtC'!C98*$C98","v":488.15002478946377},{"$f":"'Combined, MtC'!D98*$C98","v":62.590640039803013},{"$f":"'Combined, MtC'!E98*$C98","v":145.87911775092712},{"$f":"'Combined, MtC'!F98*$C98","v":56.738335215343888},{"$f":"'Combined, MtC'!G98*$C98","v":18.53999661251067},null,null,null,null,14.553638716911896,1.555330913166497,4.5849886461957894,2.3228688129630646,0.53460421752727449,null,null,4.5849886461957894,6.907857459158854,7.4424616766861282,8.9977925898526259,14.553638716911896]
[{"$f":"'Combined, MtC'!A99","v":1944},null,{"$f":"coefficients!D99","v":0.23511790364816684},null,{"$f":"'Combined, MtC'!C99*$C99","v":497.79021489647693},{"$f":"'Combined, MtC'!D99*$C99","v":66.874397240325166},{"$f":"'Combined, MtC'!E99*$C99","v":158.70966350923143},{"$f":"'Combined, MtC'!F99*$C99","v":50.739854314696288},{"$f":"'Combined, MtC'!G99*$C99","v":18.98508887766889},null,null,null,null,15.051428931808374,1.6222053104068221,4.7436983097050209,2.373608667277761,0.55358930640494342,null,null,4.7436983097050209,7.1173069769827819,7.6708962833877257,9.2931015937945478,15.051428931808374]
[{"$f":"'Combined, MtC'!A100","v":1945},null,{"$f":"coefficients!D100","v":0.23943041607745053},null,{"$f":"'Combined, MtC'!C100*$C100","v":450.06429658285003},{"$f":"'Combined, MtC'!D100*$C100","v":68.21480297733801},{"$f":"'Combined, MtC'!E100*$C100","v":153.94475495415617},{"$f":"'Combined, MtC'!F100*$C100","v":50.262238550725939},{"$f":"'Combined, MtC'!G100*$C100","v":18.589401447294868},null,null,null,null,15.501493228391224,1.6904201133841601,4.8976430646591771,2.4238709058284869,0.57217870785223823,null,null,4.8976430646591771,7.3215139704876639,7.8936926783399022,9.5841127917240616,15.501493228391224]
[{"$f":"'Combined, MtC'!A101","v":1946},null,{"$f":"coefficients!D101","v":0.24326404590465298},null,{"$f":"'Combined, MtC'!C101*$C101","v":490.14080615503599},{"$f":"'Combined, MtC'!D101*$C101","v":71.373646742020597},{"$f":"'Combined, MtC'!E101*$C101","v":148.40641796313486},{"$f":"'Combined, MtC'!F101*$C101","v":61.956214385722937},{"$f":"'Combined, MtC'!G101*$C101","v":19.594626980764712},null,null,null,null,15.99163403454626,1.7617937601261806,5.0460494826223119,2.4858271202142097,0.59177333483300298,null,null,5.0460494826223119,7.5318766028365216,8.1236499376695246,9.8854436977957043,15.99163403454626]
[{"$f":"'Combined, MtC'!A102","v":1947},null,{"$f":"coefficients!D102","v":0.24738974653697043},null,{"$f":"'Combined, MtC'!C102*$C102","v":528.49797335769028},{"$f":"'Combined, MtC'!D102*$C102","v":73.255468450149834},{"$f":"'Combined, MtC'!E102*$C102","v":168.96566306832227},{"$f":"'Combined, MtC'!F102*$C102","v":71.483613607502747},{"$f":"'Combined, MtC'!G102*$C102","v":20.401712878436225},null,null,null,null,{"$f":"N101+0.001*E102","v":16.52013200790395},1.8350492285763305,5.215015145690634,2.5573107338217125,0.61217504771143916,null,null,5.215015145690634,{"$f":"U102+Q102","v":7.772325879512346},8.3845009272237849,10.219550155800116,16.52013200790395]
[{"$f":"'Combined, MtC'!A103","v":1948},null,{"$f":"coefficients!D103","v":0.25178185813930087},null,{"$f":"'Combined, MtC'!C103*$C103","v":550.33949810186289},{"$f":"'Combined, MtC'!D103*$C103","v":74.325853453606726},{"$f":"'Combined, MtC'!E103*$C103","v":175.77828145216876},{"$f":"'Combined, MtC'!F103*$C103","v":75.696604245688718},{"$f":"'Combined, MtC'!G103*$C103","v":21.773113142639996},null,null,null,null,17.070471506005813,1.9093750820299371,5.3907934271428024,2.6330073380674013,0.63394816085407912,null,null,5.3907934271428024,8.0238007652102041,8.6577489260642828,10.56712400809422,17.070471506005813]
[{"$f":"'Combined, MtC'!A104","v":1949},null,{"$f":"coefficients!D104","v":0.25629182840006953},null,{"$f":"'Combined, MtC'!C104*$C104","v":540.98258542966551},{"$f":"'Combined, MtC'!D104*$C104","v":78.535761268461698},{"$f":"'Combined, MtC'!E104*$C104","v":148.37923140163804},{"$f":"'Combined, MtC'!F104*$C104","v":79.691893706374429},{"$f":"'Combined, MtC'!G104*$C104","v":21.118626064445611},null,null,null,null,17.61145409143548,1.9879108432983987,5.5391726585444401,2.7126992317737759,0.65506678691852471,null,null,5.5391726585444401,8.2518718903182169,8.9069386772367416,10.894849520535141,17.61145409143548]
[{"$f":"'Combined, MtC'!A105","v":1950},null,{"$f":"coefficients!D105","v":0.26065844234401009},null,{"$f":"'Combined, MtC'!C105*$C105","v":587.34531735195071},{"$f":"'Combined, MtC'!D105*$C105","v":81.21520155606386},{"$f":"'Combined, MtC'!E105*$C105","v":177.44141001658846},{"$f":"'Combined, MtC'!F105*$C105","v":80.531233803353189},{"$f":"'Combined, MtC'!G105*$C105","v":23.29483646553031},null,null,null,null,18.19879940878743,2.0691260448544626,5.7166140685610287,2.7932304655771292,0.67836162338405503,null,null,5.7166140685610287,8.509844534138157,9.1882061575222114,11.257332202376674,18.19879940878743]
[{"$f":"'Combined, MtC'!A106","v":1951},null,{"$f":"coefficients!D106","v":0.26533941141637513},null,{"$f":"'Combined, MtC'!C106*$C106","v":678.36143243887625},{"$f":"'Combined, MtC'!D106*$C106","v":84.266516811553544},{"$f":"'Combined, MtC'!E106*$C106","v":190.04009308152021},{"$f":"'Combined, MtC'!F106*$C106","v":89.546399623563431},{"$f":"'Combined, MtC'!G106*$C106","v":24.591523980363938},null,null,null,null,18.877160841226306,2.1533925616660161,5.9066541616425488,2.8827768652006927,0.70295314736441894,null,null,5.9066541616425488,8.789431026843241,9.4923841742076593,11.645776735873675,18.877160841226306]
[{"$f":"'Combined, MtC'!A107","v":1952},null,{"$f":"coefficients!D107","v":0.27068018781273534},null,{"$f":"'Combined, MtC'!C107*$C107","v":698.52405967424011},{"$f":"'Combined, MtC'!D107*$C107","v":92.868613017328713},{"$f":"'Combined, MtC'!E107*$C107","v":176.63852806548257},{"$f":"'Combined, MtC'!F107*$C107","v":89.788732636339063},{"$f":"'Combined, MtC'!G107*$C107","v":25.118092844308151},null,null,null,null,19.575684900900548,2.2462611746833447,6.0832926897080313,2.9725655978370318,0.72807124020872704,null,null,6.0832926897080313,9.0558582875450639,9.7839295277537914,12.030190702437135,19.575684900900548]
[{"$f":"'Combined, MtC'!A108","v":1953},null,{"$f":"coefficients!D108","v":0.276091612372033},null,{"$f":"'Combined, MtC'!C108*$C108","v":719.96934332318551},{"$f":"'Combined, MtC'!D108*$C108","v":100.3972913030964},{"$f":"'Combined, MtC'!E108*$C108","v":178.0454896307356},{"$f":"'Combined, MtC'!F108*$C108","v":91.407306657683208},{"$f":"'Combined, MtC'!G108*$C108","v":25.586320820837127},null,null,null,null,20.295654244223734,2.3466584659864411,6.2613381793387672,3.0639729044947148,0.75365756102956416,null,null,6.2613381793387672,9.3253110838334816,10.078968644863046,12.425627110849486,20.295654244223734]
[{"$f":"'Combined, MtC'!A109","v":1954},null,{"$f":"coefficients!D109","v":0.28158054168943902},null,{"$f":"'Combined, MtC'!C109*$C109","v":749.85405096872648},{"$f":"'Combined, MtC'!D109*$C109","v":109.95793363913434},{"$f":"'Combined, MtC'!E109*$C109","v":172.68867198114089},{"$f":"'Combined, MtC'!F109*$C109","v":97.238405567993155},{"$f":"'Combined, MtC'!G109*$C109","v":26.853378887080058},null,null,null,null,21.045508295192459,2.4566163996255757,6.4340268513199081,3.1612113100627082,0.78051093991664422,null,null,6.4340268513199081,9.5952381613826159,10.37574910129926,12.832365500924835,21.045508295192459]
[{"$f":"'Combined, MtC'!A110","v":1955},null,{"$f":"coefficients!D110","v":0.28720814045070253},null,{"$f":"'Combined, MtC'!C110*$C110","v":811.74038826978699},{"$f":"'Combined, MtC'!D110*$C110","v":120.18152835124535},{"$f":"'Combined, MtC'!E110*$C110","v":192.20155444252308},{"$f":"'Combined, MtC'!F110*$C110","v":105.05390222312427},{"$f":"'Combined, MtC'!G110*$C110","v":28.051705240262251},null,null,null,null,21.857248683462245,2.5767979279768212,6.626228405762431,3.2662652122858322,0.80856264515690646,null,null,6.626228405762431,9.8924936180482632,10.701056263205169,13.277854191181991,21.857248683462245]
[{"$f":"'Combined, MtC'!A111","v":1956},null,{"$f":"coefficients!D111","v":0.29320941357711694},null,{"$f":"'Combined, MtC'!C111*$C111","v":870.62260680274323},{"$f":"'Combined, MtC'!D111*$C111","v":130.64232767153752},{"$f":"'Combined, MtC'!E111*$C111","v":209.0990679889716},{"$f":"'Combined, MtC'!F111*$C111","v":111.86235269474723},{"$f":"'Combined, MtC'!G111*$C111","v":30.380512215555321},null,null,null,null,22.727871290264989,2.7074402556483586,6.8353274737514029,3.3781275649805793,0.83894315737246172,null,null,6.8353274737514029,10.213455038731983,11.052398196104445,13.759838451752803,22.727871290264989]
[{"$f":"'Combined, MtC'!A112","v":1957},null,{"$f":"coefficients!D112","v":0.29954440116884862},null,{"$f":"'Combined, MtC'!C112*$C112","v":908.55621088406633},{"$f":"'Combined, MtC'!D112*$C112","v":137.35476716061038},{"$f":"'Combined, MtC'!E112*$C112","v":210.8788690151479},{"$f":"'Combined, MtC'!F112*$C112","v":115.25057702847789},{"$f":"'Combined, MtC'!G112*$C112","v":30.51213188298102},null,null,null,null,23.636427501149054,2.8447950228089689,7.0462063427665509,3.4933781420090573,0.8694552892554428,null,null,7.0462063427665509,10.539584484775608,11.409039774031051,14.253834796840019,23.636427501149054]
[{"$f":"'Combined, MtC'!A113","v":1958},null,{"$f":"coefficients!D113","v":0.30604353974061599},null,{"$f":"'Combined, MtC'!C113*$C113","v":959.02874765508523},{"$f":"'Combined, MtC'!D113*$C113","v":160.71343973719297},{"$f":"'Combined, MtC'!E113*$C113","v":218.84693038494055},{"$f":"'Combined, MtC'!F113*$C113","v":115.48207142912236},{"$f":"'Combined, MtC'!G113*$C113","v":31.300388796493682},null,null,null,null,24.59545624880414,3.0055084625461621,7.2650532731514916,3.6088602134381795,0.90075567805193646,null,null,7.2650532731514916,10.873913486589672,11.774669164641608,14.78017762718777,24.59545624880414]
[{"$f":"'Combined, MtC'!A114","v":1959},null,{"$f":"coefficients!D114","v":0.31278882947951903},null,{"$f":"'Combined, MtC'!C114*$C114","v":971.81612586309689},{"$f":"'Combined, MtC'!D114*$C114","v":174.83115799465375},{"$f":"'Combined, MtC'!E114*$C114","v":218.60073110686017},{"$f":"'Combined, MtC'!F114*$C114","v":118.17061885310795},{"$f":"'Combined, MtC'!G114*$C114","v":32.630318364601109},null,null,null,null,25.567272374667237,3.1803396205408161,7.4836540042583515,3.7270308322912875,0.93338599641653752,null,null,7.4836540042583515,11.210684836549639,12.144070832966177,15.324410453506992,25.567272374667237]
[{"$f":"'Combined, MtC'!A115","v":1960},null,{"$f":"coefficients!D115","v":0.31947272677032046},null,{"$f":"'Combined, MtC'!C115*$C115","v":1017.7072068359045},{"$f":"'Combined, MtC'!D115*$C115","v":177.62501508975561},{"$f":"'Combined, MtC'!E115*$C115","v":227.91427127067007},{"$f":"'Combined, MtC'!F115*$C115","v":128.5835554850606},{"$f":"'Combined, MtC'!G115*$C115","v":34.348781111437219},null,null,null,null,26.584979581503141,3.3579646356305717,7.7115682755290216,3.855614387776348,0.96773477752797477,null,null,7.7115682755290216,11.56718266330537,12.534917440833345,15.892882076463916,26.584979581503141]
[{"$f":"'Combined, MtC'!A116","v":1961},null,{"$f":"coefficients!D116","v":0.32635570934493191},null,{"$f":"'Combined, MtC'!C116*$C116","v":1057.3190682429768},{"$f":"'Combined, MtC'!D116*$C116","v":154.57208306603667},{"$f":"'Combined, MtC'!E116*$C116","v":227.46529516234483},{"$f":"'Combined, MtC'!F116*$C116","v":134.51566449924732},{"$f":"'Combined, MtC'!G116*$C116","v":35.332607152090645},null,null,null,null,27.642298649746117,3.5125367186966083,7.9390335706913664,3.9901300522755951,1.0030673846800655,null,null,7.9390335706913664,11.929163622966961,12.932231007647026,16.444767726343635,27.642298649746117]
[{"$f":"'Combined, MtC'!A117","v":1962},null,{"$f":"coefficients!D117","v":0.3333524444197194},null,{"$f":"'Combined, MtC'!C117*$C117","v":1095.1424511529945},{"$f":"'Combined, MtC'!D117*$C117","v":138.75805499544151},{"$f":"'Combined, MtC'!E117*$C117","v":242.80782016559073},{"$f":"'Combined, MtC'!F117*$C117","v":144.65802657398169},{"$f":"'Combined, MtC'!G117*$C117","v":37.699561314803788},null,null,null,null,28.737441100899112,3.65129477369205,8.1818413908569578,4.134788078849577,1.0407669459948692,null,null,8.1818413908569578,12.316629469706534,13.357396415701404,17.008691189393453,28.737441100899112]
[{"$f":"'Combined, MtC'!A118","v":1963},null,{"$f":"coefficients!D118","v":0.34048671019355187},null,{"$f":"'Combined, MtC'!C118*$C118","v":1156.2649479070662},{"$f":"'Combined, MtC'!D118*$C118","v":137.79170294291259},{"$f":"'Combined, MtC'!E118*$C118","v":258.21173988307913},{"$f":"'Combined, MtC'!F118*$C118","v":157.35143869137545},{"$f":"'Combined, MtC'!G118*$C118","v":39.475858936485302},null,null,null,null,{"$f":"N117+0.001*E118","v":29.893706048806177},3.7890864766349628,8.4400531307400364,4.292139517540952,1.0802428049313544,null,null,8.4400531307400364,{"$f":"U118+Q118","v":12.732192648280989},13.812435453212343,17.601521929847305,29.893706048806177]
[{"$f":"'Combined, MtC'!A119","v":1964},null,{"$f":"coefficients!D119","v":0.34792163429080419},null,{"$f":"'Combined, MtC'!C119*$C119","v":1219.7941141336735},{"$f":"'Combined, MtC'!D119*$C119","v":140.61225016132107},{"$f":"'Combined, MtC'!E119*$C119","v":275.72939123848977},{"$f":"'Combined, MtC'!F119*$C119","v":166.17119967526529},{"$f":"'Combined, MtC'!G119*$C119","v":43.664478232966786},null,null,null,null,31.11350016293985,3.9296987267962837,8.715782521978527,4.4583107172162171,1.1239072831643211,null,null,8.715782521978527,13.174093239194743,14.298000522359064,18.22769924915535,31.11350016293985]
[{"$f":"'Combined, MtC'!A120","v":1965},null,{"$f":"coefficients!D120","v":0.35565179056093149},null,{"$f":"'Combined, MtC'!C120*$C120","v":1290.8243034210689},{"$f":"'Combined, MtC'!D120*$C120","v":147.26992943370709},{"$f":"'Combined, MtC'!E120*$C120","v":293.33871607515272},{"$f":"'Combined, MtC'!F120*$C120","v":175.51156238374861},{"$f":"'Combined, MtC'!G120*$C120","v":47.231589176684324},null,null,null,null,32.404324466360919,4.0769686562299912,9.0091212380536803,4.6338222795999657,1.1711388723410054,null,null,9.0091212380536803,13.642943517653645,14.814082389994651,18.891051046224643,32.404324466360919]
[{"$f":"'Combined, MtC'!A121","v":1966},null,{"$f":"coefficients!D121","v":0.36362309322865494},null,{"$f":"'Combined, MtC'!C121*$C121","v":1371.5786715735287},{"$f":"'Combined, MtC'!D121*$C121","v":154.78973277415443},{"$f":"'Combined, MtC'!E121*$C121","v":328.5099019556485},{"$f":"'Combined, MtC'!F121*$C121","v":184.62478939970958},{"$f":"'Combined, MtC'!G121*$C121","v":48.982466932624455},null,null,null,null,33.775903137934449,4.2317583890041455,9.3376311400093286,4.8184470689996752,1.2201213392736299,null,null,9.3376311400093286,14.156078209009003,15.376199548282633,19.607957937286777,33.775903137934449]
[{"$f":"'Combined, MtC'!A122","v":1967},null,{"$f":"coefficients!D122","v":0.3718907398969547},null,{"$f":"'Combined, MtC'!C122*$C122","v":1431.9277330084947},{"$f":"'Combined, MtC'!D122*$C122","v":148.87150771000196},{"$f":"'Combined, MtC'!E122*$C122","v":351.08285797453624},{"$f":"'Combined, MtC'!F122*$C122","v":191.99119770698212},{"$f":"'Combined, MtC'!G122*$C122","v":53.286885313171013},null,null,null,null,35.207830870942942,4.3806298967141473,9.6887139979838643,5.0104382667066574,1.2734082245868008,null,null,9.6887139979838643,14.699152264690522,15.972560489277322,20.353190385991468,35.207830870942942]
[{"$f":"'Combined, MtC'!A123","v":1968},null,{"$f":"coefficients!D123","v":0.38039675138559065},null,{"$f":"'Combined, MtC'!C123*$C123","v":1491.68363651919},{"$f":"'Combined, MtC'!D123*$C123","v":155.8181933819159},{"$f":"'Combined, MtC'!E123*$C123","v":373.55113144765551},{"$f":"'Combined, MtC'!F123*$C123","v":207.22695038759667},{"$f":"'Combined, MtC'!G123*$C123","v":57.302510152623711},null,null,null,null,36.699514507462133,4.5364480900960631,10.06226512943152,5.2176652170942539,1.3307107347394245,null,null,10.06226512943152,15.279930346525774,16.610641081265197,21.147089171361259,36.699514507462133]
[{"$f":"'Combined, MtC'!A124","v":1969},null,{"$f":"coefficients!D124","v":0.38903996946332903},null,{"$f":"'Combined, MtC'!C124*$C124","v":1598.2353286307141},{"$f":"'Combined, MtC'!D124*$C124","v":170.64619686957479},{"$f":"'Combined, MtC'!E124*$C124","v":406.90048322941493},{"$f":"'Combined, MtC'!F124*$C124","v":223.55337628476471},{"$f":"'Combined, MtC'!G124*$C124","v":59.820808712522677},null,null,null,null,38.297749836092848,4.7070942869656376,10.469165612660934,5.4412185933790189,1.3905315434519472,null,null,10.469165612660934,15.910384206039954,17.300915749491899,22.008010036457538,38.297749836092848]
[{"$f":"'Combined, MtC'!A125","v":1970},null,{"$f":"coefficients!D125","v":0.39802236800345392},null,{"$f":"'Combined, MtC'!C125*$C125","v":1724.9170986415604},{"$f":"'Combined, MtC'!D125*$C125","v":195.512487782503},{"$f":"'Combined, MtC'!E125*$C125","v":448.76811040534386},{"$f":"'Combined, MtC'!F125*$C125","v":246.1144247028333},{"$f":"'Combined, MtC'!G125*$C125","v":65.480689674325021},null,null,null,null,40.02266693473441,4.9026067747481408,10.917933723066279,5.6873330180818522,1.4560122331262721,null,null,10.917933723066279,16.605266741148132,18.061278974274405,22.963885749022545,40.02266693473441]
[{"$f":"'Combined, MtC'!A126","v":1971},null,{"$f":"coefficients!D126","v":0.40754042890713738},null,{"$f":"'Combined, MtC'!C126*$C126","v":1751.1572086476472},{"$f":"'Combined, MtC'!D126*$C126","v":211.80471099330134},{"$f":"'Combined, MtC'!E126*$C126","v":447.78924392813491},{"$f":"'Combined, MtC'!F126*$C126","v":257.04088352113575},{"$f":"'Combined, MtC'!G126*$C126","v":68.853140383003037},null,null,null,null,41.773824143382058,5.1144114857414422,11.365722966994413,5.9443739016029884,1.5248653735092752,null,null,11.365722966994413,17.310096868597402,18.834962242106677,23.949373727848119,41.773824143382058]
[{"$f":"'Combined, MtC'!A127","v":1972},null,{"$f":"coefficients!D127","v":0.41698668302703751},null,{"$f":"'Combined, MtC'!C127*$C127","v":1844.0864938722841},{"$f":"'Combined, MtC'!D127*$C127","v":223.87160189021438},{"$f":"'Combined, MtC'!E127*$C127","v":485.35486050677957},{"$f":"'Combined, MtC'!F127*$C127","v":270.86704353406907},{"$f":"'Combined, MtC'!G127*$C127","v":73.798595052803208},null,null,null,null,43.61791063725434,5.3382830876316563,11.851077827501193,6.2152409451370572,1.5986639685620785,null,null,11.851077827501193,18.066318772638251,19.66498274120033,25.003265828831985,43.61791063725434]
[{"$f":"'Combined, MtC'!A128","v":1973},null,{"$f":"coefficients!D128","v":0.42667642075634032},null,{"$f":"'Combined, MtC'!C128*$C128","v":1955.8953796575829},{"$f":"'Combined, MtC'!D128*$C128","v":234.16701720437993},{"$f":"'Combined, MtC'!E128*$C128","v":515.39695562988913},{"$f":"'Combined, MtC'!F128*$C128","v":291.85960009288573},{"$f":"'Combined, MtC'!G128*$C128","v":77.166350737677547},null,null,null,null,45.573806016911924,5.5724501048360366,12.366474783131082,6.5071005452299433,1.6758303192997561,null,null,12.366474783131082,18.873575328361024,20.54940564766078,26.121855752496817,45.573806016911924]
[{"$f":"'Combined, MtC'!A129","v":1974},null,{"$f":"coefficients!D129","v":0.43672146397454026},null,{"$f":"'Combined, MtC'!C129*$C129","v":1990.1632942910346},{"$f":"'Combined, MtC'!D129*$C129","v":243.10012947849989},{"$f":"'Combined, MtC'!E129*$C129","v":507.44112447247585},{"$f":"'Combined, MtC'!F129*$C129","v":289.09144153824428},{"$f":"'Combined, MtC'!G129*$C129","v":80.172234552786165},null,null,null,null,47.56396931120296,5.8155502343145367,12.873915907603557,6.7961919867681875,1.7560025538525423,null,null,12.873915907603557,19.670107894371746,21.426110448224289,27.241660682538825,47.56396931120296]
[{"$f":"'Combined, MtC'!A130","v":1975},null,{"$f":"coefficients!D130","v":0.44676610046356668},null,{"$f":"'Combined, MtC'!C130*$C130","v":2022.4877984935431},{"$f":"'Combined, MtC'!D130*$C130","v":269.71157793460407},{"$f":"'Combined, MtC'!E130*$C130","v":500.42722146685566},{"$f":"'Combined, MtC'!F130*$C130","v":282.8199187052553},{"$f":"'Combined, MtC'!G130*$C130","v":83.358735939743426},null,null,null,null,49.586457109696504,6.0852618122491409,13.374343129070413,7.0790119054734424,1.8393612897922857,null,null,13.374343129070413,20.453355034543854,22.292716324336141,28.377978136585281,49.586457109696504]
[{"$f":"'Combined, MtC'!A131","v":1976},null,{"$f":"coefficients!D131","v":0.45673811443129242},null,{"$f":"'Combined, MtC'!C131*$C131","v":2181.5707808413417},{"$f":"'Combined, MtC'!D131*$C131","v":287.58679800887523},{"$f":"'Combined, MtC'!E131*$C131","v":544.98224750380166},{"$f":"'Combined, MtC'!F131*$C131","v":306.46561123077822},{"$f":"'Combined, MtC'!G131*$C131","v":85.330417945306309},null,null,null,null,51.768027890537844,6.372848610258016,13.919325376574214,7.3854775167042206,1.924691707737592,null,null,13.919325376574214,21.304802893278435,23.229494601016025,29.602343211274039,51.768027890537844]
[{"$f":"'Combined, MtC'!A132","v":1977},null,{"$f":"coefficients!D132","v":0.46726273653261291},null,{"$f":"'Combined, MtC'!C132*$C132","v":2291.2475935127036},{"$f":"'Combined, MtC'!D132*$C132","v":310.12026900692808},{"$f":"'Combined, MtC'!E132*$C132","v":576.15084107775374},{"$f":"'Combined, MtC'!F132*$C132","v":306.91148234261135},{"$f":"'Combined, MtC'!G132*$C132","v":90.197081094826217},null,null,null,null,54.059275484050545,6.6829688792649442,14.495476217651968,7.6923889990468322,2.0148887888324181,null,null,14.495476217651968,22.1878652166988,24.202754005531219,30.885722884796163,54.059275484050545]
[{"$f":"'Combined, MtC'!A133","v":1978},null,{"$f":"coefficients!D133","v":0.47796299145692661},null,{"$f":"'Combined, MtC'!C133*$C133","v":2410.1494147931767},{"$f":"'Combined, MtC'!D133*$C133","v":326.968077751598},{"$f":"'Combined, MtC'!E133*$C133","v":611.48415175017976},{"$f":"'Combined, MtC'!F133*$C133","v":322.07201605230978},{"$f":"'Combined, MtC'!G133*$C133","v":95.179686063065688},null,null,null,null,56.46942489884372,7.0099369570165422,15.106960369402147,8.0144610150991422,2.1100684748954839,null,null,15.106960369402147,23.121421384501289,25.231489859396774,32.241426816413316,56.46942489884372]
[{"$f":"'Combined, MtC'!A134","v":1979},null,{"$f":"coefficients!D134","v":0.48894119587259482},null,{"$f":"'Combined, MtC'!C134*$C134","v":2509.4735748742373},{"$f":"'Combined, MtC'!D134*$C134","v":320.60485389860884},{"$f":"'Combined, MtC'!E134*$C134","v":628.30390935568209},{"$f":"'Combined, MtC'!F134*$C134","v":345.35642626902802},{"$f":"'Combined, MtC'!G134*$C134","v":101.31927470287167},null,null,null,null,{"$f":"N133+0.001*E134","v":58.978898473717955},7.3305418109151512,15.735264278757828,8.3598174413681701,2.2113877495983556,null,null,{"$f":"P134","v":15.735264278757828},{"$f":"U134+Q134","v":24.095081720125997},26.306469469724352,{"$f":"W134+O134","v":33.637011280639506},{"$f":"N134","v":58.978898473717955}]
[{"$f":"'Combined, MtC'!A135","v":1980},null,{"$f":"coefficients!D135","v":0.50003595462103356},null,{"$f":"'Combined, MtC'!C135*$C135","v":2518.7776103653882},{"$f":"'Combined, MtC'!D135*$C135","v":304.83506888258859},{"$f":"'Combined, MtC'!E135*$C135","v":617.10492235645995},{"$f":"'Combined, MtC'!F135*$C135","v":336.69750992182725},{"$f":"'Combined, MtC'!G135*$C135","v":105.97436998867681},null,null,null,null,61.497676084083345,7.6353768797977395,16.352369201114289,8.6965149512899966,2.3173621195870324,null,null,16.352369201114289,25.048884152404284,27.366246271991315,35.001623151789055,61.497676084083345]
[{"$f":"'Combined, MtC'!A136","v":1981},null,{"$f":"coefficients!D136","v":0.51088324307154231},null,{"$f":"'Combined, MtC'!C136*$C136","v":2534.3104053266311},{"$f":"'Combined, MtC'!D136*$C136","v":288.45111616705543},{"$f":"'Combined, MtC'!E136*$C136","v":606.28813429893739},{"$f":"'Combined, MtC'!F136*$C136","v":326.31742452524804},{"$f":"'Combined, MtC'!G136*$C136","v":107.83273917500212},null,null,null,null,64.031986489409974,7.9238279959647953,16.958657335413225,9.0228323758152449,2.4251948587620347,null,null,16.958657335413225,25.98148971122847,28.406684569990503,36.330512565955296,64.031986489409974]
[{"$f":"'Combined, MtC'!A137","v":1982},null,{"$f":"coefficients!D137","v":0.52157629585506315},null,{"$f":"'Combined, MtC'!C137*$C137","v":2674.8690876808691},{"$f":"'Combined, MtC'!D137*$C137","v":288.84759654616471},{"$f":"'Combined, MtC'!E137*$C137","v":592.72942118983337},{"$f":"'Combined, MtC'!F137*$C137","v":318.30825988361255},{"$f":"'Combined, MtC'!G137*$C137","v":106.78753081336563},null,null,null,null,66.706855577090849,8.2126755925109602,17.551386756603058,9.3411406356988582,2.5319823895754001,null,null,17.551386756603058,26.892527392301915,29.424509781877315,37.637185374388274,66.706855577090849]
[{"$f":"'Combined, MtC'!A138","v":1983},null,{"$f":"coefficients!D138","v":0.53264784841602708},null,{"$f":"'Combined, MtC'!C138*$C138","v":2779.5274529941707},{"$f":"'Combined, MtC'!D138*$C138","v":296.19092721789093},{"$f":"'Combined, MtC'!E138*$C138","v":609.99902222778735},{"$f":"'Combined, MtC'!F138*$C138","v":318.63260616170948},{"$f":"'Combined, MtC'!G138*$C138","v":106.41670160412605},null,null,null,null,69.486383030085022,8.5088665197288513,18.161385778830844,9.6597732418605684,2.6383990911795263,null,null,18.161385778830844,27.821159020691411,30.459558111870937,38.968424631599788,69.486383030085022]
[{"$f":"'Combined, MtC'!A139","v":1984},null,{"$f":"coefficients!D139","v":0.54379863171853682},null,{"$f":"'Combined, MtC'!C139*$C139","v":2934.8779525931527},{"$f":"'Combined, MtC'!D139*$C139","v":320.13479829133433},{"$f":"'Combined, MtC'!E139*$C139","v":640.5520455919833},{"$f":"'Combined, MtC'!F139*$C139","v":323.5922156119376},{"$f":"'Combined, MtC'!G139*$C139","v":112.45434862746627},null,null,null,null,72.421260982678177,8.8290013180201861,18.801937824422829,9.9833654574725053,2.7508534398069928,null,null,18.801937824422829,28.785303281895334,31.536156721702326,40.365158039722516,72.421260982678177]
[{"$f":"'Combined, MtC'!A140","v":1985},null,{"$f":"coefficients!D140","v":0.55534162336830917},null,{"$f":"'Combined, MtC'!C140*$C140","v":3070.1273062811792},{"$f":"'Combined, MtC'!D140*$C140","v":343.76335110111313},{"$f":"'Combined, MtC'!E140*$C140","v":658.46745214455746},{"$f":"'Combined, MtC'!F140*$C140","v":340.3197332287686},{"$f":"'Combined, MtC'!G140*$C140","v":114.59874244173885},null,null,null,null,75.491388288959357,9.1727646691212996,19.460405276567386,10.323685190701275,2.8654521822487315,null,null,19.460405276567386,29.784090467268662,32.649542649517393,41.822307318638693,75.491388288959357]
[{"$f":"'Combined, MtC'!A141","v":1986},null,{"$f":"coefficients!D141","v":0.56718114625516569},null,{"$f":"'Combined, MtC'!C141*$C141","v":3185.976173737125},{"$f":"'Combined, MtC'!D141*$C141","v":363.56351177636355},{"$f":"'Combined, MtC'!E141*$C141","v":675.88799223626472},{"$f":"'Combined, MtC'!F141*$C141","v":344.87557362463139},{"$f":"'Combined, MtC'!G141*$C141","v":113.8031387345456},null,null,null,null,78.677364462696488,9.5363281808976623,20.136293268803652,10.668560764325907,2.9792553209832771,null,null,20.136293268803652,30.804854033129558,33.784109354112836,43.320437535010498,78.677364462696488]
[{"$f":"'Combined, MtC'!A142","v":1987},null,{"$f":"coefficients!D142","v":0.57916369904305975},null,{"$f":"'Combined, MtC'!C142*$C142","v":3349.1768347159236},{"$f":"'Combined, MtC'!D142*$C142","v":390.10086404737439},{"$f":"'Combined, MtC'!E142*$C142","v":722.47509221824919},{"$f":"'Combined, MtC'!F142*$C142","v":356.7771747973145},{"$f":"'Combined, MtC'!G142*$C142","v":122.61445714255666},null,null,null,null,82.026541297412408,9.9264290449450368,20.858768361021902,11.025337939123222,3.1018697781258338,null,null,20.858768361021902,31.884106300145124,34.985976078270959,44.912405123215997,82.026541297412408]
[{"$f":"'Combined, MtC'!A143","v":1988},null,{"$f":"coefficients!D143","v":0.59138218652093288},null,{"$f":"'Combined, MtC'!C143*$C143","v":3546.8016532511915},{"$f":"'Combined, MtC'!D143*$C143","v":420.47137443735431},{"$f":"'Combined, MtC'!E143*$C143","v":776.25736531304892},{"$f":"'Combined, MtC'!F143*$C143","v":363.12173207017491},{"$f":"'Combined, MtC'!G143*$C143","v":129.70276908283211},null,null,null,null,85.573342950663601,10.346900419382392,21.635025726334952,11.388459671193397,3.2315725472086658,null,null,21.635025726334952,33.023485397528347,36.255057944737011,46.601958364119405,85.573342950663601]
[{"$f":"'Combined, MtC'!A144","v":1989},null,{"$f":"coefficients!D144","v":0.60402532531569153},null,{"$f":"'Combined, MtC'!C144*$C144","v":3698.7279386842511},{"$f":"'Combined, MtC'!D144*$C144","v":436.96001427273052},{"$f":"'Combined, MtC'!E144*$C144","v":803.04472371597069},{"$f":"'Combined, MtC'!F144*$C144","v":387.95266111337196},{"$f":"'Combined, MtC'!G144*$C144","v":136.10768426481616},null,null,null,null,89.272070889347859,10.783860433655121,22.438070450050922,11.776412332306769,3.3676802314734822,null,null,22.438070450050922,34.214482782357692,37.582163013831178,48.366023447486299,89.272070889347859]
[{"$f":"'Combined, MtC'!A145","v":1990},null,{"$f":"coefficients!D145","v":0.61696936850039874},null,{"$f":"'Combined, MtC'!C145*$C145","v":3747.7162641413479},{"$f":"'Combined, MtC'!D145*$C145","v":451.71659102504094},{"$f":"'Combined, MtC'!E145*$C145","v":791.84760848760504},{"$f":"'Combined, MtC'!F145*$C145","v":387.84520733265828},{"$f":"'Combined, MtC'!G145*$C145","v":131.65749972483724},null,null,null,null,93.019787153489204,11.235577024680163,23.229918058538527,12.164257539639427,3.4993377311983194,null,null,23.229918058538527,35.394175598177952,38.893513329376269,50.12909035405643,93.019787153489204]
[{"$f":"'Combined, MtC'!A146","v":1991},null,{"$f":"coefficients!D146","v":0.62984828162367423},null,{"$f":"'Combined, MtC'!C146*$C146","v":4091.5164821172448},{"$f":"'Combined, MtC'!D146*$C146","v":475.97716522577667},{"$f":"'Combined, MtC'!E146*$C146","v":808.17546202459664},{"$f":"'Combined, MtC'!F146*$C146","v":400.76654102329661},{"$f":"'Combined, MtC'!G146*$C146","v":132.27204420031765},null,null,null,null,97.111303635606447,11.711554189905939,24.038093520563123,12.565024080662724,3.6316097753986369,null,null,24.038093520563123,36.603117601225847,40.234727376624484,51.946281566530423,97.111303635606447]
[{"$f":"'Combined, MtC'!A147","v":1992},null,{"$f":"coefficients!D147","v":0.64372314728882385},null,{"$f":"'Combined, MtC'!C147*$C147","v":4807.7789324949226},{"$f":"'Combined, MtC'!D147*$C147","v":498.9015965998355},{"$f":"'Combined, MtC'!E147*$C147","v":841.55291738140204},{"$f":"'Combined, MtC'!F147*$C147","v":399.80138365944191},{"$f":"'Combined, MtC'!G147*$C147","v":138.29394048622083},null,null,null,null,101.91908256810137,12.210455786505776,24.879646437944526,12.964825464322166,3.7699037158848578,null,null,24.879646437944526,37.84447190226669,41.614375618151549,53.824831404657324,101.91908256810137]
[{"$f":"'Combined, MtC'!A148","v":1993},null,{"$f":"coefficients!D148","v":0.65991464222625484},null,{"$f":"'Combined, MtC'!C148*$C148","v":4960.334197197134},{"$f":"'Combined, MtC'!D148*$C148","v":544.13096846105293},{"$f":"'Combined, MtC'!E148*$C148","v":884.64474613148104},{"$f":"'Combined, MtC'!F148*$C148","v":402.68295029381488},{"$f":"'Combined, MtC'!G148*$C148","v":143.9023067131416},null,null,null,null,106.8794167652985,12.754586754966828,25.764291184076008,13.367508414615981,3.9138060225979996,null,null,25.764291184076008,39.131799598691991,43.045605621289994,55.800192376256824,106.8794167652985]
[{"$f":"'Combined, MtC'!A149","v":1994},null,{"$f":"coefficients!D149","v":0.67630769141369473},null,{"$f":"'Combined, MtC'!C149*$C149","v":5091.5574314234182},{"$f":"'Combined, MtC'!D149*$C149","v":593.1277968774948},{"$f":"'Combined, MtC'!E149*$C149","v":918.70867681634672},{"$f":"'Combined, MtC'!F149*$C149","v":414.50397939053698},{"$f":"'Combined, MtC'!G149*$C149","v":149.20571789507565},null,null,null,null,111.97097419672193,13.347714551844323,26.682999860892355,13.782012394006518,4.0630117404930752,null,null,26.682999860892355,40.465012254898873,44.528023995391948,57.875738547236267,111.97097419672193]
[{"$f":"'Combined, MtC'!A150","v":1995},null,{"$f":"coefficients!D150","v":0.69272459495125993},null,{"$f":"'Combined, MtC'!C150*$C150","v":5280.9139062530558},{"$f":"'Combined, MtC'!D150*$C150","v":648.75500964608068},{"$f":"'Combined, MtC'!E150*$C150","v":948.47796122758916},{"$f":"'Combined, MtC'!F150*$C150","v":430.93399528501152},{"$f":"'Combined, MtC'!G150*$C150","v":155.0289241792527},null,null,null,null,{"$f":"N149+0.001*E150","v":117.25188810297499},13.996469561490404,27.631477822119944,14.212946389291529,4.2180406646723281,null,null,27.631477822119944,{"$f":"U150+Q150","v":41.844424211411472},46.062464876083801,60.058934437574209,117.25188810297499]
[{"$f":"'Combined, MtC'!A151","v":1996},null,{"$f":"coefficients!D151","v":0.70938982234434789},null,{"$f":"'Combined, MtC'!C151*$C151","v":5505.9283967358333},{"$f":"'Combined, MtC'!D151*$C151","v":689.32338337867554},{"$f":"'Combined, MtC'!E151*$C151","v":995.03003252819815},{"$f":"'Combined, MtC'!F151*$C151","v":457.02907501817356},{"$f":"'Combined, MtC'!G151*$C151","v":164.47905326977826},null,null,null,null,122.75781649971083,14.68579294486908,28.626507854648143,14.669975464309703,4.382519717942106,null,null,28.626507854648143,43.296483318957847,47.679003036899957,62.364795981769035,122.75781649971083]
[{"$f":"'Combined, MtC'!A152","v":1997},null,{"$f":"coefficients!D152","v":0.72648510658314291},null,{"$f":"'Combined, MtC'!C152*$C152","v":5613.8991314191053},{"$f":"'Combined, MtC'!D152*$C152","v":702.67986055615847},{"$f":"'Combined, MtC'!E152*$C152","v":1041.7006012606307},{"$f":"'Combined, MtC'!F152*$C152","v":461.48121123523424},{"$f":"'Combined, MtC'!G152*$C152","v":171.96200331716693},null,null,null,null,128.37171563112994,15.388472805425238,29.668208455908772,15.131456675544937,4.5544817212592728,null,null,29.668208455908772,44.799665131453708,49.354146852712979,64.74261965813821,128.37171563112994]
[{"$f":"'Combined, MtC'!A153","v":1998},null,{"$f":"coefficients!D153","v":0.74349135759352625},null,{"$f":"'Combined, MtC'!C153*$C153","v":5687.4256153832321},{"$f":"'Combined, MtC'!D153*$C153","v":682.99056620984641},{"$f":"'Combined, MtC'!E153*$C153","v":1073.320629330153},{"$f":"'Combined, MtC'!F153*$C153","v":486.55680382252751},{"$f":"'Combined, MtC'!G153*$C153","v":180.44817775510768},null,null,null,null,134.05914124651318,16.071463371635083,30.741529085238923,15.618013479367464,4.7349298990143804,null,null,30.741529085238923,46.359542564606386,51.094472463620768,67.165935835255851,134.05914124651318]
[{"$f":"'Combined, MtC'!A154","v":1999},null,{"$f":"coefficients!D154","v":0.76021762216095834},null,{"$f":"'Combined, MtC'!C154*$C154","v":5867.833223416882},{"$f":"'Combined, MtC'!D154*$C154","v":691.70308498546422},{"$f":"'Combined, MtC'!E154*$C154","v":1118.0970617953535},{"$f":"'Combined, MtC'!F154*$C154","v":493.80285347571237},{"$f":"'Combined, MtC'!G154*$C154","v":187.91462099914315},null,null,null,null,139.92697446993006,16.763166456620546,31.859626147034277,16.111816332843176,4.9228445200135234,null,null,31.859626147034277,47.971442479877453,52.89428699989098,69.657453456511519,139.92697446993006]
[{"$f":"'Combined, MtC'!A155","v":2000},null,{"$f":"coefficients!D155","v":0.77723925807252692},null,{"$f":"'Combined, MtC'!C155*$C155","v":6113.5160646751719},{"$f":"'Combined, MtC'!D155*$C155","v":711.70687409562242},{"$f":"'Combined, MtC'!E155*$C155","v":1183.6997924864388},{"$f":"'Combined, MtC'!F155*$C155","v":509.92071743016527},{"$f":"'Combined, MtC'!G155*$C155","v":196.81027093527683},null,null,null,null,146.04049053460523,17.474873330716168,33.043325939520713,16.621737050273342,5.1196547909488004,null,null,33.043325939520713,49.665062989794052,54.784717780742852,72.259591111459017,146.04049053460523]
[{"$f":"'Combined, MtC'!A156","v":2001},null,{"$f":"coefficients!D156","v":0.79468890527122715},null,{"$f":"'Combined, MtC'!C156*$C156","v":6270.9068399622647},{"$f":"'Combined, MtC'!D156*$C156","v":745.539542140246},{"$f":"'Combined, MtC'!E156*$C156","v":1188.5114556164599},{"$f":"'Combined, MtC'!F156*$C156","v":533.23593756143134},{"$f":"'Combined, MtC'!G156*$C156","v":198.81058165621451},null,null,null,null,152.31139737456749,18.220412872856414,34.23183739513717,17.154972987834775,5.3184653726050151,null,null,34.23183739513717,51.386810382971944,56.705275755576963,74.925688628433377,152.31139737456749]
[{"$f":"'Combined, MtC'!A157","v":2002},null,{"$f":"coefficients!D157","v":0.8122178113408719},null,{"$f":"'Combined, MtC'!C157*$C157","v":6600.0567562037731},{"$f":"'Combined, MtC'!D157*$C157","v":807.76174076251243},{"$f":"'Combined, MtC'!E157*$C157","v":1225.2088009703614},{"$f":"'Combined, MtC'!F157*$C157","v":545.9611168468507},{"$f":"'Combined, MtC'!G157*$C157","v":204.95025042866871},null,null,null,null,158.91145413077126,19.028174613618926,35.457046196107534,17.700934104681625,5.5234156230336842,null,null,35.457046196107534,53.157980300789163,58.681395923822848,77.709570537441778,158.91145413077126]
[{"$f":"'Combined, MtC'!A158","v":2003},null,{"$f":"coefficients!D158","v":0.83024248818356738},null,{"$f":"'Combined, MtC'!C158*$C158","v":7053.4371410994017},{"$f":"'Combined, MtC'!D158*$C158","v":1013.8188161580658},{"$f":"'Combined, MtC'!E158*$C158","v":1259.3028394579628},{"$f":"'Combined, MtC'!F158*$C158","v":575.71637696911216},{"$f":"'Combined, MtC'!G158*$C158","v":216.02253650970761},null,null,null,null,165.96489127187067,20.041993429776991,36.7163490355655,18.276650481650737,5.7394381595433916,null,null,36.7163490355655,54.992999517216234,60.732437676759623,80.774431106536611,165.96489127187067]
[{"$f":"'Combined, MtC'!A159","v":2004},null,{"$f":"coefficients!D159","v":0.8491354032398668},null,{"$f":"'Combined, MtC'!C159*$C159","v":7534.3521097498387},{"$f":"'Combined, MtC'!D159*$C159","v":1213.567929997135},{"$f":"'Combined, MtC'!E159*$C159","v":1307.464898319698},{"$f":"'Combined, MtC'!F159*$C159","v":594.95657025069022},{"$f":"'Combined, MtC'!G159*$C159","v":222.23155697246207},null,null,null,null,173.49924338162052,21.255561359774127,38.023813933885201,18.871607051901428,5.9616697165158534,null,null,38.023813933885201,56.895420985786629,62.857090702302486,84.11265206207662,173.49924338162052]
[{"$f":"'Combined, MtC'!A160","v":2005},null,{"$f":"coefficients!D160","v":0.8689359263501093},null,{"$f":"'Combined, MtC'!C160*$C160","v":7827.0211676397594},{"$f":"'Combined, MtC'!D160*$C160","v":1360.7855506127682},{"$f":"'Combined, MtC'!E160*$C160","v":1345.4657757632526},{"$f":"'Combined, MtC'!F160*$C160","v":609.52605413095614},{"$f":"'Combined, MtC'!G160*$C160","v":231.72965760449247},null,null,null,null,181.32626454926029,22.616346910386895,39.369279709648453,19.481133106032384,6.1933993741203457,null,null,39.369279709648453,58.850412815680841,65.043812189801187,87.660159100188082,181.32626454926029]
[{"$f":"'Combined, MtC'!A161","v":2006},null,{"$f":"coefficients!D161","v":0.88905619696217286},null,{"$f":"'Combined, MtC'!C161*$C161","v":6943.191945975921},{"$f":"'Combined, MtC'!D161*$C161","v":1555.1726619741112},{"$f":"'Combined, MtC'!E161*$C161","v":1354.7711162875314},{"$f":"'Combined, MtC'!F161*$C161","v":637.0834458439416},{"$f":"'Combined, MtC'!G161*$C161","v":220.18632490824263},null,null,null,null,188.2694564952362,24.171519572361007,40.724050825935983,20.118216551876326,6.4135856990285882,null,null,40.724050825935983,60.842267377812306,67.255853076840893,91.427372649201899,188.2694564952362]
[{"$f":"'Combined, MtC'!A162","v":2007},null,{"$f":"coefficients!D162","v":0.90651736077410527},null,{"$f":"'Combined, MtC'!C162*$C162","v":7271.3697454843041},{"$f":"'Combined, MtC'!D162*$C162","v":1678.9988776188729},{"$f":"'Combined, MtC'!E162*$C162","v":1403.9164721408074},{"$f":"'Combined, MtC'!F162*$C162","v":641.97565151828428},{"$f":"'Combined, MtC'!G162*$C162","v":228.56928734558289},null,null,null,null,195.54082624072049,25.85051844997988,42.12796729807679,20.76019220339461,6.6421549863741713,null,null,42.12796729807679,62.888159501471399,69.530314487845573,95.38083293782546,195.54082624072049]
[{"$f":"'Combined, MtC'!A163","v":2008},null,{"$f":"coefficients!D163","v":0.92444765582383326},null,{"$f":"'Combined, MtC'!C163*$C163","v":7540.5096789371364},{"$f":"'Combined, MtC'!D163*$C163","v":1773.6295568534576},{"$f":"'Combined, MtC'!E163*$C163","v":1388.2403434460873},{"$f":"'Combined, MtC'!F163*$C163","v":640.68937231636346},{"$f":"'Combined, MtC'!G163*$C163","v":232.00770373445161},null,null,null,null,203.08133591965762,27.624148006833337,43.516207641522875,21.400881575710972,6.8741626901086228,null,null,43.516207641522875,64.917089217233851,71.79125190734247,99.415399914175808,203.08133591965762]
[{"$f":"'Combined, MtC'!A164","v":2009},null,{"$f":"coefficients!D164","v":0.94276951481411231},null,{"$f":"'Combined, MtC'!C164*$C164","v":7666.7600797468494},{"$f":"'Combined, MtC'!D164*$C164","v":1977.6334696828412},{"$f":"'Combined, MtC'!E164*$C164","v":1326.2356221728039},{"$f":"'Combined, MtC'!F164*$C164","v":606.14611739361499},{"$f":"'Combined, MtC'!G164*$C164","v":228.78659200751471},null,null,null,null,210.74809599940446,29.60178147651618,44.842443263695678,22.007027693104586,7.1029492821161373,null,null,44.842443263695678,66.849470956800261,73.952420238916403,103.55420171543258,210.74809599940446]
[{"$f":"'Combined, MtC'!A165","v":2010},null,{"$f":"coefficients!D165","v":0.96102987676218099},null,{"$f":"'Combined, MtC'!C165*$C165","v":8187.4959571351546},{"$f":"'Combined, MtC'!D165*$C165","v":2163.947129385896},{"$f":"'Combined, MtC'!E165*$C165","v":1387.2747504392337},{"$f":"'Combined, MtC'!F165*$C165","v":628.97867786281927},{"$f":"'Combined, MtC'!G165*$C165","v":226.50513165407844},null,null,null,null,218.93559195653961,31.765728605902076,46.22971801413491,22.636006370967404,7.3294544137702156,null,null,46.22971801413491,68.865724385102311,76.195178798872533,107.96090740477462,218.93559195653961]
[{"$f":"'Combined, MtC'!A166","v":2011},null,{"$f":"coefficients!D166","v":0.98015963897971026},null,{"$f":"'Combined, MtC'!C166*$C166","v":8632.3110278377007},{"$f":"'Combined, MtC'!D166*$C166","v":2410.8447552182492},{"$f":"'Combined, MtC'!E166*$C166","v":1387.3232498489672},{"$f":"'Combined, MtC'!F166*$C166","v":607.75778574575907},{"$f":"'Combined, MtC'!G166*$C166","v":228.401699873247},null,null,null,null,{"$f":"N165+0.001*E166","v":227.56790298437733},34.176573361120326,47.617041263983879,23.243764156713162,7.5578561136434628,null,null,47.617041263983879,{"$f":"U166+Q166","v":70.860805420697034},78.418661534340501,112.59523489546083,227.56790298437733]
[{"$f":"'Combined, MtC'!A167","v":2012},null,{"$f":"coefficients!D167","v":1}]
[]
[]
[]
["1959-2011",null,null,null,{"$f":"SUM(E114:E166)","v":202972.44673557315},{"$f":"SUM(F114:F166)","v":31171.064898574157},40351.987990832393,19634.903943274981,6657.1004355915275]
[]
["Total",null,null,null,{"$f":"SUM(E5:E170)","v":227567.90298437729},{"$f":"SUM(F5:F170)","v":34176.573361120325},47617.041263983883,23243.764156713161,7557.8561136434637,{"$f":"E173-SUM(F173:I173)","v":114972.66808891646}]
[]
["Contribution",null,null,null,1,{"$f":"F173/$E173","v":0.15018187061057803},{"$f":"G173/$E173","v":0.20924322208678447},0.10213990572435368,3.3211432783481404E-2,{"$f":"E175-SUM(F175:I175)","v":0.50522356879480246}]